Workbook

Sheet saldo completo
C4: TABLA DE AMORTIZACIÓN SALDO COMPLETO
C7: PERIODO | D7: SALDO INICIAL | E7: AMORTIZACIÓN | F7: SALDO FINAL | G7: PONDERADOR
C8: 0 | D8: 7.0366568e+09 | E8: 0 | F8: =ROUND(D8-E8,2) -> 7.0366568e+09
C9: 1 | D9: =F8 -> 7.0366568e+09 | E9: =ROUND((G9*$D$8),2) -> 158255.38 | F9: =ROUND(D9-E9,2) -> 7.0364986e+09 | G9: 2.2490137e-05
C10: 2 | D10: =F9 -> 7.0364986e+09 | E10: =ROUND((G10*$D$8),2) -> 160708.33 | F10: =ROUND(D10-E10,2) -> 7.0363379e+09 | G10: 2.2838734e-05
C11: 3 | D11: =F10 -> 7.0363379e+09 | E11: =ROUND((G11*$D$8),2) -> 163199.32 | F11: =ROUND(D11-E11,2) -> 7.0361747e+09 | G11: 2.3192735e-05
C12: 4 | D12: =F11 -> 7.0361747e+09 | E12: =ROUND((G12*$D$8),2) -> 165728.9 | F12: =ROUND(D12-E12,2) -> 7.0360089e+09 | G12: 2.3552222e-05
C13: 5 | D13: =F12 -> 7.0360089e+09 | E13: =ROUND((G13*$D$8),2) -> 168297.7 | F13: =ROUND(D13-E13,2) -> 7.0358406e+09 | G13: 2.3917281e-05
C14: 6 | D14: =F13 -> 7.0358406e+09 | E14: =ROUND((G14*$D$8),2) -> 170906.31 | F14: =ROUND(D14-E14,2) -> 7.0356697e+09 | G14: 2.4287999e-05
C15: 7 | D15: =F14 -> 7.0356697e+09 | E15: =ROUND((G15*$D$8),2) -> 173555.36 | F15: =ROUND(D15-E15,2) -> 7.0354962e+09 | G15: 2.4664463e-05
C16: 8 | D16: =F15 -> 7.0354962e+09 | E16: =ROUND((G16*$D$8),2) -> 176245.47 | F16: =ROUND(D16-E16,2) -> 7.0353199e+09 | G16: 2.5046762e-05
C17: 9 | D17: =F16 -> 7.0353199e+09 | E17: =ROUND((G17*$D$8),2) -> 178977.27 | F17: =ROUND(D17-E17,2) -> 7.0351409e+09 | G17: 2.5434987e-05
C18: 10 | D18: =F17 -> 7.0351409e+09 | E18: =ROUND((G18*$D$8),2) -> 181751.43 | F18: =ROUND(D18-E18,2) -> 7.0349592e+09 | G18: 2.582923e-05
C19: 11 | D19: =F18 -> 7.0349592e+09 | E19: =ROUND((G19*$D$8),2) -> 184568.57 | F19: =ROUND(D19-E19,2) -> 7.0347746e+09 | G19: 2.6229583e-05
C20: 12 | D20: =F19 -> 7.0347746e+09 | E20: =ROUND((G20*$D$8),2) -> 187429.38 | F20: =ROUND(D20-E20,2) -> 7.0345872e+09 | G20: 2.6636141e-05
... C247: 239 | D247: =F246 -> 2.0198223e+08 | E247: =ROUND((G247*$D$8),2) -> 1.0033891e+08 | F247: =ROUND(D247-E247,2) -> 1.0164332e+08 | G247: 0.014259458
C248: 240 | D248: =F247 -> 1.0164332e+08 | E248: =(ROUND((G248*$D$8),2))-0.01 -> 1.0164332e+08 | F248: =ROUND(D248-E248,2) -> 0 | G248: 0.014444831
C250: TOTAL | E250: =SUM(E9:E249) -> 7.0366568e+09 | G250: =SUM(G9:G249) -> 1
C252: NOTAS:
C254: A) La columna del ponderador incluye excatamente 10 decimales para cada dato y la suma de todos es de 100%.
C256: B) La columna de la amortización es el resultado de multiplicar el ponderador de cada periodo por 7,036,656,820.34, redondeado a dos decimales.
C258: C) La amortización del periodo 240 se ajustó restándole 1 centavo.

Sheet calculo amort
C4: CÁLCULO DE LAS AMORTIZACIONES
C8: PERIODO | D8: PONDERADOR | E8: CÁLCULO PRELIMINAR | F8: AMORTIZACIÓN A
E9: AMORTIZACIÓN | F9: INCLUIR EN OFERTA
C10: 0
C11: 1 | D11: ='saldo completo'!G9 -> 2.2490137e-05 | E11: =ROUND((OFERTA!$D$6*D11),2) -> 22490.14 | F11: =E11 -> 22490.14
C12: 2 | D12: ='saldo completo'!G10 -> 2.2838734e-05 | E12: =ROUND((OFERTA!$D$6*D12),2) -> 22838.73 | F12: =E12 -> 22838.73
C13: 3 | D13: ='saldo completo'!G11 -> 2.3192735e-05 | E13: =ROUND((OFERTA!$D$6*D13),2) -> 23192.74 | F13: =E13 -> 23192.74
C14: 4 | D14: ='saldo completo'!G12 -> 2.3552222e-05 | E14: =ROUND((OFERTA!$D$6*D14),2) -> 23552.22 | F14: =E14 -> 23552.22
C15: 5 | D15: ='saldo completo'!G13 -> 2.3917281e-05 | E15: =ROUND((OFERTA!$D$6*D15),2) -> 23917.28 | F15: =E15 -> 23917.28
C16: 6 | D16: ='saldo completo'!G14 -> 2.4287999e-05 | E16: =ROUND((OFERTA!$D$6*D16),2) -> 24288 | F16: =E16 -> 24288
C17: 7 | D17: ='saldo completo'!G15 -> 2.4664463e-05 | E17: =ROUND((OFERTA!$D$6*D17),2) -> 24664.46 | F17: =E17 -> 24664.46
C18: 8 | D18: ='saldo completo'!G16 -> 2.5046762e-05 | E18: =ROUND((OFERTA!$D$6*D18),2) -> 25046.76 | F18: =E18 -> 25046.76
C19: 9 | D19: ='saldo completo'!G17 -> 2.5434987e-05 | E19: =ROUND((OFERTA!$D$6*D19),2) -> 25434.99 | F19: =E19 -> 25434.99
C20: 10 | D20: ='saldo completo'!G18 -> 2.582923e-05 | E20: =ROUND((OFERTA!$D$6*D20),2) -> 25829.23 | F20: =E20 -> 25829.23
C21: 11 | D21: ='saldo completo'!G19 -> 2.6229583e-05 | E21: =ROUND((OFERTA!$D$6*D21),2) -> 26229.58 | F21: =E21 -> 26229.58
C22: 12 | D22: ='saldo completo'!G20 -> 2.6636141e-05 | E22: =ROUND((OFERTA!$D$6*D22),2) -> 26636.14 | F22: =E22 -> 26636.14
... C249: 239 | D249: ='saldo completo'!G247 -> 0.014259458 | E249: =ROUND((OFERTA!$D$6*D249),2) -> 14259458 | F249: =E249 -> 14259458
C250: 240 | D250: ='saldo completo'!G248 -> 0.014444831 | E250: =ROUND((OFERTA!$D$6*D250),2) -> 14444831 | F250: =ROUND((IF((OFERTA!D6>'calculo amort'!E252),'calculo amort'!E250+(OFERTA!D6-'calculo amort'!E252),IF((OFERTA!D6<'calculo amort'!E252),'calculo amort'!E250-('calculo amort'!E252-OFERTA!D6),'calculo amort'!E250))),2) -> 14444831
C252: TOTAL | D252: =SUM(D11:D250) -> 1 | E252: =SUM(E11:E251) -> 1e+09 | F252: =SUM(F11:F251) -> 1e+09
C254: NOTAS:
C256: A) La columna del ponderador incluye excatamente 10 decimales para cada dato y la suma de todos es de 100%.
C258: B) La columna de "cálculo preliminar amortización" es el resultado de multiplicar el ponderador de cada periodo por el monto de la oferta, redondeado a dos decimales.
C260: C) En caso de existir alguna diferencia entre la sumatoria de las amortizaciones y el monto de la oferta, el modelo ajusta automáticamente la amortización 240
C261: en la columna "Amortización a incluir en Oferta".

Sheet OFERTA
A1: Nota: Sólo capturar celdas en color amarillo
C4: TABLA DE AMORTIZACIÓN DEL MONTO A OFERTAR
C6: Saldo a Ofertar | D6: 1000000000
C9: PERIODO | D9: SALDO INICIAL | E9: AMORTIZACIÓN | F9: SALDO FINAL
C10: 0 | D10: =D6 -> 1000000000 | E10: 0 | F10: =ROUND(D10-E10,2) -> 1000000000
C11: 1 | D11: =F10 -> 1000000000 | E11: ='calculo amort'!F11 -> 22490.14 | F11: =ROUND(D11-E11,2) -> 9.9997751e+08
C12: 2 | D12: =F11 -> 9.9997751e+08 | E12: ='calculo amort'!F12 -> 22838.73 | F12: =ROUND(D12-E12,2) -> 9.9995467e+08
C13: 3 | D13: =F12 -> 9.9995467e+08 | E13: ='calculo amort'!F13 -> 23192.74 | F13: =ROUND(D13-E13,2) -> 9.9993148e+08
C14: 4 | D14: =F13 -> 9.9993148e+08 | E14: ='calculo amort'!F14 -> 23552.22 | F14: =ROUND(D14-E14,2) -> 9.9990793e+08
C15: 5 | D15: =F14 -> 9.9990793e+08 | E15: ='calculo amort'!F15 -> 23917.28 | F15: =ROUND(D15-E15,2) -> 9.9988401e+08
C16: 6 | D16: =F15 -> 9.9988401e+08 | E16: ='calculo amort'!F16 -> 24288 | F16: =ROUND(D16-E16,2) -> 9.9985972e+08
C17: 7 | D17: =F16 -> 9.9985972e+08 | E17: ='calculo amort'!F17 -> 24664.46 | F17: =ROUND(D17-E17,2) -> 9.9983506e+08
C18: 8 | D18: =F17 -> 9.9983506e+08 | E18: ='calculo amort'!F18 -> 25046.76 | F18: =ROUND(D18-E18,2) -> 9.9981001e+08
C19: 9 | D19: =F18 -> 9.9981001e+08 | E19: ='calculo amort'!F19 -> 25434.99 | F19: =ROUND(D19-E19,2) -> 9.9978457e+08
C20: 10 | D20: =F19 -> 9.9978457e+08 | E20: ='calculo amort'!F20 -> 25829.23 | F20: =ROUND(D20-E20,2) -> 9.9975875e+08
C21: 11 | D21: =F20 -> 9.9975875e+08 | E21: ='calculo amort'!F21 -> 26229.58 | F21: =ROUND(D21-E21,2) -> 9.9973252e+08
C22: 12 | D22: =F21 -> 9.9973252e+08 | E22: ='calculo amort'!F22 -> 26636.14 | F22: =ROUND(D22-E22,2) -> 9.9970588e+08
... C250: 240 | D250: =F249 -> 14444831 | E250: ='calculo amort'!F250 -> 14444831 | F250: =ROUND(D250-E250,2) -> 0
C252: TOTAL | E252: =SUM(E11:E251) -> 1e+09

Sheet formato para oferta
B2: Para las Instituciones Financieras Interesadas que les resulte útil a continuación se presenta la Tabla de Amortización
B3: en formato similar al que deben incluir en sus Ofertas
D7: Periodo | E7: Porcentaje de Amortización | F7: Monto
D8: 1 | E8: ='saldo completo'!G9 -> 2.2490137e-05 | F8: =OFERTA!E11 -> 22490.14
D9: 2 | E9: ='saldo completo'!G10 -> 2.2838734e-05 | F9: =OFERTA!E12 -> 22838.73
D10: 3 | E10: ='saldo completo'!G11 -> 2.3192735e-05 | F10: =OFERTA!E13 -> 23192.74
D11: 4 | E11: ='saldo completo'!G12 -> 2.3552222e-05 | F11: =OFERTA!E14 -> 23552.22
D12: 5 | E12: ='saldo completo'!G13 -> 2.3917281e-05 | F12: =OFERTA!E15 -> 23917.28
D13: 6 | E13: ='saldo completo'!G14 -> 2.4287999e-05 | F13: =OFERTA!E16 -> 24288
D14: 7 | E14: ='saldo completo'!G15 -> 2.4664463e-05 | F14: =OFERTA!E17 -> 24664.46
D15: 8 | E15: ='saldo completo'!G16 -> 2.5046762e-05 | F15: =OFERTA!E18 -> 25046.76
D16: 9 | E16: ='saldo completo'!G17 -> 2.5434987e-05 | F16: =OFERTA!E19 -> 25434.99
D17: 10 | E17: ='saldo completo'!G18 -> 2.582923e-05 | F17: =OFERTA!E20 -> 25829.23
D18: 11 | E18: ='saldo completo'!G19 -> 2.6229583e-05 | F18: =OFERTA!E21 -> 26229.58
D19: 12 | E19: ='saldo completo'!G20 -> 2.6636141e-05 | F19: =OFERTA!E22 -> 26636.14
... D247: 240 | E247: ='saldo completo'!G248 -> 0.014444831 | F247: =OFERTA!E250 -> 14444831
D249: TOTAL | E249: =SUM(E8:E248) -> 1 | F249: =SUM(F8:F248) -> 1e+09
