Workbook
Name ANIO: 'Formato 1'!$D$20:$D$20
Name ANIO_INFORME: 'Formato 1'!$C$12:$C$12
Name ANIO1P: 'Formato 1'!$D$23:$D$23
Name ANIO1R: 'Formato 1'!$H$25:$H$25
Name ANIO2P: 'Formato 1'!$E$23:$E$23
Name ANIO2R: 'Formato 1'!$G$25:$G$25
Name ANIO3P: 'Formato 1'!$F$23:$F$23
Name ANIO3R: 'Formato 1'!$F$25:$F$25
Name ANIO4P: 'Formato 1'!$G$23:$G$23
Name ANIO4R: 'Formato 1'!$E$25:$E$25
Name ANIO5P: 'Formato 1'!$H$23:$H$23
Name ANIO5R: 'Formato 1'!$D$25:$D$25
Name ANIO6P: 'Formato 1'!$I$23:$I$23
Name APP_FIN_04: 'Formato 3'!$E$9:$E$9
Name APP_FIN_06: 'Formato 3'!$G$9:$G$9
Name APP_FIN_07: 'Formato 3'!$H$9:$H$9
Name APP_FIN_08: 'Formato 3'!$I$9:$I$9
Name APP_FIN_09: 'Formato 3'!$J$9:$J$9
Name APP_FIN_10: 'Formato 3'!$K$9:$K$9
Name APP_T10: 'Formato 3'!$K$8:$K$8
Name APP_T4: 'Formato 3'!$E$8:$E$8
Name APP_T6: 'Formato 3'!$G$8:$G$8
Name APP_T7: 'Formato 3'!$H$8:$H$8
Name APP_T8: 'Formato 3'!$I$8:$I$8
Name APP_T9: 'Formato 3'!$J$8:$J$8
Name DEUDA_CONT_FIN_01: 'Formato 2'!$B$23:$B$23
Name DEUDA_CONT_FIN_02: 'Formato 2'!$C$23:$C$23
Name DEUDA_CONT_FIN_03: 'Formato 2'!$D$23:$D$23
Name DEUDA_CONT_FIN_04: 'Formato 2'!$E$23:$E$23
Name DEUDA_CONT_FIN_05: 'Formato 2'!$F$23:$F$23
Name DEUDA_CONT_FIN_06: 'Formato 2'!$G$23:$G$23
Name DEUDA_CONT_FIN_07: 'Formato 2'!$H$23:$H$23
Name ENTE_PUBLICO: 'Formato 1'!$C$6:$C$6
Name ENTE_PUBLICO_A: 'Formato 1'!$C$7:$C$7
Name ENTIDAD: 'Formato 1'!$C$11:$C$11
Name GASTO_E_FIN_01: 'Formato 6 b)'!$B$52:$B$52
Name GASTO_E_FIN_02: 'Formato 6 b)'!$C$52:$C$52
Name GASTO_E_FIN_03: 'Formato 6 b)'!$D$52:$D$52
Name GASTO_E_FIN_04: 'Formato 6 b)'!$E$52:$E$52
Name GASTO_E_FIN_05: 'Formato 6 b)'!$F$52:$F$52
Name GASTO_E_FIN_06: 'Formato 6 b)'!$G$52:$G$52
Name GASTO_E_T1: 'Formato 6 b)'!$B$31:$B$31
Name GASTO_E_T2: 'Formato 6 b)'!$C$31:$C$31
Name GASTO_E_T3: 'Formato 6 b)'!$D$31:$D$31
Name GASTO_E_T4: 'Formato 6 b)'!$E$31:$E$31
Name GASTO_E_T5: 'Formato 6 b)'!$F$31:$F$31
Name GASTO_E_T6: 'Formato 6 b)'!$G$31:$G$31
Name GASTO_NE_FIN_01: 'Formato 6 b)'!$B$30:$B$30
Name GASTO_NE_FIN_02: 'Formato 6 b)'!$C$30:$C$30
Name GASTO_NE_FIN_03: 'Formato 6 b)'!$D$30:$D$30
Name GASTO_NE_FIN_04: 'Formato 6 b)'!$E$30:$E$30
Name GASTO_NE_FIN_05: 'Formato 6 b)'!$F$30:$F$30
Name GASTO_NE_FIN_06: 'Formato 6 b)'!$G$30:$G$30
Name GASTO_NE_T1: 'Formato 6 b)'!$B$9:$B$9
Name GASTO_NE_T2: 'Formato 6 b)'!$C$9:$C$9
Name GASTO_NE_T3: 'Formato 6 b)'!$D$9:$D$9
Name GASTO_NE_T4: 'Formato 6 b)'!$E$9:$E$9
Name GASTO_NE_T5: 'Formato 6 b)'!$F$9:$F$9
Name GASTO_NE_T6: 'Formato 6 b)'!$G$9:$G$9
Name lic: 'Formato 1'!$C$7:$C$7

Sheet Datos Generales
A1: ESTADOS FINANCIEROS - DATOS GENERALES
B3: NOMBRE DEL ENTE PÚBLICO | C3: UNIVERSIDAD POLITÉCNICA DURANGO
B5: ENTIDAD FEDERATIVA | C5: DURANGO
B7: MUNICIPIO | C7: DURANGO
B9: AÑO DEL INFORME | C9: 2023
B11: PERIODO DE INFORME | C11: CUARTO TRIMESTRE

Sheet Formato 1
A1: Formato 1 Estado de Situación Financiera Detallado - LDF
A2: UNIVERSIDAD POLITÉCNICA DURANGO
A3: Estado de Situación Financiera Detallado - LDF
A4: Al 31 de Diciembre de 2022 y al 31 de Diciembre de 2023
A5: (PESOS)
A6: Concepto | B6: 31 Diciembre 2023 | C6: 31 Diciembre 2022 | D6: Concepto | E6: 31 Diciembre 2023 | F6: 31 Diciembre 2022
A7: ACTIVO | D7: PASIVO
A8: Activo Circulante | D8: Pasivo Circulante
A9: a. Efectivo y Equivalentes (a=a1+a2+a3+a4+a5+a6+a7) | B9: =SUM(B10:B16) -> 30277643 | C9: =SUM(C10:C16) -> 27409877 | D9: a. Cuentas por Pagar a Corto Plazo (a=a1+a2+a3+a4+a5+a6+a7+a8+a9) | E9: =SUM(E10:E18) -> 2074757.1 | F9: =SUM(F10:F18) -> 963174.02
A10: a1) Efectivo | B10: 0 | C10: 0 | D10: a1) Servicios Personales por Pagar a Corto Plazo | E10: 162573.4 | F10: 5199.59
A11: a2) Bancos/Tesorería | B11: 6281321.3 | C11: 4950736.6 | D11: a2) Proveedores por Pagar a Corto Plazo | E11: 0 | F11: 0
A12: a3) Bancos/Dependencias y Otros | B12: 0 | C12: 0 | D12: a3) Contratistas por Obras Públicas por Pagar a Corto Plazo | E12: 0 | F12: 0
A13: a4) Inversiones Temporales (Hasta 3 meses) | B13: 0 | C13: 0 | D13: a4) Participaciones y Aportaciones por Pagar a Corto Plazo | E13: 0 | F13: 0
A14: a5) Fondos con Afectación Específica | B14: 0 | C14: 0 | D14: a5) Transferencias Otorgadas por Pagar a Corto Plazo | E14: 0 | F14: 0
A15: a6) Depósitos de Fondos de Terceros en Garantía y/o Administración | B15: 23996322 | C15: 22459140 | D15: a6) Intereses, Comisiones y Otros Gastos de la Deuda Pública por Pagar a Corto Plazo | E15: 0 | F15: 0
A16: a7) Otros Efectivos y Equivalentes | B16: 0 | C16: 0 | D16: a7) Retenciones y Contribuciones por Pagar a Corto Plazo | E16: 1912120.3 | F16: 957961.77
A17: b. Derechos a Recibir Efectivo o Equivalentes (b=b1+b2+b3+b4+b5+b6+b7) | B17: =SUM(B18:B24) -> 566708.37 | C17: =SUM(C18:C24) -> 20503.44 | D17: a8) Devoluciones de la Ley de Ingresos por Pagar a Corto Plazo | E17: 50.27 | F17: 0
A18: b1) Inversiones Financieras de Corto Plazo | B18: 0 | C18: 0 | D18: a9) Otras Cuentas por Pagar a Corto Plazo | E18: 13.17 | F18: 12.66
A19: b2) Cuentas por Cobrar a Corto Plazo | B19: 418000 | C19: 0 | D19: b. Documentos por Pagar a Corto Plazo (b=b1+b2+b3) | E19: =SUM(E20:E22) -> 0 | F19: =SUM(F20:F22) -> 0
A20: b3) Deudores Diversos por Cobrar a Corto Plazo | B20: 128200 | C20: 276.58 | D20: b1) Documentos Comerciales por Pagar a Corto Plazo | E20: 0 | F20: 0
A21: b4) Ingresos por Recuperar a Corto Plazo | B21: 0 | C21: 0 | D21: b2) Documentos con Contratistas por Obras Públicas por Pagar a Corto Plazo | E21: 0 | F21: 0
A22: b5) Deudores por Anticipos de la Tesorería a Corto Plazo | B22: 0 | C22: 0 | D22: b3) Otros Documentos por Pagar a Corto Plazo | E22: 0 | F22: 0
A23: b6) Préstamos Otorgados a Corto Plazo | B23: 0 | C23: 0 | D23: c. Porción a Corto Plazo de la Deuda Pública a Largo Plazo (c=c1+c2) | E23: =E24+E25 -> 0 | F23: =F24+F25 -> 0
A24: b7) Otros Derechos a Recibir Efectivo o Equivalentes a Corto Plazo | B24: 20508.37 | C24: 20226.86 | D24: c1) Porción a Corto Plazo de la Deuda Pública | E24: 0 | F24: 0
A25: c. Derechos a Recibir Bienes o Servicios (c=c1+c2+c3+c4+c5) | B25: =SUM(B26:B30) -> 308973.05 | C25: =SUM(C26:C30) -> 322093.05 | D25: c2) Porción a Corto Plazo de Arrendamiento Financiero | E25: 0 | F25: 0
A26: c1) Anticipo a Proveedores por Adquisición de Bienes y Prestación de Servicios a Corto Plazo | B26: 800 | C26: 13920 | D26: d. Títulos y Valores a Corto Plazo | E26: 0 | F26: 0
A27: c2) Anticipo a Proveedores por Adquisición de Bienes Inmuebles y Muebles a Corto Plazo | B27: 308173.05 | C27: 308173.05 | D27: e. Pasivos Diferidos a Corto Plazo (e=e1+e2+e3) | E27: =SUM(E28:E30) -> 0 | F27: =SUM(F28:F30) -> 0
A28: c3) Anticipo a Proveedores por Adquisición de Bienes Intangibles a Corto Plazo | B28: 0 | C28: 0 | D28: e1) Ingresos Cobrados por Adelantado a Corto Plazo | E28: 0 | F28: 0
A29: c4) Anticipo a Contratistas por Obras Públicas a Corto Plazo | B29: 0 | C29: 0 | D29: e2) Intereses Cobrados por Adelantado a Corto Plazo | E29: 0 | F29: 0
A30: c5) Otros Derechos a Recibir Bienes o Servicios a Corto Plazo | B30: 0 | C30: 0 | D30: e3) Otros Pasivos Diferidos a Corto Plazo | E30: 0 | F30: 0
A31: d. Inventarios (d=d1+d2+d3+d4+d5) | B31: =SUM(B32:B36) -> 0 | C31: =SUM(C32:C36) -> 0 | D31: f. Fondos y Bienes de Terceros en Garantía y/o Administración a Corto Plazo (f=f1+f2+f3+f4+f5+f6) | E31: =SUM(E32:E37) -> 336620.24 | F31: =SUM(F32:F37) -> 336617.97
A32: d1) Inventario de Mercancías para Venta | B32: 0 | C32: 0 | D32: f1) Fondos en Garantía a Corto Plazo | E32: 0 | F32: 0
A33: d2) Inventario de Mercancías Terminadas | B33: 0 | C33: 0 | D33: f2) Fondos en Administración a Corto Plazo | E33: 336617.97 | F33: 336617.97
A34: d3) Inventario de Mercancías en Proceso de Elaboración | B34: 0 | C34: 0 | D34: f3) Fondos Contingentes a Corto Plazo | E34: 2.27 | F34: 0
A35: d4) Inventario de Materias Primas, Materiales y Suministros para Producción | B35: 0 | C35: 0 | D35: f4) Fondos de Fideicomisos, Mandatos y Contratos Análogos a Corto Plazo | E35: 0 | F35: 0
A36: d5) Bienes en Tránsito | B36: 0 | C36: 0 | D36: f5) Otros Fondos de Terceros en Garantía y/o Administración a Corto Plazo | E36: 0 | F36: 0
A37: e. Almacenes | B37: 0 | C37: 0 | D37: f6) Valores y Bienes en Garantía a Corto Plazo | E37: 0 | F37: 0
A38: f. Estimación por Pérdida o Deterioro de Activos Circulantes (f=f1+f2) | B38: =SUM(B39:B40) -> 0 | C38: =SUM(C39:C40) -> 0 | D38: g. Provisiones a Corto Plazo (g=g1+g2+g3) | E38: =SUM(E39:E41) -> 0 | F38: =SUM(F39:F41) -> 0
A39: f1) Estimaciones para Cuentas Incobrables por Derechos a Recibir Efectivo o Equivalentes | B39: 0 | C39: 0 | D39: g1) Provisión para Demandas y Juicios a Corto Plazo | E39: 0 | F39: 0
A40: f2) Estimación por Deterioro de Inventarios | B40: 0 | C40: 0 | D40: g2) Provisión para Contingencias a Corto Plazo | E40: 0 | F40: 0
...

Sheet Formato 2
A1: Formato 2 Informe Analítico de la Deuda Pública y Otros Pasivos - LDF
A2: UNIVERSIDAD POLITÉCNICA DURANGO
A3: Informe Analítico de la Deuda Pública y Otros Pasivos - LDF
A4: Al 31 de Diciembre de 2022 y al 31 de Diciembre de 2023
A5: (PESOS)
A6: Denominación de la Deuda Pública y Otros Pasivos (c) | B6: Saldo al 31 de Diciembre de 2022 (d) | C6: Disposiciones del Periodo (e) | D6: Amortizaciones del Periodo (f) | E6: Revaluaciones, Reclasificaciones y Otros Ajustes (g) | F6: Saldo Final del Periodo (h) h=d+e-f+g | G6: Pago de Intereses del Periodo (i) | H6: Pago de Comisiones y demás costos asociados durante el Periodo (j)
A8: 1. Deuda Pública (1=A+B) | B8: =B9+B13 -> 0 | C8: =C9+C13 -> 0 | D8: =D9+D13 -> 0 | E8: =E9+E13 -> 0 | F8: =F9+F13 -> 0 | G8: =G9+G13 -> 0 | H8: =H9+H13 -> 0
A9: A. Corto Plazo (A=a1+a2+a3) | B9: =SUM(B10:B12) -> 0 | C9: =SUM(C10:C12) -> 0 | D9: =SUM(D10:D12) -> 0 | E9: =SUM(E10:E12) -> 0 | F9: =SUM(F10:F12) -> 0 | G9: =SUM(G10:G12) -> 0 | H9: =SUM(H10:H12) -> 0
A10: a1) Instituciones de Crédito | B10: 0 | C10: 0 | D10: 0 | E10: 0 | F10: 0 | G10: 0 | H10: 0
A11: a2) Títulos y Valores | B11: 0 | C11: 0 | D11: 0 | E11: 0 | F11: 0 | G11: 0 | H11: 0
A12: a3) Arrendamientos Financieros | B12: 0 | C12: 0 | D12: 0 | E12: 0 | F12: 0 | G12: 0 | H12: 0
A13: B. Largo Plazo (B=b1+b2+b3) | B13: =SUM(B14:B16) -> 0 | C13: =SUM(C14:C16) -> 0 | D13: =SUM(D14:D16) -> 0 | E13: =SUM(E14:E16) -> 0 | F13: =SUM(F14:F16) -> 0 | G13: =SUM(G14:G16) -> 0 | H13: =SUM(H14:H16) -> 0
A14: b1) Instituciones de Crédito | B14: 0 | C14: 0 | D14: 0 | E14: 0 | F14: 0 | G14: 0 | H14: 0
A15: b2) Títulos y Valores | B15: 0 | C15: 0 | D15: 0 | E15: 0 | F15: 0 | G15: 0 | H15: 0
A16: b3) Arrendamientos Financieros | B16: 0 | C16: 0 | D16: 0 | E16: 0 | F16: 0 | G16: 0 | H16: 0
A18: 2. Otros Pasivos | B18: 23747358 | F18: 25946581
A20: 3. Total de la Deuda Pública y Otros Pasivos (3=1+2) | B20: =B8+B18 -> 23747358 | C20: =C8+C18 -> 0 | D20: =D8+D18 -> 0 | E20: =E8+E18 -> 0 | F20: =F8+F18 -> 25946581 | G20: =G8+G18 -> 0 | H20: =H8+H18 -> 0
A22: 4. Deuda Contingente 1 (Informativo) | B22: 0 | C22: 0 | D22: 0 | E22: 0 | F22: 0 | G22: 0 | H22: 0
A23: *
A24: 5. Valor de Instrumentos Bono Cupón Cero 2 (Informativo) | B24: 0 | C24: 0 | D24: 0 | E24: 0 | F24: 0 | G24: 0 | H24: 0
A25: *
A27: 1 Se refiere a cualquier Financiamiento sin fuente o garantía de pago definida, que sea asumida de manera solidaria o subsidiaria por las Entidades Federativas con sus Municipios, organismos descentralizados y empresas de participación estatal mayoritaria y fideicomisos, locales o municipales, y por los Municipios con sus respectivos organismos descentralizados y empresas de participación municipal mayoritaria. 2 Se refiere al valor del Bono Cupón Cero que respalda el pago de los créditos asociados al mismo (Activo).
A33: Obligaciones a Corto Plazo (k) | B33: Monto Contratado (l) | C33: Plazo Pactado (m) | D33: Tasa de Interés (n) | E33: Comisiones y Costos Relacionados (o) | F33: Tasa Efectiva (p)
A35: 6. Obligaciones a Corto Plazo (Informativo) | B35: 0 | C35: 0 | D35: 0 | E35: 0 | F35: 0
A36: *

Sheet Formato 3
A1: Formato 3 Informe Analítico de Obligaciones Diferentes de Financiamientos - LDF
A2: UNIVERSIDAD POLITÉCNICA DURANGO
A3: Informe Analítico de Obligaciones Diferentes de Financiamientos – LDF
A4: Del 1 de Enero al 31 de Diciembre de 2023
A5: (PESOS)
A6: Denominación de las Obligaciones Diferentes de Financiamiento (c) | B6: Fecha del Contrato (d) | C6: Fecha de inicio de operación del proyecto (e) | D6: Fecha de vencimiento (f) | E6: Monto de la inversión pactado (g) | F6: Plazo pactado (h) | G6: Monto promedio mensual del pago de la contraprestación (i) | H6: Monto promedio mensual del pago de la contraprestación correspondiente al pago de inversión (j) | I6: Monto pagado de la inversión al 31 de Diciembre de 2023 (k) | J6: Monto pagado de la inversión actualizado al 31 de Diciembre de 2023 (l) | K6: Saldo pendiente de la inversión al 31 de Diciembre de 2023 (m=g-l)
A8: A. Asociaciones Público Privadas (APP’s) (A=a+b+c+d) | E8: 0 | G8: 0 | H8: 0 | I8: 0 | J8: 0 | K8: 0
A9: *
A10: B. Otros Instrumentos (B=a+b+c+d) | E10: 0 | G10: 0 | H10: 0 | I10: 0 | J10: 0 | K10: 0
A11: *
A12: C. Total de Obligaciones Diferentes de Financiamiento (C=A+B) | E12: 0 | G12: 0 | H12: 0 | I12: 0 | J12: 0 | K12: 0

Sheet Formato 4
A1: Formato 4 Balance Presupuestario - LDF
A2: UNIVERSIDAD POLITÉCNICA DURANGO
A3: Balance Presupuestario - LDF
A4: Del 1 de Enero al 31 de Diciembre de 2023
A5: (PESOS)
A7: Concepto (c) | B7: Estimado/ Aprobado (d) | C7: Devengado | D7: Recaudado/ Pagado
A8: A. Ingresos Totales (A = A1+A2+A3) | B8: =SUM(B9:B11) -> 45442137 | C8: =SUM(C9:C11) -> 49774085 | D8: =SUM(D9:D11) -> 49356085
A9: A1. Ingresos de Libre Disposición | B9: =+'Formato 5'!B41 -> 26194465 | C9: =+'Formato 5'!E41 -> 28866785 | D9: =+'Formato 5'!F41 -> 28448785
A10: A2. Transferencias Federales Etiquetadas | B10: =+'Formato 5'!B65 -> 19247672 | C10: =+'Formato 5'!D65 -> 20907300 | D10: =+'Formato 5'!F65 -> 20907300
A11: A3. Financiamiento Neto | B11: 0 | C11: 0 | D11: 0
A13: B. Egresos Presupuestarios1 (B = B1+B2) | B13: =B14+B15 -> 45442137 | C13: =C14+C15 -> 46509737 | D13: =D14+D15 -> 46370444
A14: B1. Gasto No Etiquetado (sin incluir Amortización de la Deuda Pública) | B14: =+'Formato 6 a)'!B9 -> 26194465 | C14: =+'Formato 6 a)'!E9 -> 26656491 | D14: =+'Formato 6 a)'!F9 -> 26540405
A15: B2. Gasto Etiquetado (sin incluir Amortización de la Deuda Pública) | B15: =+'Formato 6 a)'!B84 -> 19247672 | C15: =+'Formato 6 a)'!E84 -> 19853246 | D15: =+GASTO_E_T5 -> 19830039
A17: C. Remanentes del Ejercicio Anterior ( C = C1 + C2 ) | B17: =B18+B19 -> 0 | C17: =C18+C19 -> 721015.75 | D17: =D18+D19 -> 721015.75
A18: C1. Remanentes de Ingresos de Libre Disposición aplicados en el periodo | B18: 0 | C18: 721015.75 | D18: 721015.75
A19: C2. Remanentes de Transferencias Federales Etiquetadas aplicados en el periodo | B19: 0 | C19: 0 | D19: 0
A21: I. Balance Presupuestario (I = A – B + C) | B21: =B8-B13+B17 -> 0 | C21: =C8-C13+C17 -> 3985363.6 | D21: =D8-D13+D17 -> 3706656.7
A23: II. Balance Presupuestario sin Financiamiento Neto (II = I - A3) | B23: =B21-B11 -> 0 | C23: =C21-C11 -> 3985363.6 | D23: =D21-D11 -> 3706656.7
A25: III. Balance Presupuestario sin Financiamiento Neto y sin Remanentes del Ejercicio Anterior (III= II - C) | B25: =B23-B17 -> 0 | C25: =C23-C17 -> 3264347.8 | D25: =D23-D17 -> 2985641
A28: Concepto | B28: Aprobado | C28: Devengado | D28: Pagado
A29: E. Intereses, Comisiones y Gastos de la Deuda (E = E1+E2) | B29: =B30+B31 -> 0 | C29: =C30+C31 -> 0 | D29: =D30+D31 -> 0
A30: E1. Intereses, Comisiones y Gastos de la Deuda con Gasto No Etiquetado | B30: 0 | C30: 0 | D30: 0
A31: E2. Intereses, Comisiones y Gastos de la Deuda con Gasto Etiquetado | B31: 0 | C31: 0 | D31: 0
A33: IV. Balance Primario (IV = III + E) | B33: =B25+B29 -> 0 | C33: =C25+C29 -> 3264347.8 | D33: =D25+D29 -> 2985641
A36: Concepto | B36: Estimado/ Aprobado | C36: Devengado | D36: Recaudado/ Pagado
A37: F. Financiamiento (F = F1 + F2) | B37: =B38+B39 -> 0 | C37: =C38+C39 -> 0 | D37: =D38+D39 -> 0
A38: F1. Financiamiento con Fuente de Pago de Ingresos de Libre Disposición | B38: 0 | C38: 0 | D38: 0
A39: F2. Financiamiento con Fuente de Pago de Transferencias Federales Etiquetadas | B39: 0 | C39: 0 | D39: 0
A40: G. Amortización de la Deuda (G = G1 + G2) | B40: =B41+B42 -> 0 | C40: =C41+C42 -> 0 | D40: =D41+D42 -> 0
A41: G1. Amortización de la Deuda Pública con Gasto No Etiquetado | B41: 0 | C41: 0 | D41: 0
A42: G2. Amortización de la Deuda Pública con Gasto Etiquetado | B42: 0 | C42: 0 | D42: 0
A44: A3. Financiamiento Neto (A3 = F – G ) | B44: =B37-B40 -> 0 | C44: =C37-C40 -> 0 | D44: =D37-D40 -> 0
A47: Concepto | B47: Estimado/ Aprobado | C47: Devengado | D47: Recaudado/ Pagado
A48: A1. Ingresos de Libre Disposición | B48: =B9 -> 26194465 | C48: =C9 -> 28866785 | D48: =D9 -> 28448785
A49: A3.1 Financiamiento Neto con Fuente de Pago de Ingresos de Libre Disposición (A3.1 = F1 – G1) | B49: =B50-B51 -> 0 | C49: =C50-C51 -> 0 | D49: =D50-D51 -> 0
A50: F1. Financiamiento con Fuente de Pago de Ingresos de Libre Disposición | B50: 0 | C50: 0 | D50: 0
A51: G1. Amortización de la Deuda Pública con Gasto No Etiquetado | B51: 0 | C51: 0 | D51: 0
A53: B1. Gasto No Etiquetado (sin incluir Amortización de la Deuda Pública) | B53: =B14 -> 26194465 | C53: =C14 -> 26656491 | D53: =D14 -> 26540405
A55: C1. Remanentes de Ingresos de Libre Disposición aplicados en el periodo | B55: =B18 -> 0 | C55: =C18 -> 721015.75 | D55: =D18 -> 721015.75
A57: V. Balance Presupuestario de Recursos Disponibles (V = A1 + A3.1 – B 1 + C1) | B57: =B48+B49-B53+B55 -> 0 | C57: =C48+C49-C53+C55 -> 2931309.6 | D57: =D48+D49-D53+D55 -> 2629395.3
...

Sheet Formato 5
A1: Formato 5 Estado Analítico de Ingresos Detallado - LDF
A2: UNIVERSIDAD POLITÉCNICA DURANGO
A3: Estado Analítico de Ingresos Detallado - LDF
A4: Del 1 de Enero al 31 de Diciembre de 2023
A5: (PESOS)
A6: Concepto (c) | B6: Ingreso | G6: Diferencia (e)
B7: Estimado (d) | C7: Ampliaciones/ (Reducciones) | D7: Modificado | E7: Devengado | F7: Recaudado
A8: Ingresos de Libre Disposición
A9: A. Impuestos | B9: 0 | C9: 0 | D9: 0 | E9: 0 | F9: 0 | G9: 0
A10: B. Cuotas y Aportaciones de Seguridad Social | B10: 0 | C10: 0 | D10: 0 | E10: 0 | F10: 0 | G10: 0
A11: C. Contribuciones de Mejoras | B11: 0 | C11: 0 | D11: 0 | E11: 0 | F11: 0 | G11: 0
A12: D. Derechos | B12: 0 | C12: 0 | D12: 0 | E12: 0 | F12: 0 | G12: 0
A13: E. Productos | B13: 0 | C13: 64004.39 | D13: 64004.39 | E13: 64004.39 | F13: 64004.39 | G13: 64004.39
A14: F. Aprovechamientos | B14: 0 | C14: 0 | D14: 0 | E14: 0 | F14: 0 | G14: 0
A15: G. Ingresos por Venta de Bienes y Prestación de Servicios | B15: 6946793 | C15: 3008647.1 | D15: 9955440.1 | E15: 9955440.1 | F15: 9537440.1 | G15: 2590647.1
A16: H. Participaciones (H=h1+h2+h3+h4+h5+h6+h7+h8+h9+h10+h11) | B16: 0 | C16: 0 | D16: 0 | E16: 0 | F16: 0 | G16: 0
A17: h1) Fondo General de Participaciones | B17: 0 | C17: 0 | D17: 0 | E17: 0 | F17: 0 | G17: 0
A18: h2) Fondo de Fomento Municipal | B18: 0 | C18: 0 | D18: 0 | E18: 0 | F18: 0 | G18: 0
A19: h3) Fondo de Fiscalización y Recaudación | B19: 0 | C19: 0 | D19: 0 | E19: 0 | F19: 0 | G19: 0
A20: h4) Fondo de Compensación | B20: 0 | C20: 0 | D20: 0 | E20: 0 | F20: 0 | G20: 0
... A41: I. Total de Ingresos de Libre Disposición (I=A+B+C+D+E+F+G+H+I+J+K+L) | B41: 26194465 | C41: 2672319.5 | D41: 28866785 | E41: 28866785 | F41: 28448785 | G41: 2254319.5
A42: Ingresos Excedentes de Ingresos de Libre Disposición | G42: 2254319.5
A44: Transferencias Federales Etiquetadas
A45: A. Aportaciones (A=a1+a2+a3+a4+a5+a6+a7+a8) | B45: 0 | C45: 0 | D45: 0 | E45: 0 | F45: 0 | G45: 0
A46: a1) Fondo de Aportaciones para la Nómina Educativa y Gasto Operativo | B46: 0 | C46: 0 | D46: 0 | E46: 0 | F46: 0 | G46: 0
A47: a2) Fondo de Aportaciones para los Servicios de Salud | B47: 0 | C47: 0 | D47: 0 | E47: 0 | F47: 0 | G47: 0
A48: a3) Fondo de Aportaciones para la Infraestructura Social | B48: 0 | C48: 0 | D48: 0 | E48: 0 | F48: 0 | G48: 0
A49: a4) Fondo de Aportaciones para el Fortalecimiento de los Municipios y de las Demarcaciones Territoriales del Distrito Federal | B49: 0 | C49: 0 | D49: 0 | E49: 0 | F49: 0 | G49: 0
A50: a5) Fondo de Aportaciones Múltiples | B50: 0 | C50: 0 | D50: 0 | E50: 0 | F50: 0 | G50: 0
A51: a6) Fondo de Aportaciones para la Educación Tecnológica y de Adultos | B51: 0 | C51: 0 | D51: 0 | E51: 0 | F51: 0 | G51: 0
A52: a7) Fondo de Aportaciones para la Seguridad Pública de los Estados y del Distrito Federal | B52: 0 | C52: 0 | D52: 0 | E52: 0 | F52: 0 | G52: 0
A53: a8) Fondo de Aportaciones para el Fortalecimiento de las Entidades Federativas | B53: 0 | C53: 0 | D53: 0 | E53: 0 | F53: 0 | G53: 0
A54: B. Convenios (B=b1+b2+b3+b4) | B54: 0 | C54: 0 | D54: 0 | E54: 0 | F54: 0 | G54: 0
A55: b1) Convenios de Protección Social en Salud | B55: 0 | C55: 0 | D55: 0 | E55: 0 | F55: 0 | G55: 0
A56: b2) Convenios de Descentralización | B56: 0 | C56: 0 | D56: 0 | E56: 0 | F56: 0 | G56: 0
... A70: IV. Total de Ingresos (IV = I + II + III) | B70: 45442137 | C70: 5171801.9 | D70: 50613939 | E70: 49774085 | F70: 49356085 | G70: 3913947.6
A72: Datos Informativos
A73: 1. Ingresos Derivados de Financiamientos con Fuente de Pago de Ingresos de Libre Disposición | B73: 0 | C73: 839854.37 | D73: 839854.37 | E73: 0 | F73: 0 | G73: 0
A74: 2. Ingresos Derivados de Financiamientos con Fuente de Pago de Transferencias Federales Etiquetadas | B74: 0 | C74: 0 | D74: 0 | E74: 0 | F74: 0 | G74: 0
A75: 3. Ingresos Derivados de Financiamientos (3 = 1 + 2) | B75: 0 | C75: 839854.37 | D75: 839854.37 | E75: 0 | F75: 0 | G75: 0

Sheet Formato 6 a)
A1: Formato 6 a) Estado Analítico del Ejercicio del Presupuesto de Egresos Detallado - LDF (Clasificación por Objeto del Gasto)
A2: UNIVERSIDAD POLITÉCNICA DURANGO
A3: Estado Analítico del Ejercicio del Presupuesto de Egresos Detallado - LDF
A4: Clasificación por Objeto del Gasto (Capítulo y Concepto)
A5: Del 1 de Enero al 31 de Diciembre de 2023
A6: (PESOS)
A7: Concepto (c) | B7: Egresos | G7: Subejercicio (e)
B8: Aprobado (d) | C8: Ampliaciones/ (Reducciones) | D8: Modificado | E8: Devengado | F8: Pagado
A9: I. Gasto No Etiquetado (I=A+B+C+D+E+F+G+H+I) | B9: 26194465 | C9: 3512173.9 | D9: 29706639 | E9: 26656491 | F9: =+F10+F18+F28+F38+F48 -> 26540405 | G9: 3050143.6
A10: A. Servicios Personales (A=a1+a2+a3+a4+a5+a6+a7) | B10: 19247672 | C10: -299855.92 | D10: 18947816 | E10: 18658308 | F10: 18542222 | G10: 289508.37
A11: a1) Remuneraciones al Personal de Carácter Permanente | B11: 0 | C11: 0 | D11: 0 | E11: 0 | F11: 0 | G11: 0
A12: a2) Remuneraciones al Personal de Carácter Transitorio | B12: 13505596 | C12: 4228249.7 | D12: 17733845 | E12: 17602455 | F12: 17600444 | G12: 131390.15
A13: a3) Remuneraciones Adicionales y Especiales | B13: 2258048.9 | C13: -1928651.7 | D13: 329397.15 | E13: 255258.43 | F13: 255258.43 | G13: 74138.72
A14: a4) Seguridad Social | B14: 1533695.3 | C14: -1467153.1 | D14: 66542.27 | E14: 0 | F14: 0 | G14: 66542.27
A15: a5) Otras Prestaciones Sociales y Económicas | B15: 0 | C15: 818031.18 | D15: 818031.18 | E15: 800593.95 | F15: 686519.92 | G15: 17437.23
A16: a6) Previsiones | B16: 1950332 | C16: -1950332 | D16: 0 | E16: 0 | F16: 0 | G16: 0
A17: a7) Pago de Estímulos a Servidores Públicos | B17: 0 | C17: 0 | D17: 0 | E17: 0 | F17: 0 | G17: 0
A18: B. Materiales y Suministros (B=b1+b2+b3+b4+b5+b6+b7+b8+b9) | B18: 1410631.3 | C18: 762061.73 | D18: 2172693 | E18: 1767288.2 | F18: 1767288.2 | G18: 405404.82
A19: b1) Materiales de Administración, Emisión de Documentos y Artículos Oficiales | B19: 698715.25 | C19: 285008.15 | D19: 983723.4 | E19: 758061.74 | F19: 758061.74 | G19: 225661.66
A20: b2) Alimentos y Utensilios | B20: 50637.7 | C20: 38582.7 | D20: 89220.4 | E20: 71595.23 | F20: 71595.23 | G20: 17625.17
A21: b3) Materias Primas y Materiales de Producción y Comercialización | B21: 0 | C21: 0 | D21: 0 | E21: 0 | F21: 0 | G21: 0
... A159: III. Total de Egresos (III = I + II) | B159: 45442137 | C159: 5171801.9 | D159: 50613939 | E159: 46509737 | F159: 46370444 | G159: 4104202.2

Sheet Formato 6 b)
A1: Formato 6 b) Estado Analítico del Ejercicio del Presupuesto de Egresos Detallado - LDF (Clasificación Administrativa)
A2: UNIVERSIDAD POLITÉCNICA DURANGO
A3: Estado Analítico del Ejercicio del Presupuesto de Egresos Detallado - LDF
A4: Clasificación Administrativa
A5: Del 1 de Enero al 31 de Diciembre de 2023
A6: (PESOS)
A7: Concepto (c) | B7: Egresos | G7: Subejercicio (e)
B8: Aprobado (d) | C8: Ampliaciones/ (Reducciones) | D8: Modificado | E8: Devengado | F8: Pagado
A9: I. Gasto No Etiquetado (I) | B9: 26194465 | C9: 3512173.9 | D9: 29706639 | E9: 26656491 | F9: 26540405 | G9: 3050148.2
A10: 000 RAMO GENERAL | B10: 0 | C10: 0 | D10: 0 | E10: 0 | F10: 0 | G10: 0
A11: 0001 RECTORIA | B11: 326141.79 | C11: -72382.07 | D11: 253759.72 | E11: 247023.86 | F11: 247023.86 | G11: 6735.86
A12: 0002 PLANEACION | B12: 110000 | C12: -35402.26 | D12: 74597.74 | E12: 1283.86 | F12: 1283.86 | G12: 73313.88
A13: 0003 VINCULACION | B13: 511289.2 | C13: -199234.54 | D13: 312054.66 | E13: 301845.98 | F13: 301845.98 | G13: 10208.68
A14: 0004 SECRETARIA ACADEMICA | B14: 110721 | C14: 909700.57 | D14: 1020421.6 | E14: 1017053.3 | F14: 1017053.3 | G14: 3368.3
A15: 0005 SECRETARIA ADMINISTRATIVA | B15: 20025307 | C15: -245412.6 | D15: 19779894 | E15: 18792434 | F15: 18676348 | G15: 987460.8
A16: 0006 APOYO ACADEMICO Y ESTUDIANTIL | B16: 449852.83 | C16: 179134.62 | D16: 628987.45 | E16: 436157.8 | F16: 436157.8 | G16: 192829.65
A17: 0007 TECNOLOGIAS DE INFORMACION | B17: 90071.49 | C17: 271424.9 | D17: 361496.39 | E17: 116759.54 | F17: 116759.54 | G17: 244736.85
A18: 0008 COORDINACION DE IDIOMAS | B18: 17530.2 | C18: 229271.05 | D18: 246801.25 | E18: 245511.51 | F18: 245511.51 | G18: 1289.74
A19: 0009 SERVICIOS GENERALES | B19: 3341630.1 | C19: 486434.79 | D19: 3828064.9 | E19: 3160901.9 | F19: 3160901.9 | G19: 667162.99
A20: 0010 INGENIERIA CIVIL | B20: 48000 | C20: -48000 | D20: 0 | E20: 0 | F20: 0 | G20: 0
... A29: 0019 PROYECTOS INTER-INSTITUCIONALES | B29: 0 | C29: 192597.21 | D29: 192597.21 | E29: 149999.97 | F29: 149999.97 | G29: 42597.24
A30: *
A31: II. Gasto Etiquetado (II) | B31: 19247672 | C31: 1659628.1 | D31: 20907300 | E31: 19853246 | F31: 19830039 | G31: 1054054
A32: 000 RAMO GENERAL | B32: 0 | C32: 0 | D32: 0 | E32: 0 | F32: 0 | G32: 0
A33: 0001 RECTORIA | B33: 0 | C33: 5138.8 | D33: 5138.8 | E33: 5138.8 | F33: 5138.8 | G33: 0
A34: 0002 PLANEACION | B34: 72309 | C34: 0.01 | D34: 72309.01 | E34: 72309.01 | F34: 72309.01 | G34: 0
A35: 0003 VINCULACION | B35: 0 | C35: 0 | D35: 0 | E35: 0 | F35: 0 | G35: 0
A36: 0004 SECRETARIA ACADEMICA | B36: 0 | C36: 90000 | D36: 90000 | E36: 90000 | F36: 90000 | G36: 0
A37: 0005 SECRETARIA ADMINISTRATIVA | B37: 16675927 | C37: 2204066.6 | D37: 18879994 | E37: 17842536 | F37: 17819329 | G37: 1037457.7
A38: 0006 APOYO ACADEMICO Y ESTUDIANTIL | B38: 370000 | C38: -186696.8 | D38: 183303.2 | E38: 183303.2 | F38: 183303.2 | G38: 0
A39: 0007 TECNOLOGIAS DE INFORMACION | B39: 300000 | C39: 278718.08 | D39: 578718.08 | E39: 578718.08 | F39: 578718.08 | G39: 0
A40: 0008 COORDINACION DE IDIOMAS | B40: 0 | C40: 0 | D40: 0 | E40: 0 | F40: 0 | G40: 0
A41: 0009 SERVICIOS GENERALES | B41: 1729436 | C41: -898525.97 | D41: 830910.03 | E41: 830910.03 | F41: 830910.03 | G41: 0
A42: 0010 INGENIERIA CIVIL | B42: 0 | C42: 0 | D42: 0 | E42: 0 | F42: 0 | G42: 0
... A51: 0019 PROYECTOS INTER-INSTITUCIONALES | B51: 0 | C51: 0 | D51: 0 | E51: 0 | F51: 0 | G51: 0
A52: *
A53: III. Total de Egresos (III = I + II) | B53: 45442137 | C53: 5171801.9 | D53: 50613939 | E53: 46509737 | F53: 46370444 | G53: 4104202.2

Sheet Formato 6 c)
A1: Formato 6 c) Estado Analítico del Ejercicio del Presupuesto de Egresos Detallado -LDF (Clasificación Funcional)
A2: UNIVERSIDAD POLITÉCNICA DURANGO
A3: Estado Analítico del Ejercicio del Presupueso de Egresos Detallado - LDF
A4: Clasificación Funcional (Finalidad y Función)
A5: Del 1 de Enero al 31 de Diciembre de 2023
A6: (PESOS)
A7: Concepto (c) | B7: Egresos | G7: Subejercicio (e)
B8: Aprobado (d) | C8: Ampliaciones / (Reducciones) | D8: Modificado | E8: Devengado | F8: Pagado
A9: I. Gasto No Etiquetado (I=A+B+C+D) | B9: 26194465 | C9: 3512173.9 | D9: 29706639 | E9: 26656491 | F9: 26540405 | G9: 3050143.6
A10: A. Gobierno (A=a1+a2+a3+a4+a5+a6+a7+a8) | B10: 0 | C10: 0 | D10: 0 | E10: 0 | F10: 0 | G10: 0
A11: a1) Legislación | B11: 0 | C11: 0 | D11: 0 | E11: 0 | F11: 0 | G11: 0
A12: a2) Justicia | B12: 0 | C12: 0 | D12: 0 | E12: 0 | F12: 0 | G12: 0
A13: a3) Coordinación de la Política de Gobierno | B13: 0 | C13: 0 | D13: 0 | E13: 0 | F13: 0 | G13: 0
A14: a4) Relaciones Exteriores | B14: 0 | C14: 0 | D14: 0 | E14: 0 | F14: 0 | G14: 0
A15: a5) Asuntos Financieros y Hacendarios | B15: 0 | C15: 0 | D15: 0 | E15: 0 | F15: 0 | G15: 0
A16: a6) Seguridad Nacional | B16: 0 | C16: 0 | D16: 0 | E16: 0 | F16: 0 | G16: 0
A17: a7) Asuntos de Orden Público y de Seguridad Interior | B17: 0 | C17: 0 | D17: 0 | E17: 0 | F17: 0 | G17: 0
A18: a8) Otros Servicios Generales | B18: 0 | C18: 0 | D18: 0 | E18: 0 | F18: 0 | G18: 0
A19: B. Desarrollo Social (B=b1+b2+b3+b4+b5+b6+b7) | B19: 26194465 | C19: 3512173.9 | D19: 29706639 | E19: 26656491 | F19: 26540405 | G19: 3050143.6
A20: b1) Protección Ambiental | B20: 0 | C20: 0 | D20: 0 | E20: 0 | F20: 0 | G20: 0
... A77: III. Total de Egresos (III = I + II) | B77: 45442137 | C77: 5171801.9 | D77: 50613939 | E77: 46509737 | F77: 46370444 | G77: 4104202.2

Sheet Formato 6 d)
A1: Formato 6 d) Estado Analítico del Ejercicio del Presupuesto de Egresos Detallado - LDF (Clasificación de Servicios Personales por Categoría)
A2: UNIVERSIDAD POLITÉCNICA DURANGO
A3: Estado Analítico del Ejercicio del Presupuesto de Egresos Detallado - LDF
A4: Clasificación de Servicios Personales por Categoría
A5: Del 1 de Enero al 31 de Diciembre de 2023
A6: (PESOS)
A7: Concepto ( c ) | B7: Egresos | G7: Subejercicio (e)
B8: Aprobado (d) | C8: Ampliaciones / (Reducciones) | D8: Modificado | E8: Devengado | F8: Pagado
A9: I. Gasto No Etiquetado (I=A+B+C+D+E+F) | B9: 0 | C9: 0 | D9: 0 | E9: 0 | F9: 0 | G9: 0
A10: A. Personal Administrativo | B10: 0 | C10: 0 | D10: 0 | E10: 0 | F10: 0 | G10: 0
A11: B. Magisterio | B11: 0 | C11: 0 | D11: 0 | E11: 0 | F11: 0 | G11: 0
A12: C. Servicios de Salud (C=c1+c2) | B12: 0 | C12: 0 | D12: 0 | E12: 0 | F12: 0 | G12: 0
A13: c1) Personal Administrativo | B13: 0 | C13: 0 | D13: 0 | E13: 0 | F13: 0 | G13: 0
A14: c2) Personal Médico, paramédico y afín | B14: 0 | C14: 0 | D14: 0 | E14: 0 | F14: 0 | G14: 0
A15: D. Seguridad Pública | B15: 0 | C15: 0 | D15: 0 | E15: 0 | F15: 0 | G15: 0
A16: E. Gastos asociados a la implementación de nuevas leyes federales o reformas a las mismas | B16: 0 | C16: 0 | D16: 0 | E16: 0 | F16: 0 | G16: 0
A17: F. Sentencias laborales definitivas | B17: 0 | C17: 0 | D17: 0 | E17: 0 | F17: 0 | G17: 0
A19: II. Gasto Etiquetado (I=A+B+C+D+E+F) | B19: 0 | C19: 0 | D19: 0 | E19: 0 | F19: 0 | G19: 0
A20: A. Personal Administrativo | B20: 0 | C20: 0 | D20: 0 | E20: 0 | F20: 0 | G20: 0
A21: B. Magisterio | B21: 0 | C21: 0 | D21: 0 | E21: 0 | F21: 0 | G21: 0
... A29: III. Total de Gasto en Servicios Personales (III = I + II) | B29: 0 | C29: 0 | D29: 0 | E29: 0 | F29: 0 | G29: 0

Sheet Formato 7 a)
A1: Formato 7 a) Proyecciones de Ingresos - LDF
A2: UNIVERSIDAD POLITÉCNICA DURANGO
A3: Proyecciones de Ingresos - LDF
A4: (PESOS)
A5: (CIFRAS NOMINALES)
A6: Concepto (b) | B6: 2023 | C6: 2024 | D6: 2025 | E6: 2026 | F6: 2027 | G6: 2028
A8: 1. Ingresos de Libre Disposición (1=A+B+C+D+E+F+G+H+I+J+K+L) | B8: 28866785 | C8: 28866785 | D8: 28866785 | E8: 28866785 | F8: 28866785 | G8: 28866785
A9: A. Impuestos | B9: 0 | C9: 0 | D9: 0 | E9: 0 | F9: 0 | G9: 0
A10: B. Cuotas y Aportaciones de Seguridad Social | B10: 0 | C10: 0 | D10: 0 | E10: 0 | F10: 0 | G10: 0
A11: C. Contribuciones de Mejoras | B11: 0 | C11: 0 | D11: 0 | E11: 0 | F11: 0 | G11: 0
A12: D. Derechos | B12: 0 | C12: 0 | D12: 0 | E12: 0 | F12: 0 | G12: 0
A13: E. Productos | B13: 64004.39 | C13: 64004.39 | D13: 64004.39 | E13: 64004.39 | F13: 64004.39 | G13: 64004.39
A14: F. Aprovechamientos | B14: 0 | C14: 0 | D14: 0 | E14: 0 | F14: 0 | G14: 0
A15: G. Ingresos por ventas de Bienes y Servicios | B15: 9955440.1 | C15: 9955440.1 | D15: 9955440.1 | E15: 9955440.1 | F15: 9955440.1 | G15: 9955440.1
A16: H. Participaciones | B16: 0 | C16: 0 | D16: 0 | E16: 0 | F16: 0 | G16: 0
A17: I. Incentivos Derivados de la Colaboración Fiscal | B17: 0 | C17: 0 | D17: 0 | E17: 0 | F17: 0 | G17: 0
A18: J. Transferencias | B18: 18847340 | C18: 18847340 | D18: 18847340 | E18: 18847340 | F18: 18847340 | G18: 18847340
A19: K. Convenios | B19: 0 | C19: 0 | D19: 0 | E19: 0 | F19: 0 | G19: 0
... A32: 4. Total de Ingresos Proyectados (4=1+2+3) | B32: 50613939 | C32: 50613939 | D32: 50613939 | E32: 50613939 | F32: 50613939 | G32: 50613939
A34: Datos Informativos
A35: 1. Ingresos Derivados de Financiamientos con Fuente de Pago de Recursos de Libre Disposición | B35: 839854.37 | C35: 839854.37 | D35: 839854.37 | E35: 839854.37 | F35: 839854.37 | G35: 839854.37
A36: 2. Ingresos Derivados de Financiamientos con Fuente de Pago de Transferencias Federales Etiquetadas | B36: 0.00 | C36: 0.00 | D36: 0.00 | E36: 0.00 | F36: 0.00 | G36: 0.00
A37: 3. Ingresos Derivados de Financiamientos (3= 1 + 2) | B37: 839854.37 | C37: 839854.37 | D37: 839854.37 | E37: 839854.37 | F37: 839854.37 | G37: 839854.37

Sheet Formato 7 b)
A1: Formato 7 b) Proyecciones de Egresos - LDF
A2: UNIVERSIDAD POLITÉCNICA DURANGO
A3: Proyecciones de Egresos - LDF
A4: (PESOS)
A5: (CIFRAS NOMINALES)
A6: Concepto (b) | B6: 2023 | C6: 2024 | D6: 2025 | E6: 2026 | F6: 2027 | G6: 2028
A8: 1. Gasto No Etiquetado (1=A+B+C+D+E+F+G+H+I) | B8: 29706639 | C8: 29706639 | D8: 29706639 | E8: 29706639 | F8: 29706639 | G8: 29706639
A9: A. Servicios Personales | B9: 18947816 | C9: 18947816 | D9: 18947816 | E9: 18947816 | F9: 18947816 | G9: 18947816
A10: B. Materiales y Suministros | B10: 2172693 | C10: 2172693 | D10: 2172693 | E10: 2172693 | F10: 2172693 | G10: 2172693
A11: C. Servicios Generales | B11: 8340851.2 | C11: 8340851.2 | D11: 8340851.2 | E11: 8340851.2 | F11: 8340851.2 | G11: 8340851.2
A12: D. Transferencias, Asignaciones, Subsidios y Otras Ayudas | B12: 32000 | C12: 32000 | D12: 32000 | E12: 32000 | F12: 32000 | G12: 32000
A13: E. Bienes Muebles, Inmuebles e Intangibles | B13: 213278.64 | C13: 213278.64 | D13: 213278.64 | E13: 213278.64 | F13: 213278.64 | G13: 213278.64
A14: F. Inversión Pública | B14: 0 | C14: 0 | D14: 0 | E14: 0 | F14: 0 | G14: 0
A15: G. Inversiones Financieras y Otras Provisiones | B15: 0 | C15: 0 | D15: 0 | E15: 0 | F15: 0 | G15: 0
A16: H. Participaciones y Aportaciones | B16: 0 | C16: 0 | D16: 0 | E16: 0 | F16: 0 | G16: 0
A17: I. Deuda Pública | B17: 0 | C17: 0 | D17: 0 | E17: 0 | F17: 0 | G17: 0
A19: 1. Gasto Etiquetado (2=A+B+C+D+E+F+G+H+I) | B19: 20907300 | C19: 20907300 | D19: 20907300 | E19: 20907300 | F19: 20907300 | G19: 20907300
A20: A. Servicios Personales | B20: 18741103 | C20: 18741103 | D20: 18741103 | E20: 18741103 | F20: 18741103 | G20: 18741103
... A30: 2. Total de Egresos Proyectados (3 = 1 + 2) | B30: 50613939 | C30: 50613939 | D30: 50613939 | E30: 50613939 | F30: 50613939 | G30: 50613939

Sheet Formato 7 c)
A1: Formato 7 c) Resultados de Ingresos - LDF
A2: UNIVERSIDAD POLITÉCNICA DURANGO
A3: Resultados de Ingresos - LDF
A4: (PESOS)
A5: Concepto (b) | B5: 2018 | C5: 2019 | D5: 2020 | E5: 2021 | F5: 2022 | G5: 2023
A7: 1. Ingresos de Libre Disposición (1=A+B+C+D+E+F+G+H+I+J+K+L) | B7: 0 | C7: 0 | D7: 22917880 | E7: 22742516 | F7: 21676282 | G7: 28866785
A8: A. Impuestos | B8: 0 | C8: 0 | D8: 0 | E8: 0 | F8: 0 | G8: 0
A9: B. Cuotas y Aportaciones de Seguridad Social | B9: 0 | C9: 0 | D9: 0 | E9: 0 | F9: 0 | G9: 0
A10: C. Contribuciones de Mejoras | B10: 0 | C10: 0 | D10: 0 | E10: 0 | F10: 0 | G10: 0
A11: D. Derechos | B11: 0 | C11: 0 | D11: 0 | E11: 0 | F11: 0 | G11: 0
A12: E. Productos | B12: 0 | C12: 0 | D12: 73549.16 | E12: 50393.58 | F12: 132456.67 | G12: 64004.39
A13: F. Aprovechamientos | B13: 0 | C13: 0 | D13: 0 | E13: 0 | F13: 0 | G13: 0
A14: G. Ingresos por Ventas de Bienes y Servicios | B14: 0 | C14: 0 | D14: 8205657.5 | E14: 9403546.2 | F14: 8155430 | G14: 9955440.1
A15: H. Participaciones | B15: 0 | C15: 0 | D15: 0 | E15: 0 | F15: 0 | G15: 0
A16: I. Incentivos Derivados de la Colaboración Fiscal | B16: 0 | C16: 0 | D16: 0 | E16: 0 | F16: 0 | G16: 0
A17: J. Transferencias | B17: 0 | C17: 0 | D17: 14638673 | E17: 13288576 | F17: 13388395 | G17: 18847340
A18: K. Convenios | B18: 0 | C18: 0 | D18: 0 | E18: 0 | F18: 0 | G18: 0
... A31: 4. Total de Resultados de Ingresos (4=1+2+3) | B31: 0 | C31: 0 | D31: 44674649 | E31: 44289780 | F31: 44460962 | G31: 50613939
A33: Datos Informativos
A34: 1. Ingresos Derivados de Financiamientos con Fuente de Pago de Recursos de Libre Disposición | B34: 0 | C34: 0 | D34: 0 | E34: 0 | F34: 0 | G34: 839854.37
A35: 2. Ingresos derivados de Financiamientos con Fuente de Pago de Transferencias Federales Etiquetadas | B35: 0 | C35: 0 | D35: 0 | E35: 0 | F35: 0 | G35: 0
A36: 3. Ingresos Derivados de Financiamiento (3 = 1 + 2) | B36: 0 | C36: 0 | D36: 0 | E36: 0 | F36: 0 | G36: 839854.37
A39: 1 Los importes corresponden al momento contable de los ingresos devengados.
A40: 2 Los importes corresponden a los ingresos devengados al cierre trimestral más reciente disponible y estimados para el resto del ejercicio.

Sheet Formato 7 d)
A1: Formato 7 d) Resultados de Egresos - LDF
A2: UNIVERSIDAD POLITÉCNICA DURANGO
A3: Resultados de Egresos - LDF
A4: (PESOS)
A5: Concepto (b) | B5: 2018 | C5: 2019 | D5: 2020 | E5: 2021 | F5: 2022 | G5: 2023
A7: 1. Gasto No Etiquetado (1=A+B+C+D+E+F+G+H+I) | B7: 0 | C7: 0 | D7: 21324322 | E7: 22160849 | F7: 21529249 | G7: 29706639
A8: A. Servicios Personales | B8: 0 | C8: 0 | D8: 15128696 | E8: 14396807 | F8: 13008782 | G8: 18947816
A9: B. Materiales y Suministros | B9: 0 | C9: 0 | D9: 1473379.8 | E9: 953359.4 | F9: 1493898.9 | G9: 2172693
A10: C. Servicios Generales | B10: 0 | C10: 0 | D10: 4580853.7 | E10: 5722543.8 | F10: 6589967.5 | G10: 3834851.2
A11: D. Transferencias, Asignaciones, Subsidios y Otras Ayudas | B11: 0 | C11: 0 | D11: 0 | E11: 61500 | F11: 186000 | G11: 32000
A12: E. Bienes Muebles, Inmuebles e Intangibles | B12: 0 | C12: 0 | D12: 141393 | E12: 1026638.4 | F12: 250600.6 | G12: 213278.64
A13: F. Inversión Pública | B13: 0 | C13: 0 | D13: 0 | E13: 0 | F13: 0 | G13: 0
A14: G. Inversiones Financieras y Otras Provisiones | B14: 0 | C14: 0 | D14: 0 | E14: 0 | F14: 0 | G14: 0
A15: H. Participaciones y Aportaciones | B15: 0 | C15: 0 | D15: 0 | E15: 0 | F15: 0 | G15: 0
A16: I. Deuda Pública | B16: 0 | C16: 0 | D16: 0 | E16: 0 | F16: 0 | G16: 0
A18: 2. Gasto Etiquetado (2=A+B+C+D+E+F+G+H+I) | B18: 0 | C18: 0 | D18: 21756765 | E18: 21547264 | F18: 22512890 | G18: 20907300
A19: A. Servicios Personales | B19: 0 | C19: 0 | D19: 17028615 | E19: 20105342 | F19: 21287105 | G19: 18741103
... A29: 3. Total del Resultado de Egresos (3=1+2) | B29: 0 | C29: 0 | D29: 43081088 | E29: 43708112 | F29: 44042139 | G29: 50613939
A32: 1 Los importes corresponden al momento contable de los ingresos devengados.
A33: 2 Los importes corresponden a los ingresos devengados al cierre trimestral más reciente disponible y estimados para el resto del ejercicio.

Sheet Formato 8
A1: Formato 8) Informe sobre Estudios Actuariales – LDF
A2: UNIVERSIDAD POLITÉCNICA DURANGO
A3: Informe sobre Estudios Actuariales - LDF
B4: Pensiones y jubilaciones | C4: Salud | D4: Riesgos de trabajo | E4: Invalidez y vida | F4: Otras prestaciones sociales
A5: Tipo de Sistema
A6: Prestación laboral o Fondo general para trabajadores del estado o municipio
A7: Beneficio definido, Contribución definida o Mixto
A9: Población afiliada
A10: Activos
A11: Edad máxima
A12: Edad mínima
A13: Edad promedio
A14: Pensionados y Jubilados
A15: Edad máxima
A16: Edad mínima
A17: Edad promedio
... A66: Empresa que elaboró el estudio actuarial

Sheet Guía
B2: Guía de Cumplimiento - LDF
B3: UNIVERSIDAD POLITÉCNICA DURANGO Guía de Cumplimiento de la Ley de Disciplina Financiera de las Entidades Federativas y Municipios Del 1 de Enero al 31 de Diciembre de 2023 (b)
D4: Implementación SI NO | H4: Resultado
C5: Indicadores de Observancia | D5: Mecanismo de Verificación (d) | F5: Fecha estimada de cumplimiento (e) | H5: Monto o valor (f) | I5: Unidad (pesos/porcentaje) (g) | J5: Fundamento (h) | K5: Comentarios (i)
C6: INDICADORES PRESUPUESTARIOS
C7: A. INDICADORES CUANTITATIVOS
C8: 1 Balance Presupuestario Sostenible (j)
B9: 900001 | C9: a. Propuesto | E9: Iniciativa de Ley de Ingresos y Proyecto de Presupuesto de Egresos | H9: 0 | I9: Pesos | J9: Art. 6 y 19 de la LDF
B10: 900002 | C10: b. Aprobado | E10: Ley de Ingresos y Presupuesto de Egresos | H10: 0 | I10: Pesos | J10: Art. 6 y 19 de la LDF
B11: 900003 | C11: c. Devengado | E11: Cuenta Pública / Formato 4 LDF | H11: 3985363.6 | I11: Pesos | J11: Art. 6 y 19 de la LDF
C12: 2 Balance Presupuestario de Recursos Disponibles Sostenible (k)
B13: 900004 | C13: a. Propuesto | E13: Iniciativa de Ley de Ingresos y Proyecto de Presupuesto de Egresos | H13: 0 | I13: Pesos | J13: Art. 6 y 19 de la LDF
B14: 900005 | C14: b. Aprobado | E14: Ley de Ingresos y Presupuesto de Egresos | H14: 0 | I14: Pesos | J14: Art. 6 y 19 de la LDF
B15: 900006 | C15: c. Devengado | E15: Cuenta Pública / Formato 4 LDF | H15: 2931305.1 | I15: Pesos | J15: Art. 6 y 19 de la LDF
C16: 3 Financiamiento Neto dentro del Techo de Financiamiento Neto (l)
B17: 900007 | C17: a. Propuesto | E17: Iniciativa de Ley de Ingresos | H17: 0 | I17: Pesos | J17: Art. 6, 19 y 46 de la LDF
B18: 900008 | C18: b. Aprobado | E18: Ley de Ingresos | H18: 0 | I18: Pesos | J18: Art. 6, 19 y 46 de la LDF
B19: 900009 | C19: c. Devengado | E19: Cuenta Pública / Formato 4 LDF | H19: 0 | I19: Pesos | J19: Art. 6, 19 y 46 de la LDF
C20: 4 Recursos destinados a la atención de desastres naturales
C21: a. Asignación al fideicomiso para desastres naturales (m)
B22: 9000010 | C22: a. 1 Aprobado | E22: Reporte Trim. Formato 6 a) | H22: 0 | I22: Pesos | J22: Art. 9 LDF | K22: n/a
B23: 9000011 | C23: a. 2 Pagado | E23: Cuenta Pública / Formato 6 a) | H23: 0 | I23: Pesos | J23: Art. 9 LDF
B24: 9000012 | C24: b. Aportación promedio realizada por la Entidad Federativa durante los 5 ejercicios previos, para infraestructura dañada por desastres naturales (n) | E24: Autorizaciones de recursos aprobados por el FONDEN | H24: 0 | I24: Pesos | J24: Art. 9 LDF
B25: 9000013 | C25: c. Saldo del fideicomiso para desastres naturales (o) | E25: Cuenta Pública / Auxiliar de Cuentas | H25: 0 | I25: Pesos | J25: Art. 9 LDF
B26: 9000014 | C26: d. Costo promedio de los últimos 5 ejercicios de la reconstrucción de infraestructura dañada por desastres naturales (p) | E26: Autorizaciones de recursos aprobados por el FONDEN | H26: 0 | I26: Pesos | J26: Art. 9 LDF
C27: 5 Techo para servicios personales (q)
B28: 9000015 | C28: a. Asignación en el Presupuesto de Egresos | E28: Reporte Trim. Formato 6 d) | H28: 0 | I28: Pesos | J28: Art. 10 y 21 de la LDF
B29: 9000016 | C29: b. Devengado | E29: Reporte Trim. Formato 6 d) | H29: 0 | I29: Pesos | J29: Art. 13 fracc. V y 21 de la LDF
C30: 6 Previsiones de gasto para compromisos de pago derivados de APPs (r)
B31: 9000017 | C31: a. Asignación en el Presupuesto de Egresos | E31: Presupuesto de Egresos | H31: 0 | I31: Pesos | J31: Art. 11 y 21 de la LDF
C32: 7 Techo de ADEFAS para el ejercicio fiscal (s)
B33: 9000018 | C33: a. Propuesto | E33: Proyecto de Presupuesto de Egresos | H33: 0 | I33: Pesos | J33: Art. 12 y 20 de la LDF
B34: 9000019 | C34: b. Aprobadob. | E34: Reporte Trim. Formato 6 a) | I34: Pesos | J34: Art. 12 y 20 de la LDF
B35: 9000020 | C35: c. Devengado | E35: Cuenta Pública / Formato 6 a) | I35: Pesos | J35: Art. 12 y 20 de la LDF
C36: B. INDICADORES CUALITATIVOS
C37: 1 Iniciativa de Ley de Ingresos y Proyecto de Presupuesto de Egresos
B38: 9000021 | C38: a. Objetivos anuales, estrategias y metas para el ejercicio fiscal (t) | E38: Iniciativa de Ley de Ingresos y Proyecto de Presupuesto de Egresos | J38: Art. 5 y 18 de la LDF
B39: 9000022 | C39: b. Proyecciones de ejercicios posteriores (u) | E39: Iniciativa de Ley de Ingresos y Proyecto de Presupuesto de Egresos / Formatos 7 a) y b) | J39: Art. 5 y 18 de la LDF
B40: 9000023 | C40: c. Descripción de riesgos relevantes y propuestas de acción para enfrentarlos (v) | E40: Iniciativa de Ley de Ingresos y Proyecto de Presupuesto de Egresos | J40: Art. 5 y 18 de la LDF
B41: 9000024 | C41: d. Resultados de ejercicios fiscales anteriores y el ejercicio fiscal en cuestión (w) | E41: Iniciativa de Ley de Ingresos y Proyecto de Presupuesto de Egresos / Formatos 7 c) y d) | J41: Art. 5 y 18 de la LDF
...
