Workbook
Name ADMINISTRATIVA: '[1]ADVA FUNCION'!$A$3:$C$41
Name admvasep: '[2]acomodo administrativa'!#REF!
Name admvasep: '[2]acomodo administrativa'!#REF!
Name admvasep: '[2]acomodo administrativa'!#REF!
Name ADVAAGOSTO: '[2]acomodo administrativa'!#REF!
Name ADVAAGOSTO: '[2]acomodo administrativa'!#REF!
Name ADVAAGOSTO: '[2]acomodo administrativa'!#REF!
Name ADVAJUNIO: '[2]acomodo administrativa'!#REF!
Name ADVAJUNIO: '[2]acomodo administrativa'!#REF!
Name ADVAJUNIO: '[2]acomodo administrativa'!#REF!
Name cataadva: '[2]acomodo administrativa'!#REF!
Name cataadva: '[2]acomodo administrativa'!#REF!
Name cataadva: '[2]acomodo administrativa'!#REF!
Name catafun: #REF!
Name catafun: #REF!
Name catafun: #REF!
Name cataorden: '[2]balanza acomodo'!$A$2:$G$1593
Name cataprograma: [2]acomodoprog!#REF!
Name cataprograma: [2]acomodoprog!#REF!
Name cataprograma: [2]acomodoprog!#REF!
Name FUNC: '[1]ADVA FUNCION'!$D$47:$F$94
Name funcata: #REF!
Name funcata: #REF!
Name funcata: #REF!
Name FUNCIONAL: '[1]ADVA FUNCION'!$D$47:$F$94
Name FUNCIONALENE: #REF!
Name FUNCIONALENE: #REF!
Name FUNCIONALENE: #REF!
Name funjunio: #REF!
Name funjunio: #REF!
Name funjunio: #REF!
Name juladva: '[2]acomodo administrativa'!#REF!
Name juladva: '[2]acomodo administrativa'!#REF!
Name juladva: '[2]acomodo administrativa'!#REF!
Name JULFUN: #REF!
Name JULFUN: #REF!
Name JULFUN: #REF!

Sheet F1. ESF
E1: Servicios de Salud de Durango
E2: Estado de Situación Financiera Detallado - LDF
E3: Al 31 de Diciembre de 2022 y al 31 de Diciembre de 2021
E4: (Pesos)
D5: Ente Público: | E5: (Pesos)
C7: Concepto | F7: 31 de Diciembre 2022 | G7: 31 de diciembre 2021 | I7: Concepto | L7: 31 de Diciembre 2022 | M7: 31 de diciembre 2021
C9: ACTIVO | I9: PASIVO
C10: Activo Circulante | I10: Pasivo Circulante
C11: a. Efectivo y Equivalentes de Efectivo (a=a1+a2+a3,a4+a5+a6+a7) | F11: =SUM(F12:F18) -> 4.2146124e+08 | G11: =SUM(G12:G18) -> 1.0228792e+08 | I11: a. Cuentas por Pagar de Corto Plazo (a=a1+a2+a3+a4+a5+a6+a7+a8+a9) | L11: =SUM(L12:L20) -> 1.0788274e+09 | M11: =SUM(M12:M20) -> 716277862
C12: a1) | D12: Efectivo | F12: 28577.56 | G12: 1033.17 | I12: a1) | J12: Servicios Personales | L12: 18544847 | M12: 39137573
C13: a2) | D13: Bancos/tesoreria | F13: 4.2143266e+08 | G13: 1.0228689e+08 | I13: a2) | J13: Proveedores | L13: 8.4674313e+08 | M13: 583975824
C14: a3) | D14: Bancos/Dependencias y otros | I14: a3) | J14: Contratistas por Obras Públicas | L14: 1190097.1 | M14: 1190097
C15: a4) | D15: Inversiones Temporales (hasta 3 meses) | I15: a4) | J15: Participaciones y Aportaciones
C16: a5) | D16: Fondos con Afectación Especifica | I16: a5) | J16: Transferencias Otorgadas
C17: a6) | D17: Depósitos de fondos de Terceros | I17: a6) | J17: Intereses, Comisiones y Otros Gastos de la Deuda Pública
C18: a7) | D18: Otros Efectivos y Equivalentes | I18: a7) | J18: Retenciones y Contribuciones | L18: 91758828 | M18: 91974368
C19: b. Derechos a Recibir Efectivo o Equivalentes (b=b1+b2+b3,b4+b5+b6+b7) | F19: =SUM(F20:F26) -> 7.0054924e+08 | G19: =SUM(G20:G26) -> 535560425 | I19: a8) | J19: Devoluciones de la Ley de Ingresos
C20: b1) | D20: Inversiones Financieras | I20: a9) | J20: Otras Cuentas por Pagar | L20: 120590446 | M20: 0
C21: b2) | D21: Cuentas por Cobrar | F21: 6.9871328e+08 | G21: 532427209 | I21: b. Documentos por Pagar a Corto Plazo (b=b1+b2+b3) | L21: =SUM(L22:L24) -> 0 | M21: =SUM(M22:M24) -> 0
C22: b3) | D22: Deudores Diversos | F22: 667953.53 | G22: 2440153 | I22: b1) | J22: Documentos Comerciales por Pagar a Corto Plazo
C23: b4) | D23: Ingresos por Recuperar | F23: 125000 | G23: 125000 | I23: b2) | J23: Documentos con Contratistas por Obras Públicas por Pagar a Corto Plazo
C24: b5) | D24: Deudores por Anticipos de la Tesoreria | F24: 1043010.5 | G24: 568063 | I24: b3) | J24: Otros Documentos por Pagar a Corto Plazo
C25: b6) | D25: Prestamos Otorgados | I25: c. Porción de Corto Plazo de la Deuda Pública de Largo Plazo (c=c1+c2) | L25: =SUM(L26:L27) -> 0 | M25: =SUM(M26:M27) -> 0
C26: b7) | D26: Otros Derechos a Recibir Efectivo o Equivalentes | I26: c1) | J26: Porción a Corto Plazo de la Deuda Pública de Largo Plazo
C27: c. Derechos a Recibir Bienes o Servicios (c=c1+c2+c3+c4+c5) | F27: =SUM(F28:F32) -> 2736936.2 | G27: =SUM(G28:G32) -> 2906607 | I27: c2) | J27: Porción a Corto Plazo de Arrendamiento Financiero
A28: 11310000 | C28: c1) | D28: Anticipo a Proveedores por Adquisición de Bienes y Prestación de Servicios a Corto Plazo | F28: =2639668.69-0.45 -> 2639668.2 | G28: 2809339 | I28: d. Títulos y Valores a Corto Plazo
A29: 11320000 | C29: c2) | D29: Anticipo a Proveedores por Adquisición de Bienes Inmuebles y Muebles a Corto Plazo | F29: 97268 | G29: 97268 | I29: e. Pasivos Diferidos a Corto Plazo (e=e1+e2+e3) | L29: =SUM(L30:L32) -> 0 | M29: =SUM(M30:M32) -> 0
A30: 11330000 | C30: c3) | D30: Anticipo a Proveedores por Adquisición de Bienes Intangibles a Corto Plazo | I30: e1) | J30: Ingresos Cobrados por Adelantado a Corto Plazo
A31: 11340000 | C31: c4) | D31: Anticipo a Contratistas por Obras Públicas a Corto Plazo | I31: e2) | J31: Intereses Cobrados por Adelantado a Corto Plazo
A32: 11390000 | C32: c5) | D32: Otros Derechos a Recibir Bienes o Servicios a Corto Plazo | I32: e3) | J32: Otros Pasivos Diferidos a Corto Plazo
C33: d. Inventarios (d=d1+d2+d3+d4+d5) | F33: =SUM(F34:F38) -> 0 | G33: =SUM(G34:G38) -> 0 | I33: f. Fondos y Bienes de Terceros en Garantía y/o Administracion a Corto Plazo (f=f1+f2+f3+f4+f5+f6) | L33: =SUM(L34:L39) -> 0 | M33: =SUM(M34:M39) -> 0
A34: 11410000 | C34: d1) | D34: Inventarios de Mercancias para Venta | I34: f1) | J34: Fondos en Garantía a Corto Plazo
A35: 11420000 | C35: d2) | D35: Inventarios de Vercancias Terminadas | I35: f2) | J35: Fondos en Administración a Corto Plazo
A36: 11430000 | C36: d3) | D36: Inventarios de Mercancias en Proceso de Elaboración | I36: f3) | J36: Fondos en Contingentes a Corto Plazo
A37: 11440000 | C37: d4) | D37: Inventarios de Materias Primas, Materiales y Suministros para Producción | I37: f4) | J37: Fondos de Fideicomisos, Mandatos y Contratos Análogos a Corto Plazo
A38: 11450000 | C38: d5) | D38: Bienes en Tránsito | I38: f5) | J38: Otros Fondos de Terceros en Garantía y/o Administración a Corto Plazo
C39: e. Almacenes | I39: f6) | J39: Valores y Bienes en Garantía a Corto Plazo
C40: f. Estimación por Pérdida o Deterioro de Activos Circulantes (f=f1+f2) | F40: =SUM(F41:F42) -> 0 | G40: =SUM(G41:G42) -> 0 | I40: g. Provisiones a Corto Plazo (g=g1+g2+g3) | L40: =SUM(L41:L43) -> 0 | M40: =SUM(M41:M43) -> 0
C41: f1) | D41: Estimaciones para Cuentas Incobrables por Derechos a Recibir Efectivo o equivalentes | I41: g1) | J41: Provisión para Demandas y Juicios a Corto Plazo
C42: f2) | D42: Estimación por Deterioro de Inventarios | I42: g2) | J42: Provisión para Contingencias a Corto Plazo
...

Sheet F2. IADPyOP
A1: Formato 2 | B1: Informe Analítico de la Deuda Pública y Otros Pasivos - LDF
A3: Informe Analítico de la Deuda Pública y Otros Pasivos - LDF
A4: Del 1 de enero al 31 de diciembre de 2022 (b)
A5: (PESOS)
A6: Denominación de la Deuda Pública y Otros Pasivos (c) | C6: Saldo al 31 de diciembre de 2021 (d) | D6: Disposiciones del Periodo (e) | E6: Amortizaciones del Periodo (f) | F6: Revaluaciones, Reclasificaciones y Otros Ajustes (g) | G6: Saldo Final del Periodo (h) | H6: Pago de Intereses del Periodo (i) | I6: Pago de Comisiones y demás costos asociados durante el Periodo (j)
G7: h=d+e-f+g
A9: 1. Deuda Pública (1=A+B) | C9: =+C10+C14 -> 0 | D9: =+D10+D14 -> 0 | E9: =+E10+E14 -> 0 | F9: =+F10+F14 -> 0 | G9: =+G10+G14 -> 0 | H9: =+H10+H14 -> 0 | I9: =+I10+I14 -> 0
A10: A. Corto Plazo (A=a1+a2+a3)
B11: a1) Instituciones de Crédito
B12: a2) Títulos y Valores
B13: a3) Arrendamientos Financieros
A14: B. Largo Plazo (B=b1+b2+b3) | C14: =+C15+C19+C20 -> 0 | D14: =+D15+D19+D20 -> 0 | E14: =+E15+E19+E20 -> 0 | F14: =+F15+F19+F20 -> 0 | G14: =+G15+G19+G20 -> 0 | H14: =+H15+H19+H20 -> 0 | I14: =+I15+I19+I20 -> 0
B15: b1) Instituciones de Crédito | C15: =SUM(C16:C18) -> 0 | E15: =SUM(E16:E18) -> 0 | G15: =+C15+D15-E15+F15 -> 0 | H15: =SUM(H16:H18) -> 0
B16: Crédito 1
B17: Crédito 2
B18: Credito 3
B19: b2) Títulos y Valores
B20: b3) Arrendamientos Financieros
A21: 2. Otros Pasivos | C21: 7.1627786e+08 | D21: 0 | E21: =+C21-G21 -> -3.6254949e+08 | F21: 0 | G21: 1078827350 | H21: 0 | I21: 0
A25: 3. Total de la Deuda Pública y Otros Pasivos (3=1+2) | C25: =+C9+C21 -> 7.1627786e+08 | D25: =+D9+D21 -> 0 | E25: =+E9+E21 -> -3.6254949e+08 | F25: =+F9+F21 -> 0 | G25: =+G9+G21 -> 1078827350 | H25: =+H9+H21 -> 0 | I25: =+I9+I21 -> 0
A27: 4. Deuda Contingente 1 (informativo)
A29: 5. Valor de Instrumentos Bono Cupón Cero 2 (Informativo)
A31: 1. Se refiere a cualquier Financiamiento sin fuente o garantía de pago definida, que sea asumida de manera solidaria o subsidiaria por las Entidades Federativas con sus Municipios, organismos descentralizados y empresas de participación estatal mayoritaria y fideicomisos, locales o municipales, y por los Municipios con sus respectivos organismos descentralizados y empresas de participación municipal mayoritaria.
A32: 2. Se refiere al valor del Bono Cupón Cero que respalda el pago de los créditos asociados al mismo (Activo).
A33: Obligaciones a Corto Plazo (k) | B33: Monto | C33: Plazo | D33: Tasa de Interés | E33: Comisiones y Costos Relacionados (o) | F33: Tasa Efectiva
B34: Contratado (l) | C34: Pactado | D34: (n) | F34: (p)
C35: (m)
A36: 6. Obligaciones a Corto Plazo (Informativo)
A37: A. Credito 1
A38: B. Crédito 2
A39: C. Crédito XX
A40: FUENTE: Elaborados con información del CONAC. Criterios para la elaboración y presentación homogénea de la información financiera y de los formatos a que hace referencia la Ley de Disciplina Financiera de las Entidades Federativas y los Municipios.

Sheet F3. IAODF
A1: Formato 3 | B1: Informe Analítico de Obligaciones Diferentes de Financiamientos - LDF
A3: Servicios de Salud de Durango
A4: Informe Analítico de Obligaciones Diferentes de Financiamientos – LDF
A5: Del 1 de enero al 31 de dicimebre de 2022
A6: (PESOS)
A7: Denominación de las Obligaciones Diferentes de Financiamiento (c) | B7: Fecha del Contrato (d) | C7: Fecha de inicio de operación del proyecto (e) | D7: Fecha de vencimiento (f) | E7: Monto de la inversión pactado (g) | F7: Plazo pactado (h) | G7: Monto promedio mensual del pago de la contraprestación (i) | H7: Monto promedio mensual del pago de la contraprestación correspondiente al pago de inversión (j) | I7: Monto pagado de la inversión al 30 de septiembre de 2019 (k) | J7: Monto pagado de la inversión actualizado al 30 de septiembre de 2019 (l) | K7: Saldo pendiente por pagar de la inversión al 30 de septiembre de 2019 (m = g – l)
A9: A. Asociaciones Público Privadas (APP’s) (A=a+b+c+d) | E9: =+E10+E11+E12+E13 -> 0 | I9: =+I10+I11+I12+I13 -> 0 | J9: =+J10+J11+J12+J13 -> 0 | K9: =+K10+K11+K12+K13 -> 0
A10: a) APP 1
A11: b) APP 2
A12: c) APP 3
A13: d) APP XX
A15: B. Otros Instrumentos (B=a+b+c+d) | E15: =+E16+E17+E18+E19 -> 0 | K15: =+K16+K17+K18+K19 -> 0
A16: a) Otro Instrumento 1
A17: b) Otro Instrumento 2
A18: c) Otro Instrumento 3
A19: d) Otro Instrumento XX
A21: C. Total de Obligaciones Diferentes de Financiamiento (C=A+B) | E21: =+E9+E15 -> 0 | K21: =+K9+K15 -> 0

Sheet F4. BALPRESUP
D3: Servicios de Salud de Durango
D4: Balance Presupuestario - LDF
D5: Del 1 de enero al 30 de septiembre de 2022 (b)
D6: (PESOS)
D8: Concepto (c) | E8: Estimado/ Aprobado (d) | F8: Devengado | G8: Recaudado/ Pagado
D9: A. Ingresos Totales (A = A1+A2+A3) | E9: =+E10+E11+E12 -> 2973031850 | F9: =+F10+F11+F12 -> 4.4123347e+09 | G9: =+G10+G11+G12 -> 4.2321849e+09
D10: A1. Ingresos de Libre Disposición | E10: =+E39 -> 251478066 | F10: =+F39 -> 5.8639933e+08 | G10: =+G39 -> 4.4388955e+08
D11: A2. Transferencias Federales Etiquetadas | E11: =+E49 -> 2721553784 | F11: =+F49 -> 3.8259353e+09 | G11: =+G49 -> 3.7882953e+09
D12: A3. Financiamiento Neto | E12: =+E36 -> 0 | F12: =+F36 -> 0 | G12: =+G36 -> 0
D13: B. Egresos Presupuestarios1 (B = B1+B2) | E13: =+E14+E15 -> 2973031850 | F13: =+F14+F15 -> 4.3781241e+09 | G13: =+G14+G15 -> 3.8529154e+09
D14: B1. Gasto No Etiquetado (sin incluir Amortización de la Deuda Pública) | E14: =+'F6a. EAEPE OG'!D10 -> 251478066 | F14: ='F6a. EAEPE OG'!G10 -> 5.7116228e+08 | G14: ='F6a. EAEPE OG'!H10 -> 3.9563173e+08
D15: B2. Gasto Etiquetado (sin incluir Amortización de la Deuda Pública) | E15: =+E53 -> 2721553784 | F15: =+F53 -> 3.8069618e+09 | G15: =+G53 -> 3.4572837e+09
D16: C. Remanentes del Ejercicio Anterior ( C = C1 + C2 ) | E16: =+E17+E18 -> 0 | F16: =+F17+F18 -> 0 | G16: =+G17+G18 -> 0
D17: C1. Remanentes de Ingresos de Libre Disposición aplicados en el periodo | E17: 0 | F17: 0 | G17: 0
D18: C2. Remanentes de Transferencias Federales Etiquetadas aplicados en el periodo | E18: 0 | F18: 0 | G18: 0
D19: I. Balance Presupuestario (I = A – B + C) | E19: =+E9-E13+E16 -> 0 | F19: =+F9-F13+F16 -> 34210551 | G19: =+G9-G13+G16 -> 3.7926945e+08
D20: II. Balance Presupuestario sin Financiamiento Neto (II = I - A3) | E20: =+E19-E36 -> 0 | F20: =+F19-F36 -> 34210551 | G20: =+G19-G36 -> 3.7926945e+08
D21: III. Balance Presupuestario sin Financiamiento Neto y sin Remanentes del Ejercicio Anterior (III= II - C) | E21: =+E20-E16 -> 0 | F21: =+F20-F16 -> 34210551 | G21: =+G20-G16 -> 3.7926945e+08
D23: Concepto | E23: Aprobado | F23: Devengado | G23: Pagado
D24: E. Intereses, Comisiones y Gastos de la Deuda (E = E1+E2) | E24: =+E25+E26 -> 0 | F24: =+F25+F26 -> 0 | G24: =+G25+G26 -> 0
D25: E1. Intereses, Comisiones y Gastos de la Deuda con Gasto No Etiquetado | E25: =+'F6a. EAEPE OG'!D75-'F6a. EAEPE OG'!D76 -> 0 | F25: 0 | G25: 0
D26: E2. Intereses, Comisiones y Gastos de la Deuda con Gasto Etiquetado | E26: =+'F6a. EAEPE OG'!D147 -> 0 | F26: =+'F6a. EAEPE OG'!G148 -> 0 | G26: =+'F6a. EAEPE OG'!H148 -> 0
D27: IV. Balance Primario (IV = III + E) | E27: =+E21+E24 -> 0 | F27: =+F21+F24 -> 34210551 | G27: =+G21+G24 -> 3.7926945e+08
D29: Concepto | E29: Estimado/ Aprobado | F29: Devengado | G29: Recaudado/ Pagado
D30: F. Financiamiento (F = F1 + F2) | E30: =+E31+E32 -> 0 | F30: =+F31+F32 -> 0 | G30: =+G31+G32 -> 0
D31: F1. Financiamiento con Fuente de Pago de Ingresos de Libre Disposición | E31: =+'F5. EAID'!B68 -> 0 | F31: =+'F5. EAID'!E68 -> 0 | G31: =+'F5. EAID'!F68 -> 0
D32: F2. Financiamiento con Fuente de Pago de Transferencias Federales Etiquetadas | E32: =+'F5. EAID'!B69 -> 0 | F32: =+'F5. EAID'!E69 -> 0 | G32: =+'F5. EAID'!F69 -> 0
D33: G. Amortización de la Deuda (G = G1 + G2) | E33: =+E34+E35 -> 0 | F33: =+F34+F35 -> 0 | G33: =+G34+G35 -> 0
D34: G1. Amortización de la Deuda Pública con Gasto No Etiquetado | E34: =+'F6a. EAEPE OG'!D76 -> 0 | F34: =+'F6a. EAEPE OG'!G76 -> 0 | G34: =+'F6a. EAEPE OG'!H76 -> 0
D35: G2. Amortización de la Deuda Pública con Gasto Etiquetado | E35: =+'F6a. EAEPE OG'!D149 -> 0 | F35: =+'F6a. EAEPE OG'!G149 -> 0 | G35: =+'F6a. EAEPE OG'!H149 -> 0
D36: A3. Financiamiento Neto (A3 = F – G ) | E36: =+E30-E33 -> 0 | F36: =+F30-F33 -> 0 | G36: =+G30-G33 -> 0
D38: Concepto | E38: Estimado/ Aprobado | F38: Devengado | G38: Recaudado/ Pagado
D39: A1. Ingresos de Libre Disposición | E39: =+'F5. EAID'!B41 -> 251478066 | F39: =+'F5. EAID'!E41 -> 5.8639933e+08 | G39: =+'F5. EAID'!F41 -> 4.4388955e+08
D40: A3.1 Financiamiento Neto con Fuente de Pago de Ingresos de Libre Disposición (A3.1 = F1 – G1) | E40: =+E41-E42 -> 0 | F40: =+F41-F42 -> 0 | G40: =+G41-G42 -> 0
D41: F1. Financiamiento con Fuente de Pago de Ingresos de Libre Disposición | E41: =+'F5. EAID'!B68 -> 0 | F41: =+'F5. EAID'!E68 -> 0 | G41: =+'F5. EAID'!F68 -> 0
D42: G1. Amortización de la Deuda Pública con Gasto No Etiquetado | E42: =+E34 -> 0 | F42: =+F34 -> 0 | G42: =+G34 -> 0
D43: B1. Gasto No Etiquetado (sin incluir Amortización de la Deuda Pública) | E43: =+'F6a. EAEPE OG'!D10-'F6a. EAEPE OG'!D76 -> 251478066 | F43: ='F6a. EAEPE OG'!G10 -> 5.7116228e+08 | G43: =+'F6a. EAEPE OG'!H10-'F6a. EAEPE OG'!H76 -> 3.9563173e+08
D44: C1. Remanentes de Ingresos de Libre Disposición aplicados en el periodo | E44: 0 | F44: 0 | G44: 0
D45: V. Balance Presupuestario de Recursos Disponibles (V = A1 + A3.1 – B 1 + C1) | E45: =+E39+E40-E43+E44 -> 0 | F45: =+F39+F40-F43+F44 -> 15237053 | G45: =+G39+G40-G43+G44 -> 48257818
D46: VI. Balance Presupuestario de Recursos Disponibles sin Financiamiento Neto (VI = V – A3.1) | E46: =+E45-E40 -> 0 | F46: =+F45-F40 -> 15237053 | G46: =+G45-G40 -> 48257818
...

Sheet F5. EAID
A1: CUADRO 6
A2: Servicios de Salud de Durango
A3: Estado Analitico de ingresos Detallado - LDF
A4: Del 1 de enero al 31 de diciembre de 2022
A5: (Pesos)
A7: Concepto ( c) | B7: Ingresos | G7: Diferencia ( e)
B8: Estimado (d) | C8: Ampliaciones/ (Reducciones) | D8: Modificado | E8: Devengado | F8: Recaudado
A9: Ingresos de Libre Disposición
A10: A. Impuestos | B10: 0 | C10: 0 | D10: 0 | E10: 0 | F10: 0 | G10: 0
A11: B. Cuotas y Aportaciones de Seguridad Social | B11: 0 | C11: 0 | D11: 0 | E11: 0 | F11: 0 | G11: 0
A12: C. Contribuciones de mejoras | B12: 0 | C12: 0 | D12: 0 | E12: 0 | F12: 0 | G12: 0
A13: D. Derechos | B13: 0 | C13: 0 | D13: 0 | E13: 0 | F13: 0 | G13: 0
A14: E. Productos | B14: 0 | C14: 84278.59 | D14: 84278.59 | E14: 84278.59 | F14: 84278.59 | G14: 84278.59
A15: F. Aprovechamientos | B15: 0 | C15: 0 | D15: 0 | E15: 0 | F15: 0 | G15: 0
A16: G. Ingresos por Venta de Bienes y Servicios | B16: 0 | C16: 27090354 | D16: 27090354 | E16: 27090354 | F16: 27090354 | G16: 27090354
A17: H. Participaciones (H=h1+h2+h3+h4+h5+h6+h7+h8+h9+h10+h11) | B17: 0 | C17: 0 | D17: 0 | E17: 0 | F17: 0 | G17: 0
A18: h1) Fondo General de Participaciones | B18: 0 | C18: 0 | D18: 0 | E18: 0 | F18: 0 | G18: 0
A19: h2) Fondo de Fomento Municipal | B19: 0 | C19: 0 | D19: 0 | E19: 0 | F19: 0 | G19: 0
A20: h3) Fondo de Fiscalización y Recaudación | B20: 0 | C20: 0 | D20: 0 | E20: 0 | F20: 0 | G20: 0
A21: h4) Fondo de Compensación | B21: 0 | C21: 0 | D21: 0 | E21: 0 | F21: 0 | G21: 0
... A41: I. Total de ingresos de Libre Disposición (I=A+B+C+D+E+F+G+H+I+J+K+L) | B41: 251478066 | C41: 3.3492127e+08 | D41: 5.8639933e+08 | E41: 5.8639933e+08 | F41: 4.4388955e+08 | G41: 1.9241148e+08
A42: Ingresos Excedentes de Ingresos de Libre Disposición
A43: Transferencias Federales Etiquetadas
A44: A. Aportaciones (A=a1+a2+a3+a4+a5+a6+a7+a8) | B44: 0 | C44: 0 | D44: 0 | E44: 0 | F44: 0 | G44: 0
A45: a1) Fondo de Aportaciones para la Nómina Educativa y Gasto Operativo | B45: 0 | C45: 0 | D45: 0 | E45: 0 | F45: 0 | G45: 0
A46: a2) Fondo de Aportaciones para los Servicios de Salud | B46: 0 | C46: 0 | D46: 0 | E46: 0 | F46: 0 | G46: 0
A47: a3) Fondo de Aportaciones para la Infraestructura Social | B47: 0 | C47: 0 | D47: 0 | E47: 0 | F47: 0 | G47: 0
A48: a4) Fondo de Aportaciones para el Fortalecimiento de los Municipios y de las Demarcaciones Territoriales del Distrito Federal | B48: 0 | C48: 0 | D48: 0 | E48: 0 | F48: 0 | G48: 0
A49: a5) Fondo de Aportaciones Múltiples | B49: 0 | C49: 0 | D49: 0 | E49: 0 | F49: 0 | G49: 0
A50: a6) Fondo de Aportaciones Para la Educación Tecnológica y de Adultos | B50: 0 | C50: 0 | D50: 0 | E50: 0 | F50: 0 | G50: 0
A51: a7) Fondo de Aportaciones para la Seguridad Publica de los Estados y del Distrito Federal | B51: 0 | C51: 0 | D51: 0 | E51: 0 | F51: 0 | G51: 0
A52: a8) Fondo de Aportaciones para el Fortalecimiento de las Entidades Federativas | B52: 0 | C52: 0 | D52: 0 | E52: 0 | F52: 0 | G52: 0
A53: B. Convenios (B=b1+b2+b3+b4) | B53: 0 | C53: 0 | D53: 0 | E53: 0 | F53: 0 | G53: 0
A54: b1) Convenios de Protección social en Salud | B54: 0 | C54: 0 | D54: 0 | E54: 0 | F54: 0 | G54: 0
A55: b2) Convenios de Descentralización | B55: 0 | C55: 0 | D55: 0 | E55: 0 | F55: 0 | G55: 0
... A70: 3. Ingresos Derivados de financiamientos (3=1+2) | B70: 0 | C70: 0 | D70: 0 | E70: 0 | F70: 0 | G70: 0
A71: FUENTE: Elaborados con información del CONAC. Criterios para la elaboracion y presentación homogénea de la información financiera y de los formatos a que hace referencia la Ley de Disciplina Financiera de las Entidades Federativas y los Municipios.
A72: NOTA: Ingresos Excedentes de Ingresos de Libre Disposición.- En este rubro representa la suma de los Ingresos que se han registrado adicional al Ingreso Estimado.
A73: NOTA: En el caso que los Organismos reciban recursos del Ramo 33, estos deberán reflejarse como Transferencias, y no dentro del Fondo de Aportaciones del Ramo 33 correspondiente, unicamente el poder Ejecutivo es quin lo reflejara como Aportaciones.

Sheet F6a. EAEPE OG
B2: Servicios de Salud de Durango
B3: Estado Analítico del Ejercicio del Presupuesto de Egresos Detallado - LDF
B4: Clasificación por Objeto del Gasto (Capítulo y Concepto)
B5: Del 1 de enero al 31 de diciembre de 2022
B7: Concepto | I7: Subejercicio
D8: Aprobado | E8: Ampliaciones/ (Reducciones) | F8: Modificado | G8: Devengado | H8: Pagado
D9: 1 | E9: 2 | F9: 3 = ( 1+2 ) | G9: 4 | H9: 5 | I9: 6 = ( 3-4 )
B10: I. Gasto No Etiquetado | D10: =+D11+D19+D29+D39+D49+D59+D63+D71+D75 -> 251478066 | E10: 3.3492127e+08 | F10: =+F11+F19+F29+F39+F49+F59+F63+F71+F75 -> 5.8639933e+08 | G10: =+G11+G19+G29+G39+G49+G59+G63+G71+G75 -> 5.7116228e+08 | H10: =+H11+H19+H29+H39+H49+H59+H63+H71+H75 -> 3.9563173e+08 | I10: =+I11+I19+I29+I39+I49+I59+I63+I71+I75 -> 15237053
B11: A. Servicios Personales | D11: =SUM(D12:D18) -> 103086210 | E11: 52728045 | F11: =SUM(F12:F18) -> 1.5581425e+08 | G11: =SUM(G12:G18) -> 1.5576427e+08 | H11: =SUM(H12:H18) -> 1.3106037e+08 | I11: =SUM(I12:I18) -> 49982.02
B12: a1) | C12: Remuneraciones al Personal de Carácter Permanente | D12: 0 | E12: 0 | F12: 0 | G12: 0 | H12: 0 | I12: =+F12-G12 -> 0
B13: a2) | C13: Remuneraciones al Personal de Carácter Transitorio | D13: 41200000 | E13: 1878174.4 | F13: 43078174 | G13: 43072678 | H13: 42998345 | I13: =+F13-G13 -> 5496.28
B14: a3) | C14: Remuneraciones Adicionales y Especiales | D14: 20000000 | E14: 12272545 | F14: 32272545 | G14: 32272545 | H14: 32270064 | I14: =+F14-G14 -> 0
B15: a4) | C15: Seguridad Social | D15: 0 | E15: 1750214 | F15: 1750214 | G15: 1750214 | H15: 1685570.2 | I15: =+F15-G15 -> 0
B16: a5) | C16: Otras Prestaciones Sociales y Económicas | D16: 20000000 | E16: 56924520 | F16: 76924520 | G16: 76880034 | H16: 52317589 | I16: =+F16-G16 -> 44485.74
B17: a6) | C17: Previsiones | D17: 21886210 | E17: -21886210 | F17: 0 | G17: 0 | H17: 0 | I17: =+F17-G17 -> 0
B18: a7) | C18: Pago de Estímulos a Servidores Públicos | D18: 0 | E18: 1788801.8 | F18: 1788801.8 | G18: 1788801.8 | H18: 1788801.8 | I18: =+F18-G18 -> 0
B19: B. Materiales y Suministros | D19: =SUM(D20:D28) -> 130471180 | E19: -74174871 | F19: =SUM(F20:F28) -> 56296309 | G19: =SUM(G20:G28) -> 56048551 | H19: =SUM(H20:H28) -> 46811409 | I19: =SUM(I20:I28) -> 247758.5
B20: b1) | C20: Materiales de Administración Emisión de Documentos y Artículos Oficiales | D20: 0 | E20: 1981118.8 | F20: 1981118.8 | G20: 1981118.8 | H20: 1451497.1 | I20: =+F20-G20 -> 0
B21: b2) | C21: Alimentos y Utensilios | D21: 0 | E21: 1002035.3 | F21: 1002035.3 | G21: 1002035.3 | H21: 945159.75 | I21: =+F21-G21 -> 0
B22: b3) | C22: Materias Primas y Materiales de Producción y Comercialización | D22: 0 | E22: 0 | F22: 0 | G22: 0 | H22: 0 | I22: =+F22-G22 -> 0
B23: b4) | C23: Materiales y Artículos de Construcción y de Reparación | D23: 0 | E23: 93819.56 | F23: 93819.56 | G23: 93819.56 | H23: 93819.56 | I23: =+F23-G23 -> 0
B24: b5) | C24: Productos Químicos, Farmacéuticos y de Laboratorio | D24: 130471180 | E24: -81562270 | F24: 48908910 | G24: 48670345 | H24: 41589950 | I24: =+F24-G24 -> 238565.34
B25: b6) | C25: Combustibles, Lubricantes y Aditivos | D25: 0 | E25: 1204605.6 | F25: 1204605.6 | G25: 1198205.4 | H25: 1139621.9 | I25: =+F25-G25 -> 6400.16
B26: b7) | C26: Vestuario, Blancos, Prendas de Protección y Artículos Deportivos | D26: 0 | E26: 2437079 | F26: 2437079 | G26: 2434286 | H26: 1108256.5 | I26: =+F26-G26 -> 2793
B27: b8) | C27: Materiales y Suministros para Seguridad | D27: 0 | E27: 0 | F27: 0 | G27: 0 | H27: 0 | I27: =+F27-G27 -> 0
B28: b9) | C28: Herramientas, Refacciones y Accesorios Menores | D28: 0 | E28: 668741 | F28: 668741 | G28: 668741 | H28: 483103.88 | I28: =+F28-G28 -> 0
B29: C. Servicios Generales | D29: =SUM(D30:D38) -> 4694279 | E29: 1.8265288e+08 | F29: =SUM(F30:F38) -> 1.8734716e+08 | G29: =SUM(G30:G38) -> 1.7244985e+08 | H29: =SUM(H30:H38) -> 1.0146887e+08 | I29: =SUM(I30:I38) -> 14897312
B30: c1) | C30: Servicios Básicos | D30: 0 | E30: 541260.14 | F30: 541260.14 | G30: 541260.14 | H30: 541260.14 | I30: =+F30-G30 -> 0
B31: c2) | C31: Servicios de Arrendamiento | D31: 1200000 | E31: 907620.13 | F31: 2107620.1 | G31: 2106530.1 | H31: 1543484.7 | I31: =+F31-G31 -> 1090
B32: c3) | C32: Servicios Profesionales, Científicos, Técnicos y Otros Servicios | D32: 2673460 | E32: 31921938 | F32: 34595398 | G32: 33098693 | H32: 27911124 | I32: =+F32-G32 -> 1496704.7
B33: c4) | C33: Servicios Financieros, Bancarios y Comerciales | D33: 0 | E33: 13508738 | F33: 13508738 | G33: 323419.79 | H33: 12293.68 | I33: =+F33-G33 -> 13185318
B34: c5) | C34: Servicios de Instalación, Reparación, Mantenimiento y Conservación | D34: 820819 | E34: 1.0436501e+08 | F34: 1.0518583e+08 | G34: 1.0499023e+08 | H34: 47195116 | I34: =+F34-G34 -> 195599.2
B35: c6) | C35: Servicios de Comunicación Social y Publicidad | D35: 0 | E35: 0 | F35: 0 | G35: 0 | H35: 0 | I35: =+F35-G35 -> 0
B36: c7) | C36: Servicios de Traslado y Viáticos | D36: 0 | E36: 2504997.1 | F36: 2504997.1 | G36: 2497997.1 | H36: 2484057.1 | I36: =+F36-G36 -> 7000
B37: c8) | C37: Servicios Oficiales | D37: 0 | E37: 2003625.8 | F37: 2003625.8 | G37: 1992025.8 | H37: 1887122.8 | I37: =+F37-G37 -> 11600
B38: c9) | C38: Otros Servicios Generales | D38: 0 | E38: 26899687 | F38: 26899687 | G38: 26899687 | H38: 19894412 | I38: =+F38-G38 -> 0
B39: D. Transferencias, Asignaciones, Subsidios y Otras Ayudas | D39: =SUM(D40:D48) -> 7800000 | E39: 681738.81 | F39: =SUM(F40:F48) -> 8481738.8 | G39: =SUM(G40:G48) -> 8439738.8 | H39: =SUM(H40:H48) -> 7047891.5 | I39: =SUM(I40:I48) -> 42000
B40: d1) | C40: Transferencias Internas y Asignaciones al Sector Publico | D40: 0 | E40: 0 | F40: 0 | G40: 0 | H40: 0 | I40: =+F40-G40 -> 0
B41: d2) | C41: Transferencias al Resto del Sector Publico | D41: 0 | E41: 0 | F41: 0 | G41: 0 | H41: 0 | I41: =+F41-G41 -> 0
B42: d3) | C42: Subsidios y Subvenciones | D42: 7800000 | E42: 681738.81 | F42: 8481738.8 | G42: 8439738.8 | H42: 7047891.5 | I42: =+F42-G42 -> 42000
...

Sheet F6b. EAEPE ADMVA
A1: Servicios de Salud de Durango
A2: Estado Analítico del Ejercicio del Presupuesto de Egresos - LDF
A3: Clasificación Administrativa
A4: ='F5. EAID'!A4:G4 -> Del 1 de enero al 31 de diciembre de 2022
A5: (Pesos)
A7: Concepto | B7: Egresos | G7: Subejercicio
B8: Aprobado | C8: Ampliaciones/ (Reducciones) | D8: Modificado | E8: Devengado | F8: Pagado
A9: I. Gasto No Etiquetado | B9: =SUM(B10:B16) -> 251478066 | C9: =SUM(C10:C16) -> 3.3492127e+08 | D9: =SUM(D10:D16) -> 5.8639933e+08 | E9: =SUM(E10:E16) -> 5.7116228e+08 | F9: =SUM(F10:F16) -> 3.9563173e+08 | G9: =SUM(G10:G16) -> 15237053
A10: SERVICIOS DE SALUD DE DURANGO | B10: =+'F6a. EAEPE OG'!D10 -> 251478066 | C10: =+'F6a. EAEPE OG'!E10 -> 3.3492127e+08 | D10: =+'F6a. EAEPE OG'!F10 -> 5.8639933e+08 | E10: =+'F6a. EAEPE OG'!G10 -> 5.7116228e+08 | F10: =+'F6a. EAEPE OG'!H10 -> 3.9563173e+08 | G10: =+'F6a. EAEPE OG'!I10 -> 15237053
A18: II. Gasto Etiquetado (II=A+B+C+D+E+F+G+H) | B18: =SUM(B19:B25) -> 2721553784 | C18: =SUM(C19:C25) -> 1.1046449e+09 | D18: =SUM(D19:D25) -> 3.8261987e+09 | E18: =SUM(E19:E25) -> 3.8069618e+09 | F18: =SUM(F19:F25) -> 3.4572837e+09 | G18: =SUM(G19:G25) -> 19236853
A19: SERVICIOS DE SALUD DE DURANGO | B19: ='F6a. EAEPE OG'!D83 -> 2721553784 | C19: ='F6a. EAEPE OG'!E83 -> 1.1046449e+09 | D19: ='F6a. EAEPE OG'!F83 -> 3.8261987e+09 | E19: ='F6a. EAEPE OG'!G83 -> 3.8069618e+09 | F19: ='F6a. EAEPE OG'!H83 -> 3.4572837e+09 | G19: ='F6a. EAEPE OG'!I83 -> 19236853
A27: III. Total de Egresos | B27: =+B9+B18 -> 2973031850 | C27: =+C9+C18 -> 1.4395662e+09 | D27: =+D9+D18 -> 4.412598e+09 | E27: =+E9+E18 -> 4.3781241e+09 | F27: =+F9+F18 -> 3.8529154e+09 | G27: =+G9+G18 -> 34473905

Sheet F6c. EAEPE FUNCION
B1: Servicios de Salud de Durango
B2: Estado Analítico del Ejercicio del Presupuesto de Egresos Detallado - LDF
B3: Clasificación Funcional (Finalidad y Función)
B4: Del 1 de enero al 31 de diciembre de 2022
B5: (Pesos)
B7: Concepto | D7: Egresos | I7: Subejercicio
D8: Aprobado | E8: Ampliaciones/ Reducciones | F8: Modificado | G8: Devengado | H8: Pagado
B10: I. Gasto No Etiquetado (I=A+B+C+D) | D10: =+D23+D38 -> 251478066 | E10: =+E23+E38 -> 3.3492127e+08 | F10: =+F23+F38 -> 5.8639933e+08 | G10: =+G23+G38 -> 5.7116228e+08 | H10: =+H23+H38 -> 3.9563173e+08 | I10: =+I23+I38 -> 15237053
B11: A. Gobierno (A=a1+a2+a3+a4+a5+a6+a7+a8) | D11: =SUM(D12:D19) -> 0 | E11: =SUM(E12:E19) -> 0 | F11: =SUM(F12:F19) -> 0 | G11: =SUM(G12:G19) -> 0 | H11: =SUM(H12:H19) -> 0 | I11: =SUM(I12:I19) -> 0
C12: a1) Legislación | D12: 0 | E12: 0 | F12: 0 | G12: 0 | H12: 0 | I12: 0
C13: a2) Justicia | D13: 0 | E13: 0 | F13: 0 | G13: 0 | H13: 0 | I13: 0
C14: a3) Coordinación de la Política de Gobierno | D14: 0 | E14: 0 | F14: 0 | G14: 0 | H14: 0 | I14: 0
C15: a4) Relaciones Exteriores | D15: 0 | E15: 0 | F15: 0 | G15: 0 | H15: 0 | I15: 0
C16: a5) Asuntos Financieros y Hacendarios | D16: 0 | E16: 0 | F16: 0 | G16: 0 | H16: 0 | I16: 0
C17: a6) Seguridad Nacional | D17: 0 | E17: 0 | F17: 0 | G17: 0 | H17: 0 | I17: 0
C18: a7) Asuntos de Orden Público y de Seguridad Interior | D18: 0 | E18: 0 | F18: 0 | G18: 0 | H18: 0 | I18: 0
C19: a8) Otros Servicios Generales | D19: 0 | E19: 0 | F19: 0 | G19: 0 | H19: 0 | I19: 0
B20: B. Desarrollo Social (B=b1+b2+b3+b4+b5+b6+b7) | D20: =SUM(D21:D27) -> 251478066 | E20: =SUM(E21:E27) -> 3.0970895e+08 | F20: =SUM(F21:F27) -> 5.6118702e+08 | G20: =SUM(G21:G27) -> 5.4594997e+08 | H20: =SUM(H21:H27) -> 3.7041942e+08 | I20: =SUM(I21:I27) -> 15237053
C21: b1) Protección Ambiental | D21: 0 | E21: 0 | F21: 0 | G21: 0 | H21: 0 | I21: 0
C22: b2) Vivienda y Servicios a la Comunidad | D22: 0 | E22: 0 | F22: 0 | G22: 0 | H22: 0 | I22: 0
C23: b3) Salud | D23: =+'F6a. EAEPE OG'!D11+'F6a. EAEPE OG'!D19+'F6a. EAEPE OG'!D29+'F6a. EAEPE OG'!D39+'F6a. EAEPE OG'!D49+'F6a. EAEPE OG'!D59 -> 251478066 | E23: =+'F6a. EAEPE OG'!E11+'F6a. EAEPE OG'!E19+'F6a. EAEPE OG'!E29+'F6a. EAEPE OG'!E39+'F6a. EAEPE OG'!E49+'F6a. EAEPE OG'!E59 -> 3.0970895e+08 | F23: =+'F6a. EAEPE OG'!F11+'F6a. EAEPE OG'!F19+'F6a. EAEPE OG'!F29+'F6a. EAEPE OG'!F39+'F6a. EAEPE OG'!F49+'F6a. EAEPE OG'!F59 -> 5.6118702e+08 | G23: =+'F6a. EAEPE OG'!G11+'F6a. EAEPE OG'!G19+'F6a. EAEPE OG'!G29+'F6a. EAEPE OG'!G39+'F6a. EAEPE OG'!G49+'F6a. EAEPE OG'!G59 -> 5.4594997e+08 | H23: =+'F6a. EAEPE OG'!H11+'F6a. EAEPE OG'!H19+'F6a. EAEPE OG'!H29+'F6a. EAEPE OG'!H39+'F6a. EAEPE OG'!H49+'F6a. EAEPE OG'!H59 -> 3.7041942e+08 | I23: =+'F6a. EAEPE OG'!I11+'F6a. EAEPE OG'!I19+'F6a. EAEPE OG'!I29+'F6a. EAEPE OG'!I39+'F6a. EAEPE OG'!I49+'F6a. EAEPE OG'!I59 -> 15237053
C24: b4) Recreación, Cultura y Otras Manifestaciones Sociales | D24: 0 | E24: 0 | F24: 0 | G24: 0 | H24: 0 | I24: 0
C25: b5) Educación | D25: 0 | E25: 0 | F25: 0 | G25: 0 | H25: 0 | I25: 0
C26: b6) Protección Social | D26: 0 | E26: 0 | F26: 0 | G26: 0 | H26: 0 | I26: 0
C27: b7) Otros Asuntos Sociales | D27: 0 | E27: 0 | F27: 0 | G27: 0 | H27: 0 | I27: 0
B28: C. Desarrollo Económico (C=c1+c2+c3+c4+c5+c6+c7+c8+c9) | D28: =SUM(D29:D37) -> 0 | E28: =SUM(E29:E37) -> 0 | F28: =SUM(F29:F37) -> 0 | G28: =SUM(G29:G37) -> 0 | H28: =SUM(H29:H37) -> 0 | I28: =SUM(I29:I37) -> 0
C29: c1) Asuntos Económicos, Comerciales y Laborales en General | D29: 0 | E29: 0 | F29: 0 | G29: 0 | H29: 0 | I29: 0
C30: c2) Agropecuaria, Silvicultura, Pesca y Caza | D30: 0 | E30: 0 | F30: 0 | G30: 0 | H30: 0 | I30: 0
C31: c3) Combustibles y Energía | D31: 0 | E31: 0 | F31: 0 | G31: 0 | H31: 0 | I31: 0
C32: c4) Minería, Manufacturas y Construcción | D32: 0 | E32: 0 | F32: 0 | G32: 0 | H32: 0 | I32: 0
C33: c5) Transporte | D33: 0 | E33: 0 | F33: 0 | G33: 0 | H33: 0 | I33: 0
C34: c6) Comunicaciones | D34: 0 | E34: 0 | F34: 0 | G34: 0 | H34: 0 | I34: 0
C35: c7) Turismo | D35: 0 | E35: 0 | F35: 0 | G35: 0 | H35: 0 | I35: 0
C36: c8) Ciencia, Tecnología e Innovación | D36: 0 | E36: 0 | F36: 0 | G36: 0 | H36: 0 | I36: 0
C37: c9) Otras Industrias y Otros Asuntos Económicos | D37: 0 | E37: 0 | F37: 0 | G37: 0 | H37: 0 | I37: 0
B38: D. Otras No Clasificadas en Funciones Anteriores (D=d1+d2+d3+d4) | D38: =SUM(D39:D42) -> 0 | E38: =SUM(E39:E42) -> 25212314 | F38: =SUM(F39:F42) -> 25212314 | G38: =SUM(G39:G42) -> 25212314 | H38: =SUM(H39:H42) -> 25212314 | I38: =SUM(I39:I42) -> 0
C39: d1) Transacciones de la Deuda Publica / Costo Financiero de la Deuda | D39: 0 | E39: 0 | F39: 0 | G39: 0 | H39: 0 | I39: 0
C40: d2) Transferencias, Participaciones y Aportaciones Entre Diferentes Niveles y Ordenes de Gobierno | D40: 0 | E40: 0 | F40: 0 | G40: 0 | H40: 0 | I40: 0
C41: d3) Saneamiento del Sistema Financiero | D41: 0 | E41: 0 | F41: 0 | G41: 0 | H41: 0 | I41: 0
C42: d4) Adeudos de Ejercicios Fiscales Anteriores | D42: ='F6a. EAEPE OG'!D82 -> 0 | E42: ='F6a. EAEPE OG'!E82 -> 25212314 | F42: ='F6a. EAEPE OG'!F82 -> 25212314 | G42: ='F6a. EAEPE OG'!G82 -> 25212314 | H42: ='F6a. EAEPE OG'!H82 -> 25212314 | I42: ='F6a. EAEPE OG'!I82 -> 0
...

Sheet F6d. EAEPE SP
B2: Servicios de Salud de Durango
B3: Estado Analítico del Ejercicio del Presupuesto de Egresos Detallado - LDF
B4: Clasificación de Servicios Personales por Categoría
B5: Del 1 de enero al 31 de diciembre de 2022
B6: (Pesos)
B8: Concepto | C8: Egresos | H8: Subejercicio
C9: Aprobado | D9: Ampliaciones/ (Reducciones) | E9: Modificado | F9: Devengado | G9: Pagado
B10: I. Gasto No Etiquetado | C10: =SUM(C11:C20) -> 103086210 | D10: =SUM(D11:D20) -> 52728045 | E10: =SUM(E11:E20) -> 1.5581425e+08 | F10: =SUM(F11:F20) -> 1.5576427e+08 | G10: =SUM(G11:G20) -> 1.3106037e+08 | H10: =SUM(H11:H20) -> 49982.02
B11: A. Personal Administrativo y de Servicio Público | C11: 0 | D11: 0 | E11: 0 | F11: 0 | G11: 0 | H11: =+E11-F11 -> 0
B12: B. Magisterio | C12: 0 | D12: 0 | E12: 0 | F12: 0 | G12: 0 | H12: =+E12-F12 -> 0
B13: C. Servicios de Salud (C=c1+c2) | C13: 0 | D13: 0 | E13: 0 | F13: 0 | G13: 0 | H13: =+E13-F13 -> 0
B14: c1) Personal Administrativo | C14: 101886210 | D14: =+E14-C14 -> -27368278 | E14: 74517932 | F14: 74681393 | G14: 68319517 | H14: =+E14-F14 -> -163460.82
B15: c2) Personal Médico, Paramédico y afín | C15: 1200000 | D15: =+E15-C15 -> 66115872 | E15: 67315872 | F15: 67310376 | G15: 48968350 | H15: =+E15-F15 -> 5496.28
B16: D. Seguridad Pública | F16: 0 | G16: 0 | H16: =+E16-F16 -> 0
B17: E. Gastos asociados a la implementación de nuevas leyes federales o reformas a las mismas (E=e1+e2) | C17: 0 | D17: 0 | E17: 0 | F17: 0 | G17: 0 | H17: =+E17-F17 -> 0
B18: e1) Nombre del Programa o Ley 1 | C18: 0 | D18: 0 | E18: 0 | F18: 0 | G18: 0 | H18: =+E18-F18 -> 0
B19: e2) Nombre del Programa o Ley 2 | C19: 0 | D19: 0 | E19: 0 | F19: 0 | G19: 0 | H19: =+E19-F19 -> 0
B20: F. Sentencias laborales definitivas | C20: 0 | D20: =+E20-C20 -> 13980450 | E20: 13980450 | F20: 13772504 | G20: 13772504 | H20: =+E20-F20 -> 207946.56
B22: II. Gasto Etiquetado | C22: =SUM(C23:C32) -> 1593663908 | D22: =SUM(D23:D32) -> 1.0641074e+09 | E22: =SUM(E23:E32) -> 2.6577713e+09 | F22: =SUM(F23:F32) -> 2.6551395e+09 | G22: =SUM(G23:G32) -> 2.6354171e+09 | H22: =SUM(H23:H32) -> 2631822.1
B23: A. Personal Administrativo y de Servicio Público | C23: 0 | D23: 0 | E23: 0 | F23: 0 | G23: 0 | H23: 0
B24: B. Magisterio | C24: 0 | D24: 0 | E24: 0 | F24: 0 | G24: 0 | H24: 0
B25: C. Servicios de Salud (C=c1+c2) | C25: 0 | D25: 0 | E25: 0 | F25: 0 | G25: 0 | H25: 0
B26: c1) Personal Administrativo | C26: 79965562 | D26: =+E26-C26 -> 4.1719734e+08 | E26: 4.9716291e+08 | F26: 4.9682745e+08 | G26: 4.9613616e+08 | H26: =+E26-F26 -> 335458.16
B27: c2) Personal Médico, Paramédico y afín | C27: 1513698346 | D27: =+E27-C27 -> 6.4691007e+08 | E27: 2.1606084e+09 | F27: 2.1583121e+09 | G27: 2.139281e+09 | H27: =+E27-F27 -> 2296364
B28: D. Seguridad Pública | C28: 0 | D28: 0 | E28: 0 | F28: 0 | G28: 0 | H28: 0
B29: E. Gastos asociados a la implementación de nuevas leyes federales o reformas a las mismas (E=e1+e2) | C29: 0 | D29: 0 | E29: 0 | F29: 0 | G29: 0 | H29: 0
B30: e1) Nombre del Programa o Ley 1 | C30: 0 | D30: 0 | E30: 0 | F30: 0 | G30: 0 | H30: 0
B31: e2) Nombre del Programa o Ley 2 | C31: 0 | D31: 0 | E31: 0 | F31: 0 | G31: 0 | H31: 0
B32: F. Sentencias laborales definitivas | C32: 0 | D32: 0 | E32: 0 | F32: 0 | G32: 0 | H32: 0
B34: III. Total del Gasto en Servicios Personales (III = I + II) | C34: =+C10+C22 -> 1696750118 | D34: =+D10+D22 -> 1.1168355e+09 | E34: =+E10+E22 -> 2.8135856e+09 | F34: =+F10+F22 -> 2.8109038e+09 | G34: =+G10+G22 -> 2.7664775e+09 | H34: =+H10+H22 -> 2681804.1
B36: Notas:
B37: B. Magisterio.- En este rubro unicamente va lo referente a Magisterio Estatal y Federal (Incluye Telesecundarias). No aplica para el personal docente de los Organismos Públicos Descentralizados.
