Workbook

Sheet GENERAL
C2: CORREGIDO
D4: FONDO GENERAL | E4: 1774578064
D6: FONDO DE FOMENTO MUNICIPAL | E6: 716411418
D8: IMPUESTO ESPECIAL SOBRE PRODUCCIÓN Y SERVICIO | E8: 42183496
D10: IMPUESTO SOBRE AUTOMÓVILES NUEVOS | E10: 14654792
D12: FONDO DE COMPENSACIÓN DE IMPUESTO SOBRE AUTOMÓVILES NUEVOS | E12: 4261418
D14: IMPUESTO FEDERAL SOBRE TENENCIA O USO DE VEHÍCULOS
D15: (DE EJERCICIOS ANTERIORES) | E15: 54745
D17: FONDO DE FISCALIZACIÓN Y RECAUDACIÓN | E17: 111332302
D19: IEPS SOBRE VENTA DE GASOLINA Y DIESEL | E19: 67860498
D21: TOTAL | E21: 2731336733
B26: FEDERACION
D28: FONDO GENERAL | E28: 11973096619
D30: FONDO DE FOMENTO MUNICIPAL | E30: 892057282
D32: IMPUESTO ESPECIAL SOBRE PRODUCCIÓN Y SERVICIO | E32: 295749136
D34: IMPUESTO SOBRE AUTOMÓVILES NUEVOS | E34: 145200188 | F34: *
D36: FONDO DE COMPENSACIÓN DE IMPUESTO SOBRE AUTOMÓVILES NUEVOS | E36: 24362496
D38: IMPUESTO FEDERAL SOBRE TENENCIA O USO DE VEHÍCULOS
D39: (DE EJERCICIOS ANTERIORES) | E39: 0 | F39: *
D41: FONDO DE FISCALIZACIÓN Y RECAUDACIÓN | E41: 603243264
D43: IEPS SOBRE VENTA DE GASOLINA Y DIESEL | E43: 347243871 | F43: *
D45: ISR PARTICIPABLE A MUNICIPIOS (ART. 3-B LCF) | E45: 197592549 | F45: *
D47: ISR ENAJENACIÓN BIENES INMUEBLES (ART. 126 LISR) | E47: 23198378 | F47: *
D49: IMPUESTO A LA VENTA FINAL DE BEBIDAS ALCOHÓLICAS | E49: 8014608 | F49: *
D51: TOTAL | E51: 14509758391
D52: * Estimación Ley de Ingresos 2023 para el Estado de Durango
B54: ESTADO
D56: FONDO GENERAL | E56: 2394619324
D58: FONDO DE FOMENTO MUNICIPAL | E58: 892057282
D60: IMPUESTO ESPECIAL SOBRE PRODUCCIÓN Y SERVICIO | E60: 59149827
D62: IMPUESTO SOBRE AUTOMÓVILES NUEVOS | E62: 29040038
D64: FONDO DE COMPENSACIÓN DE IMPUESTO SOBRE AUTOMÓVILES NUEVOS | E64: 4872499
D66: IMPUESTO FEDERAL SOBRE TENENCIA O USO DE VEHÍCULOS
D67: (DE EJERCICIOS ANTERIORES) | E67: 0
D69: FONDO DE FISCALIZACIÓN Y RECAUDACIÓN | E69: 120648653
D71: IEPS SOBRE VENTA DE GASOLINA Y DIESEL | E71: 69448774
D73: ISR PARTICIPABLE A MUNICIPIOS (ART. 3-B LCF) | E73: 197592549
D75: ISR ENAJENACIÓN BIENES INMUEBLES (ART. 126 LISR) | E75: 4639676
D77: IMPUESTO A LA VENTA FINAL DE BEBIDAS ALCOHÓLICAS | E77: 1602922
D79: TOTAL | E79: 3773671544

Sheet CALCULO COE DE EFECTIVO
B2: Cálculo del coeficiente de efectivo del fondo acumulado para el ejercicio 2023 (Artículo 5 Ley para la Administración y Vigilancia del Sistema de Participaciones y la Colaboración Administrativa en materia Fiscal Estatal)
C4: (1) | D4: (2) | E4: (3) | F4: (4) | G4: (5) | H4: (6) | I4: (7) | J4: (8) | K4: (9) | L4: (10) | M4: (11) | P4: (12) | Q4: (13)
H5: (3+5) | J5: (1) | K5: (8) | M5: CEFA | P5: CEFAc
B6: MUNICIPIO | C6: Pi | D6: Pi/Pt | E6: 0.40*(2) | F6: CEFA(n-1)* | G6: 0.45*(4) | H6: Suma(3+5) | I6: 0.1275*(6) | J6: (3+5+7) | K6: Suma (8) | L6: 0.0225*(9) | M6: (3+5+7+10) | Q6: (12/Suma12)
B7: 01 Canatlán | C7: 31454 | D7: 1.7163124 | E7: 0.68652498 | F7: 1.7239726 | G7: 0.77578768 | H7: 1.7203678 | I7: 0.2193469 | J7: 0.59465068 | K7: 0.99777247 | L7: 0.022449881 | M7: 1.7041094 | N7: 1.8839064 | O7: -0.0030552379 | P7: 1.7041094 | Q7: 1.7041094
B8: 02 Canelas | C8: 4321 | D8: 0.23577879 | E8: 0.094311516 | F8: 0.45793032 | G8: 0.20606864 | H8: 0.35338842 | I8: 0.045057024 | J8: 2.8948823 | K8: 4.8573625 | L8: 0.10929066 | M8: 0.45472784 | N8: 1.8839064 | O8: -0.0030552379 | P8: 0.45472784 | Q8: 0.45472784
B9: 03 Coneto de Comonfort | C9: 4084 | D9: 0.2228467 | E9: 0.089138679 | F9: 0.45153285 | G9: 0.20318978 | H9: 0.34391584 | I9: 0.043849269 | J9: 2.974617 | K9: 4.9911504 | L9: 0.11230088 | M9: 0.44847862 | N9: 1.8839064 | O9: -0.0030552379 | P9: 0.44847862 | Q9: 0.44847862
B10: 04 Cuencame | C10: 34955 | D10: 1.9073473 | E10: 0.76293891 | F10: 1.8905427 | G10: 0.85074421 | H10: 1.8984507 | I10: 0.24205247 | J10: 0.53886987 | K10: 0.90417709 | L10: 0.020343985 | M10: 1.8760796 | N10: 1.8839064 | O10: -0.0030552379 | P10: 1.8760796 | Q10: 1.8760796
B11: 05 Durango | C11: 688697 | D11: 37.579298 | E11: 15.031719 | F11: 35.70362 | G11: 16.066629 | H11: 36.586292 | I11: 4.6647522 | J11: 0.027961782 | K11: 0.046917454 | L11: 0.0010556427 | M11: 35.764156 | N11: 1.8839064 | O11: -0.0030552379 | P11: 35.764156 | Q11: 35.764156
B12: 06 Simón Bolivar | C12: 10038 | D12: 0.54773143 | E12: 0.21909257 | F12: 0.66330087 | G12: 0.29848539 | H12: 0.60891525 | I12: 0.077636695 | J12: 1.6800662 | K12: 2.8190059 | L12: 0.063427632 | M12: 0.65864229 | N12: 1.8839064 | O12: -0.0030552379 | P12: 0.65864229 | Q12: 0.65864229
B13: 07 Gómez Palacio | C13: 372750 | D13: 20.339399 | E13: 8.1357597 | F13: 19.202955 | G13: 8.6413298 | H13: 19.737752 | I13: 2.5165634 | J13: 0.051830517 | K13: 0.086967129 | L13: 0.0019567604 | M13: 19.29561 | N13: 1.8839064 | O13: -0.0030552379 | P13: 19.29561 | Q13: 19.29561
B14: 08 Guadalupe Victoria | C14: 36695 | D14: 2.0022918 | E14: 0.80091671 | F14: 1.9562474 | G14: 0.88031133 | H14: 1.9779153 | I14: 0.25218421 | J14: 0.51722027 | K14: 0.86785093 | L14: 0.019526646 | M14: 1.9529389 | N14: 1.8839064 | O14: -0.0030552379 | P14: 1.9529389 | Q14: 1.9529389
B15: 09 Guanaceví | C15: 9869 | D15: 0.53850981 | E15: 0.21540392 | F15: 0.6550926 | G15: 0.29479167 | H15: 0.60023011 | I15: 0.076529339 | J15: 1.7043762 | K15: 2.859796 | L15: 0.06434541 | M15: 0.65107034 | N15: 1.8839064 | O15: -0.0030552379 | P15: 0.65107034 | Q15: 0.65107034
B16: 10 Hidalgo | C16: 3843 | D16: 0.20969634 | E16: 0.083878537 | F16: 0.4444558 | G16: 0.20000511 | H16: 0.33398076 | I16: 0.042582547 | J16: 3.0631043 | K16: 5.1396244 | L16: 0.11564155 | M16: 0.44210774 | N16: 1.8839064 | O16: -0.0030552379 | P16: 0.44210774 | Q16: 0.44210774
B17: 11 Inde | C17: 4748 | D17: 0.25907838 | E17: 0.10363135 | F17: 0.46938062 | G17: 0.21122128 | H17: 0.37041486 | I17: 0.047227895 | J17: 2.7618166 | K17: 4.6340896 | L17: 0.10426702 | M17: 0.46634754 | N17: 1.8839064 | O17: -0.0030552379 | P17: 0.46634754 | Q17: 0.46634754
B18: 12 Lerdo | C18: 163313 | D18: 8.9113033 | E18: 3.5645213 | F18: 8.4571975 | G18: 3.8057389 | H18: 8.6708944 | I18: 1.105539 | J18: 0.11798297 | K18: 0.19796524 | L18: 0.0044542178 | M18: 8.4802535 | N18: 1.8839064 | O18: -0.0030552379 | P18: 8.4802535 | Q18: 8.4802535
... B45: 39 Nuevo Ideal | C45: 27981 | D45: 1.5268054 | E45: 0.61072218 | F45: 1.517697 | G45: 0.68296364 | H45: 1.5219833 | I45: 0.19405287 | J45: 0.67216105 | K45: 1.1278282 | L45: 0.025376134 | M45: 1.5131148 | N45: 1.8839064 | O45: -0.0030552379 | P45: 1.5131148 | Q45: 1.5131148
B46: SUMAS | C46: 1832650 | D46: 100 | E46: 40 | F46: 100 | G46: 45 | H46: 100 | I46: 12.75 | J46: 59.597824 | K46: 100 | L46: 2.25 | M46: 100 | N46: 100 | P46: 100 | Q46: 100
B48: CEFA(n-1)= Coeficiente de efectivo del fondo acumulado del ejercicio anterior por el que se efectúa el cálculo
B49: Pi= Número de habitantes del Municipio "i" (Conteo poblacional INEGI 2020)
B50: Pt= Número de habitantes del Estado
B51: CEFA= Coeficiente de efectivo del fondo acumulado del ejercicio por el que se efectúa el cálculo
B52: CEFA= Coeficiente de efectivo del fondo acumulado del ejercicio por el que se efectúa el cálculo de municipios que celebren convenio del Impuesto Predial
B53: CEFA icn= Coeficiente de efectivo del fondo acumulado que corresponde al Municipio ic qie haya celebrado convenio con el estado en el ejercicio el el que se efectúa el cálculo

Sheet FONDO GENERAL PUBLICAR
A2: GOBIERNO DEL ESTADO DE DURANGO
A3: SECRETARÍA DE FINANZAS Y DE ADMINISTRACIÓN
A4: SUBSECRETARÍA DE INGRESOS
A5: FACTORES DE DISTRIBUCIÓN Y CÁLCULO DEL MONTO CORRESPONDIENTE AL FONDO GENERAL DE PARTICIPACIONES MUNICIPALES PARA EL EJERCICIO FISCAL DEL AÑO 2023 ESTIMADO
B7: CE1 | C7: A | D7: CE2 | E7: B | F7: CE3 | G7: C | H7: PI | I7: CE4 | J7: D
D8: COEFICIENTE | F8: COEFICIENTE
B9: COEFICIENTE | D9: FONDO | F9: EFECTIVO | I9: COEFICIENTE
B10: NÚMERO DE | D10: ACUMULADO | F10: FONDO ACUM | H10: PROPORCIÓN | I10: DE LA PROPORCIÓN
B11: HABITANTES | C11: FACTOR 1 | D11: EJ. ANTERIOR | E11: FACTOR 2 | F11: DEL EJERCICIO | G11: FACTOR 3 | H11: INVERSA | I11: INVERSA | J11: FACTOR 4
A12: MUNICIPIO | B12: (FACTOR 1) | C12: 0.4 | D12: (FACTOR 2) | E12: 0.45 | F12: (FACTOR 3) | G12: 0.1275 | H12: DEL SUBTOTAL | I12: (FACTOR 4) | J12: 0.0225 | K12: TOTAL
A13: 01 Canatlán | B13: 1.7163124 | C13: 16439660 | D13: 1.7239725 | E13: 18577161 | F13: 1.7203678 | G13: 5252523 | H13: 2.4832786e-06 | I13: 0.99777248 | J13: 537589 | K13: 40806933
A14: 02 Canelas | B14: 0.23577879 | C14: 2258402 | D14: 0.45793019 | E14: 4934558 | F14: 0.35338836 | G14: 1078944 | H14: 1.2089115e-05 | I14: 4.8573634 | J14: 2617096 | K14: 10889000
A15: 03 Coneto de Comonfort | B15: 0.2228467 | C15: 2134532 | D15: 0.45153285 | E15: 4865622 | F15: 0.34391585 | G15: 1050023 | H15: 1.2422087e-05 | I15: 4.9911503 | J15: 2689179 | K15: 10739356
A16: 04 Cuencame | B16: 1.9073473 | C16: 18269483 | D16: 1.8905427 | E16: 20372086 | F16: 1.8984508 | G16: 5796235 | H16: 2.2503362e-06 | I16: 0.90417707 | J16: 487161 | K16: 44924965
A17: 05 Durango | B17: 37.579298 | C17: 359952450 | D17: 35.70362 | E17: 384734601 | F17: 36.586292 | G17: 111703058 | H17: 1.1676921e-07 | I17: 0.046917454 | J17: 25277 | K17: 856415386
A18: 06 Simón Bolivar | B18: 0.54773143 | C18: 5246433 | D18: 0.66330089 | E18: 7147589 | F18: 0.60891525 | G18: 1859103 | H18: 7.0160053e-06 | I18: 2.8190059 | J18: 1518850 | K18: 15771975
A19: 07 Gómez Palacio | B19: 20.339399 | C19: 194820474 | D19: 19.202955 | E19: 206926952 | F19: 19.737752 | G19: 60262114 | H19: 2.1644575e-07 | I19: 0.086967129 | J19: 46857 | K19: 462056397
A20: 08 Guadalupe Victoria | B20: 2.0022918 | C20: 19178906 | D20: 1.9562477 | E20: 21080108 | F20: 1.9779155 | G20: 6038852 | H20: 2.1599268e-06 | I20: 0.86785087 | J20: 467589 | K20: 46765455
A21: 09 Guanaceví | B21: 0.53850981 | C21: 5158104 | D21: 0.65509225 | E21: 7059134 | F21: 0.6002299 | G21: 1832586 | H21: 7.1175269e-06 | I21: 2.8597969 | J21: 1540828 | K21: 15590652
A22: 10 Hidalgo | B22: 0.20969634 | C22: 2008572 | D22: 0.44445585 | E22: 4789362 | F22: 0.33398083 | G22: 1019690 | H22: 1.279161e-05 | I22: 5.1396234 | J22: 2769174 | K22: 10586798
A23: 11 Inde | B23: 0.25907838 | C23: 2481576 | D23: 0.46938058 | E23: 5057945 | F23: 0.37041481 | G23: 1130928 | H23: 1.1533428e-05 | I23: 4.6340903 | J23: 2496798 | K23: 11167247
A24: 12 Lerdo | B24: 8.9113033 | C24: 85356716 | D24: 8.4571977 | E24: 91132961 | F24: 8.6708944 | G24: 26473452 | H24: 4.9270033e-07 | I24: 0.19796523 | J24: 106662 | K24: 203069791
... A52: SUMAS | B52: 100 | C52: 957847729 | D52: 100 | E52: 1077578699 | F52: 100 | G52: 305313964 | H52: 0.00024888225 | I52: 100 | J52: 53878932 | K52: 2394619324

Sheet FFM PARA PUBLICAR
B1: GOBIERNO DEL ESTADO DE DURANGO
B2: SECRETARIA DE FINANZAS Y DE ADMINISTRACIÓN
B3: SUBSECRETARÍA DE INGRESOS
B4: FACTORES DE DISTRIBUCIÓN Y CÁLCULO DEL MONTO CORRESPONDIENTE AL FONDO DE FOMENTO MUNICIPAL
B5: DE PARTICIPACIONES MUNICIPALES PARA EL EJERCICIO FISCAL DEL AÑO 2023 ESTIMADO
B7: MUNICIPIO
C8: PRIMERA PARTE | H8: TOTAL DE
C9: FOMENTO MUNICIPAL | D9: COEFICIENTE EFECTIVO | F9: COEFICIENTE EFECTIVO | H9: FONDO DE FOMENTO
C10: EJERCICIO 2013 | D10: FONDO ACUMULADO 2023 | E10: INCREMENTO | F10: FONDO ACUMULADO 2023 | G10: INCREMENTO | H10: MUNICIPAL
B11: CANATLAN | C11: 10295256 | D11: 1.7041094 | E11: 3782904 | F11: 1.7041094 | G11: 3456610 | H11: 17534770
B12: CANELAS | C12: 2136790 | D12: 0.45472781 | E12: 1009437 | F12: 0.45472781 | G12: 922368 | H12: 4068595
B13: CONETO DE COMONFORT | C13: 2266169 | D13: 0.44847863 | E13: 995565 | F13: 0.44847863 | G13: 909693 | H13: 4171427
B14: CUENCAME | C14: 10546829 | D14: 1.8760796 | E14: 4164656 | F14: 1.8760796 | G14: 3805434 | H14: 18516919
B15: DURANGO | C15: 150641379 | D15: 35.764156 | E15: 79391829 | F15: 35.764156 | G15: 72543897 | H15: 302577105
B16: SIMON BOLIVAR | C16: 3929526 | D16: 0.65864227 | E16: 1462101 | F16: 0.65864227 | G16: 1335988 | H16: 6727615
B17: GOMEZ PALACIO | C17: 84679479 | D17: 19.29561 | E17: 42833773 | F17: 19.29561 | G17: 39139153 | H17: 166652405
B18: GUADALUPE VICTORIA | C18: 10229210 | D18: 1.952939 | E18: 4335274 | F18: 1.952939 | G18: 3961335 | H18: 18525819
B19: GUANACEVI | C19: 3843861 | D19: 0.65107017 | E19: 1445292 | F19: 0.65107017 | G19: 1320629 | H19: 6609782
B20: HIDALGO | C20: 2244534 | D20: 0.44210777 | E20: 981422 | F20: 0.44210777 | G20: 896770 | H20: 4122726
B21: INDE | C21: 2574169 | D21: 0.46634749 | E21: 1035231 | F21: 0.46634749 | G21: 945938 | H21: 4555338
B22: LERDO | C22: 35115634 | D22: 8.4802536 | E22: 18825073 | F22: 8.4802536 | G22: 17201319 | H22: 71142026
... B50: SUMAS | C50: 467230459 | D50: 100 | E50: 221987144 | F50: 100 | G50: 202839676 | H50: 892057282

Sheet BASE 2013 FFM
D3: FONDO DE FOMENTO MUNICIPAL: PRIMERA PARTE-EJERCICIO 2013
D5: MUNICIPIO | E5: 41275 | F5: 41306 | G5: 41334 | H5: 41365 | I5: 41395 | J5: 41426 | K5: 41456 | L5: 41487 | M5: 41518 | N5: 41548 | O5: 41579 | P5: 41609 | Q5: 1o. AJUSTE 2013 | R5: 2o. AJUSTE 2013 | S5: 3o. AJUSTE 2013 | T5: AJUSTE DEFINITVO 2013 | U5: TOTAL 2013 | V5: BASE MENSUAL | W5: BASE CUATRIMESTRAL
D6: 01 Canatlán | E6: 824140.02 | F6: 912150.24 | G6: 863586.55 | H6: 825909.34 | I6: 842384.78 | J6: 838159.62 | K6: 858096.94 | L6: 850753.01 | M6: 856155.71 | N6: 859990.23 | O6: 787878.77 | P6: 847779.52 | Q6: 18693.878 | R6: 26913.338 | S6: 62001.29 | T6: 20662.909 | U6: 10295256 | V6: 857938 | W6: =+V6*4 -> 3431752
D7: 02 Canelas | E7: 174872.29 | F7: 184704.66 | G7: 184518.79 | H7: 174697.97 | I7: 170365.39 | J7: 177812.92 | K7: 182915.29 | L7: 178235.69 | M7: 179267.21 | N7: 180377.49 | O7: 158563.27 | P7: 175742.02 | Q7: -3244.5219 | R7: 10659.507 | S7: 14311.765 | T7: -7009.605 | U7: 2136790.1 | V7: 178066 | W7: =+V7*4 -> 712264
D8: 03 Coneto de Comonfort | E8: 184500.38 | F8: 196797.09 | G8: 194484.29 | H8: 184168.62 | I8: 181430.35 | J8: 187425.14 | K8: 192643.24 | L8: 188716.16 | M8: 189688.85 | N8: 190979.85 | O8: 169713.08 | P8: 186713.66 | Q8: -1979.2954 | R8: 10417.185 | S8: 14900.82 | T8: -4430.1212 | U8: 2266169.3 | V8: 188847 | W8: =+V8*4 -> 755388
D9: 04 Cuencame | E9: 848229.42 | F9: 930685.31 | G9: 889094.09 | H9: 846921.75 | I9: 857374.62 | J9: 860374.77 | K9: 881724.51 | L9: 873233.6 | M9: 877887.56 | N9: 883048.12 | O9: 805160.81 | P9: 869571.57 | Q9: 9938.427 | R9: 33478.79 | S9: 65674.198 | T9: 14431.008 | U9: 10546829 | V9: 878902 | W9: =+V9*4 -> 3515608
D10: 05 Durango | E10: 12280331 | F10: 13106859 | G10: 12902600 | H10: 12046838 | I10: 11943495 | J10: 12314893 | K10: 12665420 | L10: 12583556 | M10: 12561233 | N10: 12715418 | O10: 11479718 | P10: 12503402 | Q10: -323118.92 | R10: 797832.3 | S10: 1060778.2 | T10: 2125.4071 | U10: 1.5064138e+08 | V10: 12553449 | W10: =+V10*4 -> 50213796
D11: 06 Simón Bolivar | E11: 314482.98 | F11: 346757.44 | G11: 330704.63 | H11: 315814.48 | I11: 321304.64 | J11: 320916.52 | K11: 328716.68 | L11: 325218.02 | M11: 327241.76 | N11: 328439.63 | O11: 299155.8 | P11: 323069.32 | Q11: 7600.8131 | R11: 10810.953 | S11: 23682.076 | T11: 5610.2353 | U11: 3929526 | V11: 327460 | W11: =+V11*4 -> 1309840
D12: 07 Gómez Palacio | E12: 6934821.8 | F12: 7365599.4 | G12: 7262435 | H12: 6756876.5 | I12: 6668375.9 | J12: 6908894.5 | K12: 7109727.4 | L12: 7076000.6 | M12: 7055185.3 | N12: 7162033.8 | O12: 6481599.7 | P12: 7054589.8 | Q12: -267160.91 | R12: 488620.3 | S12: 614238.22 | T12: 7641.9022 | U12: 84679479 | V12: 7056623 | W12: =+V12*4 -> 28226492
D13: 08 Guadalupe Victoria | E13: 826637.61 | F13: 899491.01 | G13: 866076.2 | H13: 820535.36 | I13: 825069.9 | J13: 834681.28 | K13: 856271.04 | L13: 848697.76 | M13: 851696.57 | N13: 858680.83 | O13: 781278.43 | P13: 845611.62 | Q13: -971.23062 | R13: 39044.447 | S13: 66221.9 | T13: 10187.592 | U13: 10229210 | V13: 852434 | W13: =+V13*4 -> 3409736
D14: 09 Guanaceví | E14: 310376.03 | F14: 338486.57 | G14: 324909.29 | H14: 310233.11 | I14: 311567.4 | J14: 314695.83 | K14: 322612.8 | L14: 317891.46 | M14: 320285.45 | N14: 322381.06 | O14: 292442.52 | P14: 317171.35 | Q14: 1903.8494 | R14: 13041.042 | S14: 23921.673 | T14: 1941.6949 | U14: 3843861.1 | V14: 320322 | W14: =+V14*4 -> 1281288
D15: 10 Hidalgo | E15: 182780.36 | F15: 194878.97 | G15: 192659.6 | H15: 182871.82 | I15: 179972.47 | J15: 186073.27 | K15: 191221.61 | L15: 186788.14 | M15: 187988.39 | N15: 189086.78 | O15: 167551.1 | P15: 184653.31 | Q15: -1531.3241 | R15: 10049.09 | S15: 14641.26 | T15: -5151.155 | U15: 2244533.7 | V15: 187044 | W15: =+V15*4 -> 748176
D16: 11 Inde | E16: 207202.4 | F16: 225110.56 | G16: 218605.58 | H16: 208927.77 | I16: 209557.1 | J16: 212632.62 | K16: 218091.72 | L16: 213417.61 | M16: 215194.71 | N16: 215687.16 | O16: 192923.52 | P16: 210911.02 | Q16: 4053.2786 | R16: 8271.5401 | S16: 15714.251 | T16: -2131.5838 | U16: 2574169.3 | V16: 214514 | W16: =+V16*4 -> 858056
D17: 12 Lerdo | E17: 2883730.9 | F17: 3046135.5 | G17: 3020710.9 | H17: 2794118.7 | I17: 2747639.5 | J17: 2862134 | K17: 2947691.8 | L17: 2940984 | M17: 2925437.4 | N17: 2975503.1 | O17: 2692560.4 | P17: 2932155.6 | Q17: -137906.67 | R17: 220858.24 | S17: 262344.63 | T17: 1536.084 | U17: 35115634 | V17: 2926303 | W17: =+V17*4 -> 11705212
... D44: 39 Nuevo Ideal | E44: 677252.03 | F44: 746802.79 | G44: 710728.16 | H44: 679252.82 | I44: 690480.27 | J44: 689623.03 | K44: 706308.24 | L44: 698935.07 | M44: 703441.95 | N44: 706375.7 | O44: 644324.64 | P44: 695325.02 | Q44: 14247.51 | R44: 23401.048 | S44: 51158.246 | T44: 12737.749 | U44: 8450394.3 | V44: 704200 | W44: =+V44*4 -> 2816800
E45: 37972647 | F45: 40823338 | G45: 39842240 | H45: 37440065 | I45: 37301619 | J45: 38188758 | K45: 39236472 | L45: 38914812 | M45: 38942505 | N45: 39353529 | O45: 35613430 | P45: 38711452 | Q45: -628408 | R45: 2195751 | S45: 3181451 | T45: 140798 | U45: 4.6723046e+08 | V45: 38935872 | W45: =SUM(W6:W44) -> 155743488
D48: FONDO DE FOMENTO MUNICIPAL: PRIMERA PARTE-EJERCICIO 2013-PARTE 1
D50: MUNICIPIO | E50: 41275 | F50: 41306 | G50: 41334 | H50: 41365 | I50: 41395 | J50: 41426 | K50: 41456 | L50: 41487 | M50: 41518 | N50: 41548
D51: =+D6 -> 01 Canatlán | E51: =+E6 -> 824140.02 | F51: =+F6 -> 912150.24 | G51: =+G6 -> 863586.55 | H51: =+H6 -> 825909.34 | I51: =+I6 -> 842384.78 | J51: =+J6 -> 838159.62 | K51: =+K6 -> 858096.94 | ... N51: =+N6 -> 859990.23
D52: =+D7 -> 02 Canelas | E52: =+E7 -> 174872.29 | F52: =+F7 -> 184704.66 | G52: =+G7 -> 184518.79 | H52: =+H7 -> 174697.97 | I52: =+I7 -> 170365.39 | J52: =+J7 -> 177812.92 | K52: =+K7 -> 182915.29 | ... N52: =+N7 -> 180377.49
D53: =+D8 -> 03 Coneto de Comonfort | E53: =+E8 -> 184500.38 | F53: =+F8 -> 196797.09 | G53: =+G8 -> 194484.29 | H53: =+H8 -> 184168.62 | I53: =+I8 -> 181430.35 | J53: =+J8 -> 187425.14 | K53: =+K8 -> 192643.24 | ... N53: =+N8 -> 190979.85
D54: =+D9 -> 04 Cuencame | E54: =+E9 -> 848229.42 | F54: =+F9 -> 930685.31 | G54: =+G9 -> 889094.09 | H54: =+H9 -> 846921.75 | I54: =+I9 -> 857374.62 | J54: =+J9 -> 860374.77 | K54: =+K9 -> 881724.51 | ... N54: =+N9 -> 883048.12
D55: =+D10 -> 05 Durango | E55: =+E10 -> 12280331 | F55: =+F10 -> 13106859 | G55: =+G10 -> 12902600 | H55: =+H10 -> 12046838 | I55: =+I10 -> 11943495 | J55: =+J10 -> 12314893 | K55: =+K10 -> 12665420 | ... N55: =+N10 -> 12715418
D56: =+D11 -> 06 Simón Bolivar | E56: =+E11 -> 314482.98 | F56: =+F11 -> 346757.44 | G56: =+G11 -> 330704.63 | H56: =+H11 -> 315814.48 | I56: =+I11 -> 321304.64 | J56: =+J11 -> 320916.52 | K56: =+K11 -> 328716.68 | ... N56: =+N11 -> 328439.63
D57: =+D12 -> 07 Gómez Palacio | E57: =+E12 -> 6934821.8 | F57: =+F12 -> 7365599.4 | G57: =+G12 -> 7262435 | H57: =+H12 -> 6756876.5 | I57: =+I12 -> 6668375.9 | J57: =+J12 -> 6908894.5 | K57: =+K12 -> 7109727.4 | ... N57: =+N12 -> 7162033.8
D58: =+D13 -> 08 Guadalupe Victoria | E58: =+E13 -> 826637.61 | F58: =+F13 -> 899491.01 | G58: =+G13 -> 866076.2 | H58: =+H13 -> 820535.36 | I58: =+I13 -> 825069.9 | J58: =+J13 -> 834681.28 | K58: =+K13 -> 856271.04 | ... N58: =+N13 -> 858680.83
D59: =+D14 -> 09 Guanaceví | E59: =+E14 -> 310376.03 | F59: =+F14 -> 338486.57 | G59: =+G14 -> 324909.29 | H59: =+H14 -> 310233.11 | I59: =+I14 -> 311567.4 | J59: =+J14 -> 314695.83 | K59: =+K14 -> 322612.8 | ... N59: =+N14 -> 322381.06
D60: =+D15 -> 10 Hidalgo | E60: =+E15 -> 182780.36 | F60: =+F15 -> 194878.97 | G60: =+G15 -> 192659.6 | H60: =+H15 -> 182871.82 | I60: =+I15 -> 179972.47 | J60: =+J15 -> 186073.27 | K60: =+K15 -> 191221.61 | ... N60: =+N15 -> 189086.78
D61: =+D16 -> 11 Inde | E61: =+E16 -> 207202.4 | F61: =+F16 -> 225110.56 | G61: =+G16 -> 218605.58 | H61: =+H16 -> 208927.77 | I61: =+I16 -> 209557.1 | J61: =+J16 -> 212632.62 | K61: =+K16 -> 218091.72 | ... N61: =+N16 -> 215687.16
D62: =+D17 -> 12 Lerdo | E62: =+E17 -> 2883730.9 | F62: =+F17 -> 3046135.5 | G62: =+G17 -> 3020710.9 | H62: =+H17 -> 2794118.7 | I62: =+I17 -> 2747639.5 | J62: =+J17 -> 2862134 | K62: =+K17 -> 2947691.8 | ... N62: =+N17 -> 2975503.1
... D89: =+D44 -> 39 Nuevo Ideal | E89: =+E44 -> 677252.03 | F89: =+F44 -> 746802.79 | G89: =+G44 -> 710728.16 | H89: =+H44 -> 679252.82 | I89: =+I44 -> 690480.27 | J89: =+J44 -> 689623.03 | K89: =+K44 -> 706308.24 | ... N89: =+N44 -> 706375.7
D90: Total | E90: =SUM(E51:E89) -> 37972647 | F90: =SUM(F51:F89) -> 40823338 | G90: =SUM(G51:G89) -> 39842240 | H90: =SUM(H51:H89) -> 37440065 | I90: =SUM(I51:I89) -> 37301619 | J90: =SUM(J51:J89) -> 38188758 | K90: =SUM(K51:K89) -> 39236472 | L90: =SUM(L51:L89) -> 38914812 | ... N90: =SUM(N51:N89) -> 39353529
D93: FONDO DE FOMENTO MUNICIPAL: PRIMERA PARTE-EJERCICIO 2013-PARTE 2
D95: MUNICIPIO | E95: 41579 | F95: 41609 | G95: 1o. AJUSTE 2013 | H95: 2o. AJUSTE 2013 | I95: 3o. AJUSTE 2013 | J95: AJUSTE DEFINITVO 2013 | K95: TOTAL 2013 | L95: BASE MENSUAL | M95: BASE CUATRIMESTRAL
D96: =+D51 -> 01 Canatlán | E96: 787878.77 | F96: 847779.52 | G96: 18693.878 | H96: 26913.338 | I96: 62001.29 | J96: 20662.909 | K96: 10295256 | L96: 857938 | M96: 3431752
D97: =+D52 -> 02 Canelas | E97: 158563.27 | F97: 175742.02 | G97: -3244.5219 | H97: 10659.507 | I97: 14311.765 | J97: -7009.605 | K97: 2136790.1 | L97: 178066 | M97: 712264
D98: =+D53 -> 03 Coneto de Comonfort | E98: 169713.08 | F98: 186713.66 | G98: -1979.2954 | H98: 10417.185 | I98: 14900.82 | J98: -4430.1212 | K98: 2266169.3 | L98: 188847 | M98: 755388
D99: =+D54 -> 04 Cuencame | E99: 805160.81 | F99: 869571.57 | G99: 9938.427 | H99: 33478.79 | I99: 65674.198 | J99: 14431.008 | K99: 10546829 | L99: 878902 | M99: 3515608
D100: =+D55 -> 05 Durango | E100: 11479718 | F100: 12503402 | G100: -323118.92 | H100: 797832.3 | I100: 1060778.2 | J100: 2125.4071 | K100: 1.5064138e+08 | L100: 12553449 | M100: 50213796
D101: =+D56 -> 06 Simón Bolivar | E101: 299155.8 | F101: 323069.32 | G101: 7600.8131 | H101: 10810.953 | I101: 23682.076 | J101: 5610.2353 | K101: 3929526 | L101: 327460 | M101: 1309840
...

Sheet IEPS PP
A2: GOBIERNO DEL ESTADO DE DURANGO
A3: SECRETARÍA DE FINANZAS Y DE ADMINISTRACIÓN
A4: SUBSECRETARÍA DE INGRESOS
A5: FACTORES DE DISTRIBUCIÓN Y CÁLCULO DEL MONTO CORRESPONDIENTE AL IMPUESTO ESPECIAL SOBRE PRODUCCIÓN Y SERVICIO DE PARTICIPACIONES MUNICIPALES PARA EL EJERCICIO FISCAL DEL AÑO 2023 ESTIMADO
B7: CE1 | C7: A | D7: CE2 | E7: B | F7: CE3 | G7: C | H7: PI | I7: CE4 | J7: D
D8: COEFICIENTE | F8: COEFICIENTE
B9: COEFICIENTE | D9: FONDO | F9: EFECTIVO | I9: COEFICIENTE
B10: NÚMERO DE | D10: ACUMULADO | F10: FONDO ACUM | H10: PROPORCIÓN | I10: DE LA PROPORCIÓN
B11: HABITANTES | C11: FACTOR 1 | D11: EJ. ANTERIOR | E11: FACTOR 2 | F11: DEL EJERCICIO | G11: FACTOR 3 | H11: INVERSA | I11: INVERSA | J11: FACTOR 4
A12: MUNICIPIO | B12: (FACTOR 1) | C12: 0.4 | D12: (FACTOR 2) | E12: 0.45 | F12: (FACTOR 3) | G12: 0.1275 | H12: DEL SUBTOTAL | I12: (FACTOR 4) | J12: 0.0225 | K12: TOTAL
A13: 01 Canatlán | B13: 1.7163124 | C13: 406078 | D13: 1.7239725 | E13: 458877 | F13: 1.720367 | G13: 129743 | H13: 0.00010053303 | I13: 0.99777256 | J13: 13279 | K13: 1007977
A14: 02 Canelas | B14: 0.23577879 | C14: 55785 | D14: 0.45793019 | E14: 121889 | F14: 0.35338772 | G14: 26651 | H14: 0.00048941637 | I14: 4.8573712 | J14: 64645 | K14: 268970
A15: 03 Coneto de Comonfort | B15: 0.2228467 | C15: 52725 | D15: 0.45153285 | E15: 120186 | F15: 0.34391427 | G15: 25937 | H15: 0.00050289668 | I15: 4.9911609 | J15: 66426 | K15: 265274
A16: 04 Cuencame | B16: 1.9073473 | C16: 451277 | D16: 1.8905427 | E16: 503214 | F16: 1.8984511 | G16: 143174 | H16: 9.1102477e-05 | I16: 0.90417602 | J16: 12033 | K16: 1109698
A17: 05 Durango | B17: 37.579298 | C17: 8891236 | D17: 35.70362 | E17: 9503383 | F17: 36.58629 | G17: 2759193 | H17: 4.7272804e-06 | I17: 0.046917424 | J17: 622 | K17: 21154436
A18: 06 Simón Bolivar | B18: 0.54773143 | C18: 129593 | D18: 0.66330089 | E18: 176554 | F18: 0.60891628 | G18: 45922 | H18: 0.00028403523 | I18: 2.8189996 | J18: 37517 | K18: 389586
A19: 07 Gómez Palacio | B19: 20.339399 | C19: 4812288 | D19: 19.202955 | E19: 5111332 | F19: 19.737753 | G19: 1488543 | H19: 8.7625808e-06 | I19: 0.086967069 | J19: 1157 | K19: 11413320
A20: 08 Guadalupe Victoria | B20: 2.0022918 | C20: 473741 | D20: 1.9562477 | E20: 520703 | F20: 1.9779163 | G20: 149167 | H20: 8.7442321e-05 | I20: 0.86784962 | J20: 11550 | K20: 1155161
A21: 09 Guanaceví | B21: 0.53850981 | C21: 127411 | D21: 0.65509225 | E21: 174369 | F21: 0.60023046 | G21: 45267 | H21: 0.00028814541 | I21: 2.8597924 | J21: 38060 | K21: 385107
A22: 10 Hidalgo | B22: 0.20969634 | C22: 49614 | D22: 0.44445585 | E22: 118303 | F22: 0.33398137 | G22: 25188 | H22: 0.00051785298 | I22: 5.1395995 | J22: 68401 | K22: 261506
A23: 11 Inde | B23: 0.25907838 | C23: 61298 | D23: 0.46938058 | E23: 124937 | F23: 0.37041527 | G23: 27935 | H23: 0.0004669188 | I23: 4.6340868 | J23: 61674 | K23: 275844
A24: 12 Lerdo | B24: 8.9113033 | C24: 2108408 | D24: 8.4571977 | E24: 2251088 | F24: 8.6708937 | G24: 653924 | H24: 1.9946464e-05 | I24: 0.19796514 | J24: 2635 | K24: 5016055
... A52: SUMAS | B52: 100 | C52: 23659932 | D52: 100 | E52: 26617423 | F52: 100 | G52: 7541601 | H52: 0.010075746 | I52: 100 | J52: 1330869 | K52: 59149827

Sheet ISAN PP
A2: GOBIERNO DEL ESTADO DE DURANGO
A3: SECRETARÍA DE FINANZAS Y DE ADMINISTRACIÓN
A4: SUBSECRETARÍA DE INGRESOS
A5: FACTORES DE DISTRIBUCIÓN Y CÁLCULO DEL MONTO CORRESPONDIENTE AL IMPUESTO SOBRE AUTOMÓVILES NUEVOS DE PARTICIPACIONES MUNICIPALES PARA EL EJERCICIO FISCAL DEL AÑO 2023 ESTIMADO
B7: CE1 | C7: A | D7: CE2 | E7: B | F7: CE3 | G7: C | H7: PI | I7: CE4 | J7: D
D8: COEFICIENTE | F8: COEFICIENTE
B9: COEFICIENTE | D9: FONDO | F9: EFECTIVO | I9: COEFICIENTE
B10: NÚMERO DE | D10: ACUMULADO | F10: FONDO ACUM | H10: PROPORCIÓN | I10: DE LA PROPORCIÓN
B11: HABITANTES | C11: FACTOR 1 | D11: EJ. ANTERIOR | E11: FACTOR 2 | F11: DEL EJERCICIO | G11: FACTOR 3 | H11: INVERSA | I11: INVERSA | J11: FACTOR 4
A12: MUNICIPIO | B12: (FACTOR 1) | C12: 0.4 | D12: (FACTOR 2) | E12: 0.45 | F12: (FACTOR 3) | G12: 0.1275 | H12: DEL SUBTOTAL | I12: (FACTOR 4) | J12: 0.0225 | K12: TOTAL
A13: 01 Canatlán | B13: 1.7163124 | C13: 199367 | D13: 1.7239725 | E13: 225289 | F13: 1.7203672 | G13: 63698 | H13: 0.00020476949 | I13: 0.99777292 | J13: 6519 | K13: 494873
A14: 02 Canelas | B14: 0.23577879 | C14: 27388 | D14: 0.45793019 | E14: 59842 | F14: 0.35338634 | G14: 13084 | H14: 0.00099686983 | I14: 4.8574117 | J14: 31738 | K14: 132052
A15: 03 Coneto de Comonfort | B15: 0.2228467 | C15: 25886 | D15: 0.45153285 | E15: 59006 | F15: 0.34391463 | G15: 12734 | H15: 0.0010243173 | I15: 4.991154 | J15: 32612 | K15: 130238
A16: 04 Cuencame | B16: 1.9073473 | C16: 221558 | D16: 1.8905427 | E16: 247056 | F16: 1.8984499 | G16: 70292 | H16: 0.00018556112 | I16: 0.90417698 | J16: 5908 | K16: 544814
A17: 05 Durango | B17: 37.579298 | C17: 4365217 | D17: 35.70362 | E17: 4665755 | F17: 36.58629 | G17: 1354646 | H17: 9.6287e-06 | I17: 0.04691742 | J17: 314 | K17: 10385929
A18: 06 Simón Bolivar | B18: 0.54773143 | C18: 63625 | D18: 0.66330089 | E18: 86680 | F18: 0.60891589 | G18: 22546 | H18: 0.00057853296 | I18: 2.8189967 | J18: 18419 | K18: 191270
A19: 07 Gómez Palacio | B19: 20.339399 | C19: 2362628 | D19: 19.202955 | E19: 2509445 | F19: 19.737751 | G19: 730811 | H19: 1.7847951e-05 | I19: 0.086967069 | J19: 568 | K19: 5603452
A20: 08 Guadalupe Victoria | B20: 2.0022918 | C20: 232587 | D20: 1.9562477 | E20: 255643 | F20: 1.9779183 | G20: 73234 | H20: 0.00017810581 | I20: 0.86784976 | J20: 5671 | K20: 567135
A21: 09 Guanaceví | B21: 0.53850981 | C21: 62553 | D21: 0.65509225 | E21: 85608 | F21: 0.60023012 | G21: 22224 | H21: 0.00058690612 | I21: 2.8597963 | J21: 18686 | K21: 189071
A22: 10 Hidalgo | B22: 0.20969634 | C22: 24358 | D22: 0.44445585 | E22: 58082 | F22: 0.33398108 | G22: 12366 | H22: 0.0010547856 | I22: 5.1396156 | J22: 33582 | K22: 128388
A23: 11 Inde | B23: 0.25907838 | C23: 30095 | D23: 0.46938058 | E23: 61339 | F23: 0.37041759 | G23: 13715 | H23: 0.00095103139 | I23: 4.6340564 | J23: 30279 | K23: 135428
A24: 12 Lerdo | B24: 8.9113033 | C24: 1035138 | D24: 8.4571977 | E24: 1105188 | F24: 8.6708926 | G24: 321049 | H24: 4.0627698e-05 | I24: 0.19796512 | J24: 1294 | K24: 2462669
... A52: SUMAS | B52: 100 | C52: 11616017 | D52: 100 | E52: 13068016 | F52: 100 | G52: 3702602 | H52: 0.020522655 | I52: 100 | J52: 653406 | K52: 29040038

Sheet FONDO ISAN PP
A2: GOBIERNO DEL ESTADO DE DURANGO
A3: SECRETARÍA DE FINANZAS Y DE ADMINISTRACIÓN
A4: SUBSECRETARÍA DE INGRESOS
A5: FACTORES DE DISTRIBUCIÓN Y CÁLCULO DEL MONTO CORRESPONDIENTE AL FONDO DE COMPENSACIÓN DE IMPUESTO SOBRE AUTOMÓVILES NUEVOS DE PARTICIPACIONES MUNICIPALES PARA EL EJERCICIO FISCAL DEL AÑO 2023 ESTIMADO
B7: CE1 | C7: A | D7: CE2 | E7: B | F7: CE3 | G7: C | H7: PI | I7: CE4 | J7: D
D8: COEFICIENTE | F8: COEFICIENTE
B9: COEFICIENTE | D9: FONDO | F9: EFECTIVO | I9: COEFICIENTE
B10: NÚMERO DE | D10: ACUMULADO | F10: FONDO ACUM | H10: PROPORCIÓN | I10: DE LA PROPORCIÓN
B11: HABITANTES | C11: FACTOR 1 | D11: EJ. ANTERIOR | E11: FACTOR 2 | F11: DEL EJERCICIO | G11: FACTOR 3 | H11: INVERSA | I11: INVERSA | J11: FACTOR 4
A12: MUNICIPIO | B12: (FACTOR 1) | C12: 0.4 | D12: (FACTOR 2) | E12: 0.45 | F12: (FACTOR 3) | G12: 0.1275 | H12: DEL SUBTOTAL | I12: (FACTOR 4) | J12: 0.0225 | K12: TOTAL
A13: 01 Canatlán | B13: 1.7163124 | C13: 33451 | D13: 1.7239725 | E13: 37800 | F13: 1.7203646 | G13: 10688 | H13: 0.0012204201 | I13: 0.99776933 | J13: 1094 | K13: 83033
A14: 02 Canelas | B14: 0.23577879 | C14: 4595 | D14: 0.45793019 | E14: 10041 | F14: 0.35338812 | G14: 2195 | H14: 0.0059414176 | I14: 4.8574785 | J14: 5325 | K14: 22156
A15: 03 Coneto de Comonfort | B15: 0.2228467 | C15: 4343 | D15: 0.45153285 | E15: 9900 | F15: 0.34389908 | G15: 2136 | H15: 0.0061053788 | I15: 4.991527 | J15: 5472 | K15: 21851
A16: 04 Cuencame | B16: 1.9073473 | C16: 37174 | D16: 1.8905427 | E16: 41453 | F16: 1.8984591 | G16: 11794 | H16: 0.0011059378 | I16: 0.90417293 | J16: 991 | K16: 91412
A17: 05 Durango | B17: 37.579298 | C17: 732420 | D17: 35.70362 | E17: 782846 | F17: 36.586294 | G17: 227290 | H17: 5.7386965e-05 | I17: 0.046917414 | J17: 57 | K17: 1742613
A18: 06 Simón Bolivar | B18: 0.54773143 | C18: 10675 | D18: 0.66330089 | E18: 14544 | F18: 0.60891602 | G18: 3783 | H18: 0.0034480381 | I18: 2.8189856 | J18: 3090 | K18: 32092
A19: 07 Gómez Palacio | B19: 20.339399 | C19: 396415 | D19: 19.202955 | E19: 421049 | F19: 19.737774 | G19: 122620 | H19: 0.00010637347 | I19: 0.086966931 | J19: 95 | K19: 940179
A20: 08 Guadalupe Victoria | B20: 2.0022918 | C20: 39025 | D20: 1.9562477 | E20: 42893 | F20: 1.9779207 | G20: 12288 | H20: 0.0010615035 | I20: 0.86784516 | J20: 951 | K20: 95157
A21: 09 Guanaceví | B21: 0.53850981 | C21: 10496 | D21: 0.65509225 | E21: 14364 | F21: 0.60024792 | G21: 3729 | H21: 0.0034978488 | I21: 2.859709 | J21: 3135 | K21: 31724
A22: 10 Hidalgo | B22: 0.20969634 | C22: 4087 | D22: 0.44445585 | E22: 9745 | F22: 0.33397543 | G22: 2075 | H22: 0.0062865405 | I22: 5.1396379 | J22: 5635 | K22: 21542
A23: 11 Inde | B23: 0.25907838 | C23: 5049 | D23: 0.46938058 | E23: 10292 | F23: 0.37041043 | G23: 2301 | H23: 0.0056682916 | I23: 4.634181 | J23: 5081 | K23: 22723
A24: 12 Lerdo | B24: 8.9113033 | C24: 173681 | D24: 8.4571977 | E24: 185435 | F24: 8.6709024 | G24: 53867 | H24: 0.00024214072 | I24: 0.1979651 | J24: 217 | K24: 413200
... A52: SUMAS | B52: 100 | C52: 1948998 | D52: 100 | E52: 2192624 | F52: 100 | G52: 621241 | H52: 0.12231485 | I52: 100 | J52: 109636 | K52: 4872499

Sheet TENENCIA PP
A1: GOBIERNO DEL ESTADO DE DURANGO
A2: SECRETARIA DE FINANZAS Y DE ADMINISTRACIÓN
A3: SUBSECRETARÍA DE INGRESOS
A4: FACTORES DE DISTRIBUCIÓN Y CÁCULO DEL MONTO CORRESPONDIENTE AL IMPUESTO FEDERAL SOBRE TENENCIA O USO DE VEHÍCULOS (EJERCICIOS ANTERIORES) DE PARTICIPACIONES MUNICIPALES PARA EL EJERCICIO FISCAL DEL AÑO 2023 ESTIMADO
B8: CE1
B9: COEFICIENTE | C9: COEFICIENTE | D9: PARTICIPACIÓN
A10: MUNICIPIO | B10: TENENCIA | C10: EFECTIVO FONDO
B11: RECAUDACIÓN DIC21-NOV22 | C11: ACUMULADO 2023 | D11: FACTOR 1 | E11: FACTOR 2
B12: (FACTOR 1) | C12: (FACTOR 2) | D12: 0.4 | E12: 0.6 | F12: TOTAL
A13: CANATLAN | B13: 0 | C13: 1.7041094 | D13: 0 | E13: 0 | F13: 0
A14: CANELAS | B14: 0 | C14: 0.45472781 | D14: 0 | E14: 0 | F14: 0
A15: CONETO DE COMONFORT | B15: 0 | C15: 0.44847863 | D15: 0 | E15: 0 | F15: 0
A16: CUENCAME | B16: 0 | C16: 1.8760796 | D16: 0 | E16: 0 | F16: 0
A17: DURANGO | B17: 0 | C17: 35.764156 | D17: 0 | E17: 0 | F17: 0
A18: SIMON BOLIVAR | B18: 0 | C18: 0.65864227 | D18: 0 | E18: 0 | F18: 0
A19: GOMEZ PALACIO | B19: 0 | C19: 19.29561 | D19: 0 | E19: 0 | F19: 0
A20: GUADALUPE VICTORIA | B20: 0 | C20: 1.952939 | D20: 0 | E20: 0 | F20: 0
A21: GUANACEVI | B21: 0 | C21: 0.65107017 | D21: 0 | E21: 0 | F21: 0
A22: HIDALGO | B22: 0 | C22: 0.44210777 | D22: 0 | E22: 0 | F22: 0
A23: INDE | B23: 0 | C23: 0.46634749 | D23: 0 | E23: 0 | F23: 0
A24: LERDO | B24: 0 | C24: 8.4802536 | D24: 0 | E24: 0 | F24: 0
... A52: SUMAS | B52: 0 | C52: 100 | D52: 0 | E52: 0 | F52: 0

Sheet FONDO FISCALIZACION PP
A2: GOBIERNO DEL ESTADO DE DURANGO
A3: SECRETARÍA DE FINANZAS Y DE ADMINISTRACIÓN
A4: GOBIERNO DEL ESTADO DE DURANGO
A5: FACTORES DE DISTRIBUCIÓN Y CÁLCULO DEL MONTO CORRESPONDIENTE AL FONDO DE FISCALIZACIÓN Y RECAUDACIÓN DE PARTICIPACIONES MUNICIPALES PARA EL EJERCICIO FISCAL DEL AÑO 2023 ESTIMADO
B7: CE1 | C7: A | D7: CE2 | E7: B | F7: CE3 | G7: C | H7: PI | I7: CE4 | J7: D
D8: COEFICIENTE | F8: COEFICIENTE
B9: COEFICIENTE | D9: FONDO | F9: EFECTIVO | I9: COEFICIENTE
B10: NÚMERO DE | D10: ACUMULADO | F10: FONDO ACUM | H10: PROPORCIÓN | I10: DE LA PROPORCIÓN
B11: HABITANTES | C11: FACTOR 1 | D11: EJ. ANTERIOR | E11: FACTOR 2 | F11: DEL EJERCICIO | G11: FACTOR 3 | H11: INVERSA | I11: INVERSA | J11: FACTOR 4
A12: MUNICIPIO | B12: (FACTOR 1) | C12: 0.4 | D12: (FACTOR 2) | E12: 0.45 | F12: (FACTOR 3) | G12: 0.1275 | H12: DEL SUBTOTAL | I12: (FACTOR 4) | J12: 0.0225 | K12: TOTAL
A13: 01 Canatlán | B13: 1.7163124 | C13: 828283 | D13: 1.7239725 | E13: 935977 | F13: 1.7203673 | G13: 264639 | H13: 4.9287816e-05 | I13: 0.99777303 | J13: 27085 | K13: 2055984
A14: 02 Canelas | B14: 0.23577879 | C14: 113786 | D14: 0.45793019 | E14: 248619 | F14: 0.3533888 | G14: 54361 | H14: 0.0002399428 | I14: 4.8573557 | J14: 131858 | K14: 548624
A15: 03 Coneto de Comonfort | B15: 0.2228467 | C15: 107545 | D15: 0.45153285 | E15: 245146 | F15: 0.34391647 | G15: 52904 | H15: 0.00024655136 | I15: 4.9911382 | J15: 135489 | K15: 541084
A16: 04 Cuencame | B16: 1.9073473 | C16: 920476 | D16: 1.8905427 | E16: 1026411 | F16: 1.8984508 | G16: 292033 | H16: 4.4664392e-05 | I16: 0.90417732 | J16: 24545 | K16: 2263465
A17: 05 Durango | B17: 37.579298 | C17: 18135567 | D17: 35.70362 | E17: 19384171 | F17: 36.586292 | G17: 5627961 | H17: 2.3176207e-06 | I17: 0.046917466 | J17: 1271 | K17: 43148970
A18: 06 Simón Bolivar | B18: 0.54773143 | C18: 264332 | D18: 0.66330089 | E18: 360119 | F18: 0.60891541 | G18: 93668 | H18: 0.00013925269 | I18: 2.8190045 | J18: 76525 | K18: 794644
A19: 07 Gómez Palacio | B19: 20.339399 | C19: 9815684 | D19: 19.202955 | E19: 10425648 | F19: 19.737752 | G19: 3036200 | H19: 4.2959881e-06 | I19: 0.086967153 | J19: 2361 | K19: 23279893
A20: 08 Guadalupe Victoria | B20: 2.0022918 | C20: 966295 | D20: 1.9562477 | E20: 1062084 | F20: 1.9779154 | G20: 304257 | H20: 4.2869955e-05 | I20: 0.86785109 | J20: 23559 | K20: 2356195
A21: 09 Guanaceví | B21: 0.53850981 | C21: 259882 | D21: 0.65509225 | E21: 355662 | F21: 0.60023001 | G21: 92332 | H21: 0.00014126768 | I21: 2.8597956 | J21: 77632 | K21: 785508
A22: 10 Hidalgo | B22: 0.20969634 | C22: 101198 | D22: 0.44445585 | E22: 241303 | F22: 0.33397999 | G22: 51375 | H22: 0.00025388701 | I22: 5.1396396 | J22: 139520 | K22: 533396
A23: 11 Inde | B23: 0.25907838 | C23: 125030 | D23: 0.46938058 | E23: 254836 | F23: 0.37041539 | G23: 56980 | H23: 0.00022891362 | I23: 4.6340832 | J23: 125797 | K23: 562643
A24: 12 Lerdo | B24: 8.9113033 | C24: 4300547 | D24: 8.4571977 | E24: 4591573 | F24: 8.6708948 | G24: 1333818 | H24: 9.779054e-06 | I24: 0.19796528 | J24: 5374 | K24: 10231312
... A52: SUMAS | B52: 100 | C52: 48259461 | D52: 100 | E52: 54291893 | F52: 100 | G52: 15382705 | H52: 0.0049397823 | I52: 100 | J52: 2714594 | K52: 120648653

Sheet IEPS GASOLINA Y DIESEL pp
B1: GOBIERNO DEL ESTADO DE DURANGO
B2: SECRETARIA DE FINANZAS Y DE ADMINISTRACIÓN
B3: SUBSECRETARÍA DE INGRESOS
B4: FACTORES DE DISTRIBUCIÓN Y CÁLCULO DEL MONTO CORRESPONDIENTE AL IEPS SOBRE VENTA DE DIESEL Y GASOLINA
B5: DE PARTICIPACIONES MUNICIPALES PARA EL EJERCICIO FISCAL DEL AÑO 2023 ESTIMADO
C9: CE1
C10: COEFICIENTE | D10: COEFICIENTE | E10: PARTICIPACIÓN
C11: NÚMERO DE | D11: FONDO ACUMULADO
C12: HABITANTES | D12: DEL EJERCICIO | E12: FACTOR 1 | F12: FACTOR 2
B13: MUNICIPIO | C13: (FACTOR 1) | D13: (FACTOR 2) | E13: 0.7 | F13: 0.3 | G13: TOTAL
B14: CANATLAN | C14: 1.7163124 | D14: 1.7041094 | E14: 834371 | F14: 355045 | G14: 1189416
B15: CANELAS | C15: 0.23577879 | D15: 0.45472781 | E15: 114622 | F15: 94741 | G15: 209363
B16: CONETO DE COMONFORT | C16: 0.2228467 | D16: 0.44847863 | E16: 108335 | F16: 93439 | G16: 201774
B17: CUENCAME | C17: 1.9073473 | D17: 1.8760796 | E17: 927241 | F17: 390874 | G17: 1318115
B18: DURANGO | C18: 37.579298 | D18: 35.764156 | E18: 18268853 | F18: 7451328 | G18: 25720181
B19: SIMON BOLIVAR | C19: 0.54773143 | D19: 0.65864227 | E19: 266275 | F19: 137226 | G19: 403501
B20: GOMEZ PALACIO | C20: 20.339399 | D20: 19.29561 | E20: 9887824 | F20: 4020169 | G20: 13907993
B21: GUADALUPE VICTORIA | C21: 2.0022918 | D21: 1.952939 | E21: 973397 | F21: 406888 | G21: 1380285
B22: GUANACEVI | C22: 0.53850981 | D22: 0.65107017 | E22: 261792 | F22: 135648 | G22: 397440
B23: HIDALGO | C23: 0.20969634 | D23: 0.44210777 | E23: 101942 | F23: 92112 | G23: 194054
B24: INDE | C24: 0.25907838 | D24: 0.46634749 | E24: 125949 | F24: 97162 | G24: 223111
B25: LERDO | C25: 8.9113033 | D25: 8.4802536 | E25: 4332154 | F25: 1766830 | G25: 6098984
... B53: SUMAS | C53: 100 | D53: 100 | E53: 48614143 | F53: 20834631 | G53: 69448774

Sheet ISR PARTICIPABLE PP
A1: GOBIERNO DEL ESTADO DE DURANGO
A2: SECRETARIA DE FINANZAS Y DE ADMINISTRACIÓN
A3: SUBSECRETARÍA DE INGRESOS
A4: ESTIMACIÓN ISR PARTICIPABLE A MUNICIPIOS
A5: PARA EL EJERCICIO FISCAL DEL AÑO 2023
B8: TOTAL ISR PARTICIPABLE
A9: MUNICIPIO | B9: A MUNICIPIOS
A10: CANATLAN | B10: 2433019
A11: CANELAS | B11: 834453
A12: CONETO DE COMONFORT | B12: 32827
A13: CUENCAME | B13: 817475
A14: DURANGO | B14: 100668972
A15: SIMON BOLIVAR | B15: 242332
A16: GOMEZ PALACIO | B16: 58289949
A17: GUADALUPE VICTORIA | B17: 1793897
A18: GUANACEVI | B18: 2002285
A19: HIDALGO | B19: 0
A20: INDE | B20: 0
A21: LERDO | B21: 422939
... A49: SUMAS | B49: 197592549

Sheet ENAJ BI ART 126 LISR PP
A2: GOBIERNO DEL ESTADO DE DURANGO
A3: SECRETARÍA DE FINANZAS Y DE ADMINISTRACIÓN
A4: GOBIERNO DEL ESTADO DE DURANGO
A5: FACTORES DE DISTRIBUCIÓN Y CÁLCULO DEL MONTO CORRESPONDIENTE AL ISR ENAJENACIÓN DE BIENES INMUEBLES ARTÍCULO 126 LEY DEL IMPUESO SOBRE LA RENTA DE PARTICIPACIONES MUNICIPALES PARA EL EJERCICIO FISCAL DEL AÑO 2023 ESTIMADO
B7: CE1 | C7: A | D7: CE2 | E7: B | F7: CE3 | G7: C | H7: PI | I7: CE4 | J7: D
D8: COEFICIENTE | F8: COEFICIENTE
B9: COEFICIENTE | D9: FONDO | F9: EFECTIVO | I9: COEFICIENTE
B10: NÚMERO DE | D10: ACUMULADO | F10: FONDO ACUM | H10: PROPORCIÓN | I10: DE LA PROPORCIÓN
B11: HABITANTES | C11: FACTOR 1 | D11: EJ. ANTERIOR | E11: FACTOR 2 | F11: DEL EJERCICIO | G11: FACTOR 3 | H11: INVERSA | I11: INVERSA | J11: FACTOR 4
A12: MUNICIPIO | B12: (FACTOR 1) | C12: 0.4 | D12: (FACTOR 2) | E12: 0.45 | F12: (FACTOR 3) | G12: 0.1275 | H12: DEL SUBTOTAL | I12: (FACTOR 4) | J12: 0.0225 | K12: TOTAL
A13: 01 Canatlán | B13: 1.7163124 | C13: 31853 | D13: 1.7163124 | E13: 35994 | F13: 1.7203786 | G13: 10177 | H13: 0.0012816569 | I13: 0.99776857 | J13: 1042 | K13: 79066
A14: 02 Canelas | B14: 0.23577879 | C14: 4376 | D14: 0.23577879 | E14: 9561 | F14: 0.35339685 | G14: 2091 | H14: 0.0062390816 | I14: 4.8571185 | J14: 5070 | K14: 21098
A15: 03 Coneto de Comonfort | B15: 0.2228467 | C15: 4136 | D15: 0.2228467 | E15: 9427 | F15: 0.34391343 | G15: 2034 | H15: 0.0064114894 | I15: 4.9913377 | J15: 5211 | K15: 20808
A16: 04 Cuencame | B16: 1.9073473 | C16: 35398 | D16: 1.9073473 | E16: 39472 | F16: 1.8984589 | G16: 11230 | H16: 0.0011614402 | I16: 0.90417996 | J16: 944 | K16: 87044
A17: 05 Durango | B17: 37.579298 | C17: 697423 | D17: 37.579298 | E17: 745440 | F17: 36.586298 | G17: 216429 | H17: 6.0266668e-05 | I17: 0.046917538 | J17: 49 | K17: 1659341
A18: 06 Simón Bolivar | B18: 0.54773143 | C18: 10165 | D18: 0.54773143 | E18: 13849 | F18: 0.6089167 | G18: 3602 | H18: 0.0036210892 | I18: 2.8190142 | J18: 2943 | K18: 30559
A19: 07 Gómez Palacio | B19: 20.339399 | C19: 377473 | D19: 20.339399 | E19: 400930 | F19: 19.737761 | G19: 116760 | H19: 0.0001117115 | I19: 0.086967284 | J19: 91 | K19: 895254
A20: 08 Guadalupe Victoria | B20: 2.0022918 | C20: 37160 | D20: 2.0022918 | E20: 40844 | F20: 1.977927 | G20: 11701 | H20: 0.0011147651 | I20: 0.86784343 | J20: 906 | K20: 90611
A21: 09 Guanaceví | B21: 0.53850981 | C21: 9994 | D21: 0.53850981 | E21: 13677 | F21: 0.60021934 | G21: 3551 | H21: 0.0036734994 | I21: 2.8598154 | J21: 2985 | K21: 30207
A22: 10 Hidalgo | B22: 0.20969634 | C22: 3892 | D22: 0.20969634 | E22: 9280 | F22: 0.33399895 | G22: 1976 | H22: 0.0066015316 | I22: 5.1392854 | J22: 5371 | K22: 20519
A23: 11 Inde | B23: 0.25907838 | C23: 4808 | D23: 0.25907838 | E23: 9800 | F23: 0.37041122 | G23: 2191 | H23: 0.0059527353 | I23: 4.6341982 | J23: 4838 | K23: 21637
A24: 12 Lerdo | B24: 8.9113033 | C24: 165382 | D24: 8.9113033 | E24: 176574 | F24: 8.6708886 | G24: 51293 | H24: 0.00025429181 | I24: 0.19796591 | J24: 207 | K24: 393456
... A52: SUMAS | B52: 100 | C52: 1855871 | D52: 100 | E52: 2087854 | F52: 100 | G52: 591554 | H52: 0.12845233 | I52: 100 | J52: 104397 | K52: 4639676

Sheet VENTA FINAL BA
A2: GOBIERNO DEL ESTADO DE DURANGO
A3: SECRETARIA DE FINANZAS Y DE ADMINISTRACIÓN
A4: SUBSECRETARÍA DE INGRESOS
A5: FACTORES DE DISTRIBUCIÓN Y CÁLCULO DEL MONTO CORRESPONDIENTE AL IMPUESTO A LA VENTA FINAL DE BEBIDAS ALCOHÓLICAS
A6: DE PARTICIPACIONES MUNICIPALES PARA EL EJERCICIO FISCAL DEL AÑO 2023 ESTIMADO
B10: CE1
B11: COEFICIENTE | C11: COEFICIENTE | D11: PARTICIPACIÓN
B12: NÚMERO DE | C12: FONDO ACUMULADO
B13: HABITANTES | C13: DEL EJERCICIO | D13: FACTOR 1 | E13: FACTOR 2
A14: MUNICIPIO | B14: (FACTOR 1) | C14: (FACTOR 2) | D14: 0.7 | E14: 0.3 | F14: TOTAL
A15: CANATLAN | B15: 1.7163124 | C15: 1.7041094 | D15: 19258 | E15: 8195 | F15: 27453
A16: CANELAS | B16: 0.23577879 | C16: 0.45472781 | D16: 2646 | E16: 2187 | F16: 4833
A17: CONETO DE COMONFORT | B17: 0.2228467 | C17: 0.44847863 | D17: 2500 | E17: 2157 | F17: 4657
A18: CUENCAME | B18: 1.9073473 | C18: 1.8760796 | D18: 21401 | E18: 9022 | F18: 30423
A19: DURANGO | B19: 37.579298 | C19: 35.764156 | D19: 421657 | E19: 171977 | F19: 593634
A20: SIMON BOLIVAR | B20: 0.54773143 | C20: 0.65864227 | D20: 6146 | E20: 3167 | F20: 9313
A21: GOMEZ PALACIO | B21: 20.339399 | C21: 19.29561 | D21: 228217 | E21: 92788 | F21: 321005
A22: GUADALUPE VICTORIA | B22: 2.0022918 | C22: 1.952939 | D22: 22467 | E22: 9391 | F22: 31858
A23: GUANACEVI | B23: 0.53850981 | C23: 0.65107017 | D23: 6042 | E23: 3131 | F23: 9173
A24: HIDALGO | B24: 0.20969634 | C24: 0.44210777 | D24: 2353 | E24: 2126 | F24: 4479
A25: INDE | B25: 0.25907838 | C25: 0.46634749 | D25: 2907 | E25: 2243 | F25: 5150
A26: LERDO | B26: 8.9113033 | C26: 8.4802536 | D26: 99989 | E26: 40780 | F26: 140769
... A54: SUMAS | B54: 100 | C54: 100 | D54: 1122047 | E54: 480875 | F54: 1602922

Sheet  RESUMEN 2
A2: GOBIERNO DEL ESTADO DE DURANGO
A3: SECRETARÍA DE FINANZAS Y DE ADMINISTRACIÓN
A4: SUBSECRETARÍA DE INGRESOS
A5: PORCENTAJES Y MONTOS ESTIMADOS DE PARTICIPACIONES FEDERALES CORRESPONDIENTES A LOS MUNICIPIOS PARA EL EJERCICIO FISCAL 2023
A7: MUNICIPIO | B7: Fondo General de Participaciones | D7: Fondo de Fomento Municipal | F7: IEPS bebidas y tabacos | H7: ISAN | J7: Fondo de Compensación ISAN | L7: Venta Final de Bebidas Alcohólicas
B8: Porcentaje | C8: Monto en pesos | D8: Porcentaje | E8: Monto en pesos | F8: Porcentaje | G8: Monto en pesos | H8: Porcentaje | I8: Monto en pesos | J8: Porcentaje | K8: Monto en pesos | L8: Porcentaje | M8: Monto en pesos
A9: 01 Canatlán | B9: =C9/$C$48*100 -> 1.7041094 | C9: ='FONDO GENERAL PUBLICAR'!K13 -> 40806933 | D9: =E9/$E$48*100 -> 1.9656552 | E9: ='FFM PARA PUBLICAR'!H11 -> 17534770 | F9: =G9/$G$48*100 -> 1.7041081 | G9: ='IEPS PP'!K13 -> 1007977 | H9: =I9/$I$48*100 -> 1.7041059 | I9: =+'ISAN PP'!K13 -> 494873 | J9: =K9/$K$48*100 -> 1.7041153 | K9: =+'FONDO ISAN PP'!K13 -> 83033 | L9: =M9/$M$48*100 -> 1.7126847 | M9: =+'VENTA FINAL BA'!F15 -> 27453
A10: 02 Canelas | B10: =C10/$C$48*100 -> 0.45472781 | C10: ='FONDO GENERAL PUBLICAR'!K14 -> 10889000 | D10: =E10/$E$48*100 -> 0.45609123 | E10: ='FFM PARA PUBLICAR'!H12 -> 4068595 | F10: =G10/$G$48*100 -> 0.4547266 | G10: ='IEPS PP'!K14 -> 268970 | H10: =I10/$I$48*100 -> 0.45472392 | I10: =+'ISAN PP'!K14 -> 132052 | J10: =K10/$K$48*100 -> 0.45471533 | K10: =+'FONDO ISAN PP'!K14 -> 22156 | L10: =M10/$M$48*100 -> 0.30151186 | M10: =+'VENTA FINAL BA'!F16 -> 4833
A11: 03 Coneto de Comonfort | B11: =C11/$C$48*100 -> 0.44847863 | C11: ='FONDO GENERAL PUBLICAR'!K15 -> 10739356 | D11: =E11/$E$48*100 -> 0.46761874 | E11: ='FFM PARA PUBLICAR'!H13 -> 4171427 | F11: =G11/$G$48*100 -> 0.44847807 | G11: ='IEPS PP'!K15 -> 265274 | H11: =I11/$I$48*100 -> 0.44847737 | I11: =+'ISAN PP'!K15 -> 130238 | J11: =K11/$K$48*100 -> 0.44845571 | K11: =+'FONDO ISAN PP'!K15 -> 21851 | L11: =M11/$M$48*100 -> 0.29053192 | M11: =+'VENTA FINAL BA'!F17 -> 4657
A12: 04 Cuencame | B12: =C12/$C$48*100 -> 1.8760796 | C12: ='FONDO GENERAL PUBLICAR'!K16 -> 44924965 | D12: =E12/$E$48*100 -> 2.0757545 | E12: ='FFM PARA PUBLICAR'!H14 -> 18516919 | F12: =G12/$G$48*100 -> 1.8760799 | G12: ='IEPS PP'!K16 -> 1109698 | H12: =I12/$I$48*100 -> 1.8760788 | I12: =+'ISAN PP'!K16 -> 544814 | J12: =K12/$K$48*100 -> 1.8760804 | K12: =+'FONDO ISAN PP'!K16 -> 91412 | L12: =M12/$M$48*100 -> 1.8979713 | M12: =+'VENTA FINAL BA'!F18 -> 30423
A13: 05 Durango | B13: =C13/$C$48*100 -> 35.764156 | C13: ='FONDO GENERAL PUBLICAR'!K17 -> 856415386 | D13: =E13/$E$48*100 -> 33.919022 | E13: ='FFM PARA PUBLICAR'!H15 -> 302577105 | F13: =G13/$G$48*100 -> 35.764155 | G13: ='IEPS PP'!K17 -> 21154436 | H13: =I13/$I$48*100 -> 35.764172 | I13: =+'ISAN PP'!K17 -> 10385929 | J13: =K13/$K$48*100 -> 35.764256 | K13: =+'FONDO ISAN PP'!K17 -> 1742613 | L13: =M13/$M$48*100 -> 37.034491 | M13: =+'VENTA FINAL BA'!F19 -> 593634
A14: 06 Simón Bolivar | B14: =C14/$C$48*100 -> 0.65864227 | C14: ='FONDO GENERAL PUBLICAR'!K18 -> 15771975 | D14: =E14/$E$48*100 -> 0.7541685 | E14: ='FFM PARA PUBLICAR'!H16 -> 6727615 | F14: =G14/$G$48*100 -> 0.65864267 | G14: ='IEPS PP'!K18 -> 389586 | H14: =I14/$I$48*100 -> 0.65864239 | I14: =+'ISAN PP'!K18 -> 191270 | J14: =K14/$K$48*100 -> 0.65863533 | K14: =+'FONDO ISAN PP'!K18 -> 32092 | L14: =M14/$M$48*100 -> 0.58100145 | M14: =+'VENTA FINAL BA'!F20 -> 9313
A15: 07 Gómez Palacio | B15: =C15/$C$48*100 -> 19.29561 | C15: ='FONDO GENERAL PUBLICAR'!K19 -> 462056397 | D15: =E15/$E$48*100 -> 18.681805 | E15: ='FFM PARA PUBLICAR'!H17 -> 166652405 | F15: =G15/$G$48*100 -> 19.29561 | G15: ='IEPS PP'!K19 -> 11413320 | H15: =I15/$I$48*100 -> 19.295608 | I15: =+'ISAN PP'!K19 -> 5603452 | J15: =K15/$K$48*100 -> 19.295622 | K15: =+'FONDO ISAN PP'!K19 -> 940179 | L15: =M15/$M$48*100 -> 20.02624 | M15: =+'VENTA FINAL BA'!F21 -> 321005
A16: 08 Guadalupe Victoria | B16: =C16/$C$48*100 -> 1.952939 | C16: ='FONDO GENERAL PUBLICAR'!K20 -> 46765455 | D16: =E16/$E$48*100 -> 2.0767522 | E16: ='FFM PARA PUBLICAR'!H18 -> 18525819 | F16: =G16/$G$48*100 -> 1.9529406 | G16: ='IEPS PP'!K20 -> 1155161 | H16: =I16/$I$48*100 -> 1.9529417 | I16: =+'ISAN PP'!K20 -> 567135 | J16: =K16/$K$48*100 -> 1.9529404 | K16: =+'FONDO ISAN PP'!K20 -> 95157 | L16: =M16/$M$48*100 -> 1.9874953 | M16: =+'VENTA FINAL BA'!F22 -> 31858
A17: 09 Guanaceví | B17: =C17/$C$48*100 -> 0.65107017 | C17: ='FONDO GENERAL PUBLICAR'!K21 -> 15590652 | D17: =E17/$E$48*100 -> 0.74095937 | E17: ='FFM PARA PUBLICAR'!H19 -> 6609782 | F17: =G17/$G$48*100 -> 0.65107037 | G17: ='IEPS PP'!K21 -> 385107 | H17: =I17/$I$48*100 -> 0.65107008 | I17: =+'ISAN PP'!K21 -> 189071 | J17: =K17/$K$48*100 -> 0.65108274 | K17: =+'FONDO ISAN PP'!K21 -> 31724 | L17: =M17/$M$48*100 -> 0.5722674 | M17: =+'VENTA FINAL BA'!F23 -> 9173
A18: 10 Hidalgo | B18: =C18/$C$48*100 -> 0.44210777 | C18: ='FONDO GENERAL PUBLICAR'!K22 -> 10586798 | D18: =E18/$E$48*100 -> 0.46215933 | E18: ='FFM PARA PUBLICAR'!H20 -> 4122726 | F18: =G18/$G$48*100 -> 0.4421078 | G18: ='IEPS PP'!K22 -> 261506 | H18: =I18/$I$48*100 -> 0.44210686 | I18: =+'ISAN PP'!K22 -> 128388 | J18: =K18/$K$48*100 -> 0.442114 | K18: =+'FONDO ISAN PP'!K22 -> 21542 | L18: =M18/$M$48*100 -> 0.2794272 | M18: =+'VENTA FINAL BA'!F24 -> 4479
A19: 11 Inde | B19: =C19/$C$48*100 -> 0.46634749 | C19: ='FONDO GENERAL PUBLICAR'!K23 -> 11167247 | D19: =E19/$E$48*100 -> 0.51065532 | E19: ='FFM PARA PUBLICAR'!H21 -> 4555338 | F19: =G19/$G$48*100 -> 0.46634794 | G19: ='IEPS PP'!K23 -> 275844 | H19: =I19/$I$48*100 -> 0.46634925 | I19: =+'ISAN PP'!K23 -> 135428 | J19: =K19/$K$48*100 -> 0.46635207 | K19: =+'FONDO ISAN PP'!K23 -> 22723 | L19: =M19/$M$48*100 -> 0.32128825 | M19: =+'VENTA FINAL BA'!F25 -> 5150
A20: 12 Lerdo | B20: =C20/$C$48*100 -> 8.4802536 | C20: ='FONDO GENERAL PUBLICAR'!K24 -> 203069791 | D20: =E20/$E$48*100 -> 7.9750513 | E20: ='FFM PARA PUBLICAR'!H22 -> 71142026 | F20: =G20/$G$48*100 -> 8.480253 | G20: ='IEPS PP'!K24 -> 5016055 | H20: =I20/$I$48*100 -> 8.4802541 | I20: =+'ISAN PP'!K24 -> 2462669 | J20: =K20/$K$48*100 -> 8.480248 | K20: =+'FONDO ISAN PP'!K24 -> 413200 | L20: =M20/$M$48*100 -> 8.7820243 | M20: =+'VENTA FINAL BA'!F26 -> 140769
... A47: 39 Nuevo Ideal | B47: =C47/$C$48*100 -> 1.5131149 | C47: ='FONDO GENERAL PUBLICAR'!K51 -> 36233342 | D47: =E47/$E$48*100 -> 1.6678875 | E47: ='FFM PARA PUBLICAR'!H49 -> 14878512 | F47: =G47/$G$48*100 -> 1.5131152 | G47: ='IEPS PP'!K51 -> 895005 | H47: =I47/$I$48*100 -> 1.5131144 | I47: =+'ISAN PP'!K51 -> 439409 | J47: =K47/$K$48*100 -> 1.5130839 | K47: =+'FONDO ISAN PP'!K51 -> 73725 | L47: =M47/$M$48*100 -> 1.5226567 | M47: =+'VENTA FINAL BA'!F53 -> 24407
A48: SUMAS | B48: =SUM(B9:B47) -> 100 | C48: =SUM(C9:C47) -> 2394619324 | D48: =SUM(D9:D47) -> 100 | E48: =SUM(E9:E47) -> 892057282 | F48: =SUM(F9:F47) -> 100 | G48: =SUM(G9:G47) -> 59149827 | H48: =SUM(H9:H47) -> 100 | I48: =SUM(I9:I47) -> 29040038 | ... M48: =SUM(M9:M47) -> 1602922
A50: GOBIERNO DEL ESTADO DE DURANGO
A51: SECRETARÍA DE FINANZAS Y DE ADMINISTRACIÓN
A52: SUBSECRETARÍA DE INGRESOS
A53: PORCENTAJES Y MONTOS ESTIMADOS DE PARTICIPACIONES FEDERALES CORRESPONDIENTES A LOS MUNICIPIOS PARA EL EJERCICIO FISCAL 2023
A55: MUNICIPIO | B55: Tenencia | D55: Fondo de Fiscalización y Recaudación | F55: IEPS Gasolina y Diesel | H55: ISR participable art. 3-B LCF | J55: ISR enaj bienes inm art. 126 LISR | L55: Total
B56: Porcentaje | C56: Monto en pesos | D56: Porcentaje | E56: Monto en pesos | F56: Porcentaje | G56: Monto en pesos | H56: Porcentaje | I56: Monto en pesos | J56: Porcentaje | K56: Monto en pesos | L56: Porcentaje | M56: Monto en pesos
A57: 01 Canatlán | B57: 0 | C57: 0 | D57: 1.7041085 | E57: 2055984 | F57: 1.7126523 | G57: 1189416 | H57: 1.2313313 | I57: 2433019 | J57: 1.7041276 | K57: 79066 | L57: 1.7413419 | M57: 65712524
A58: 02 Canelas | B58: 0 | C58: 0 | D58: 0.45472866 | E58: 548624 | F58: 0.30146393 | G58: 209363 | H58: 0.42230995 | I58: 834453 | J58: 0.45473003 | K58: 21098 | L58: 0.45046697 | M58: 16999144
A59: 03 Coneto de Comonfort | B59: 0 | C59: 0 | D59: 0.44847911 | E59: 541084 | F59: 0.29053645 | G59: 201774 | H59: 0.016613481 | I59: 32827 | J59: 0.44847959 | K59: 20808 | L59: 0.42741653 | M59: 16129296
A60: 04 Cuencame | B60: 0 | C60: 0 | D60: 1.8760798 | E60: 2263465 | F60: 1.8979673 | G60: 1318115 | H60: 0.41371752 | I60: 817475 | J60: 1.8760793 | K60: 87044 | L60: 1.8471223 | M60: 69704330
A61: 05 Durango | B61: 0 | C61: 0 | D61: 35.764154 | E61: 43148970 | F61: 37.034752 | G61: 25720181 | H61: 50.947757 | I61: 100668972 | J61: 35.764157 | K61: 1659341 | L61: 36.146934 | M61: 1364066567
A62: 06 Simón Bolivar | B62: 0 | C62: 0 | D62: 0.65864308 | E62: 794644 | F62: 0.58100522 | G62: 403501 | H62: 0.12264228 | I62: 242332 | J62: 0.65864513 | K62: 30559 | L62: 0.65169654 | M62: 24592887
A63: 07 Gómez Palacio | B63: 0 | C63: 0 | D63: 19.29561 | E63: 23279893 | F63: 20.026261 | G63: 13907993 | H63: 29.500074 | I63: 58289949 | J63: 19.295615 | K63: 895254 | L63: 19.698584 | M63: 743359847
A64: 08 Guadalupe Victoria | B64: 0 | C64: 0 | D64: 1.9529393 | E64: 2356195 | F64: 1.9874865 | G64: 1380285 | H64: 0.90787685 | I64: 1793897 | J64: 1.9529596 | K64: 90611 | L64: 1.9281374 | M64: 72761573
A65: 09 Guanaceví | B65: 0 | C65: 0 | D65: 0.65107068 | E65: 785508 | F65: 0.57227792 | G65: 397440 | H65: 1.0133403 | I65: 2002285 | J65: 0.65105839 | K65: 30207 | L65: 0.68980431 | M65: 26030949
A66: 10 Hidalgo | B66: 0 | C66: 0 | D66: 0.44210688 | E66: 533396 | F66: 0.27942034 | G66: 194054 | H66: 0 | I66: 0 | J66: 0.44225071 | K66: 20519 | L66: 0.42063565 | M66: 15873408
A67: 11 Inde | B67: 0 | C67: 0 | D67: 0.46634835 | E67: 562643 | F67: 0.32125981 | G67: 223111 | H67: 0 | I67: 0 | J67: 0.46634722 | K67: 21637 | L67: 0.44967138 | M67: 16969121
A68: 12 Lerdo | B68: 0 | C68: 0 | D68: 8.4802538 | E68: 10231312 | F68: 8.7819894 | G68: 6098984 | H68: 0.21404603 | I68: 422939 | J68: 8.4802473 | K68: 393456 | L68: 7.9336847 | M68: 299391201
... A96: SUMAS | B96: 0 | C96: 0 | D96: 100 | E96: 120648653 | F96: 100 | G96: 69448774 | H96: 100 | I96: 197592549 | J96: 100 | K96: 4639676 | L96: 100 | M96: 3773671544

Sheet FONDO ESTATAL PP
A2: GOBIERNO DEL ESTADO DE DURANGO
A3: SECRETARIA DE FINANZAS Y DE ADMINISTRACIÓN
A4: SUBSECRETARÍA DE INGRESOS
A5: FACTORES DE DISTRIBUCIÓN DE PARTICIPACIONES A MUNICIPIOS DEL
A6: FONDO ESTATAL DE PARTICIPACIONES POR EL EJERCICIO FISCAL 2023 ESTIMADO
B8: =+C51 -> 27224808 | C8: (PESOS)
B10: COEFICIENTE | C10: TOTAL FONDO
A11: MUNICIPIO | B11: PONDERADO | C11: ESTATAL
A12: CANATLAN | B12: 1.1405986 | C12: 310526
A13: CANELAS | B13: 0.066860973 | C13: 18203
A14: CONETO DE COMONFORT | B14: 0.027969733 | C14: 7615
A15: CUENCAME | B15: 0.71849784 | C15: 195610
A16: DURANGO | B16: 65.931002 | C16: 17949591
A17: SIMON BOLIVAR | B17: 0.046837569 | C17: 12751
A18: GOMEZ PALACIO | B18: 14.791811 | C18: 4027042
A19: GUADALUPE VICTORIA | B19: 1.0472218 | C19: 285104
A20: GUANACEVI | B20: 0.16479235 | C20: 44864
A21: HIDALGO | B21: 0.11342098 | C21: 30879
A22: INDE | B22: 0.10413351 | C22: 28350
A23: LERDO | B23: 6.2021239 | C23: 1688516
... A51: SUMAS | B51: 100 | C51: 27224808

Sheet FORTAMUN
B5: GOBIERNO DEL ESTADO DE DURANGO
B6: SECRETARÍA DE FINANZAS Y DE ADMINISTRACIÓN
B7: SUBSECRETARÍA DE INGRESOS
B8: FACTORES DE DISTRIBUCIÓN Y Y CÁLCULO DEL MONTO CORRESPONDIENTE AL FONDO DE
B9: APORTACIÓN PARA EL FORTALECIMIENTO DE LOS MUNICIPIOS PARA EL EJERCICIO FISCAL DEL
B10: AÑO 2013 ESTIMADO
C12: NÚMERO | D12: FACTOR
B13: MUNICIPIO | C13: DE HABITANTES | D13: PROPORCIÓN
C14: INEGI 2010 | D14: NÚMERO DE HABITANTES | E14: IMPORTE
B15: CANATLÁN | C15: 31401 | D15: 1.9229804 | E15: 15034236
B16: CANELAS | C16: 4122 | D16: 0.25242906 | E16: 1973539
B17: CONETO DE COMONFORT | C17: 4530 | D17: 0.27741476 | E17: 2168882
B18: CUENCAMÉ | C18: 33664 | D18: 2.0615653 | E18: 16117717
B19: DURANGO | C19: 582267 | D19: 35.657718 | E19: 278778946
B20: SIMÓN BOLÍVAR | C20: 10629 | D20: 0.65091424 | E20: 5088974
B21: GÓMEZ PALACIO | C21: 327985 | D21: 20.085625 | E21: 157033308
B22: GUADALUPE VICTORIA | C22: 34052 | D22: 2.0853262 | E22: 16303484
B23: GUANACEVÍ | C23: 10149 | D23: 0.6215193 | E23: 4859158
B24: HIDALGO | C24: 4265 | D24: 0.26118631 | E24: 2042005
B25: INDÉ | C25: 5280 | D25: 0.32334436 | E25: 2527969
B26: LERDO | C26: 141043 | D26: 8.6373975 | E26: 67528847
... B54: SUMAS | C54: 1632934 | D54: 100 | E54: 781819373

Sheet FAISM
C4: GOBIERNO DEL ESTADO DE DURANGO
C5: SECRETARÍA DE FINANZAS Y DE ADMINISTRACIÓN
C6: SUBSECRETARÍA DE INGRESOS
C7: FACTORES DE DISTRIBUCIÓN Y CÁLCULO CORRESPONDIENTE AL FONDO DE APORTACIÓN
C8: PARA LA INFRAESTRUCTURA SOCIAL MUNICIPAL
C9: PARA EL EJERCICIO FISCAL DEL AÑO 2013 ESTIMADO
C13: MUNICIPIO | D13: PORCENTAJE DE ASIGNACION | E13: IMPORTE
C15: CANATLÁN | D15: 2.7062157 | E15: 18399389
C16: CANELAS | D16: 0.90910587 | E16: 6180953.1
C17: CONETO DE COMONFORT | D17: 0.68076023 | E17: 4628445.6
C18: CUENCAMÉ | D18: 2.6099901 | E18: 17745157
C19: DURANGO | D19: 16.485343 | E19: 1.120828e+08
C20: SIMÓN BOLÍVAR | D20: 1.4451624 | E20: 9825567.6
C21: GÓMEZ PALACIO | D21: 11.84694 | E21: 80546596
C22: GUADALUPE VICTORIA | D22: 2.645286 | E22: 17985132
C23: GUANACEVÍ | D23: 1.2460057 | E23: 8471513.5
C24: HIDALGO | D24: 0.44276122 | E24: 3010305.5
C25: INDÉ | D25: 0.44575315 | E25: 3030647.4
C26: LERDO | D26: 4.5367648 | E26: 30845176
... C54: SUMAS | D54: 100 | E54: 679893654

Sheet Hoja2
A1: PARTICIPACIÓN | B1: IMPORTE ANUAL
A2: Fondo General | B2: 14165956
A3: Fondo de Fomento Municipal | B3: 6969829
A4: Impuesto Especial sobre Producción y Servicio | B4: 269653
A5: Impuesto sobre Automóviles Nuevos | B5: 62087
A6: Fondo de Compensación de Impuesto sobre Automóviles Nuevos | B6: 38872
A7: Impuesto Federal sobre Tenencia o uso de Vehículos (de ejercicios anteriores) | B7: 17077
A8: Fondo de fiscalización | B8: 734844
A9: IEPS sobre venta de gasolina y diesel | B9: 657953
A10: Fondo Estatal | B10: 121209
A12: TOTAL | B12: =SUM(B2:B10) -> 23037480

Sheet CALENDARIO
A1: MES | B1: IEPS sobre Venta de Diésel y Gasolina e ISR Participable a Municipios | C1: Resto de Participaciones a Municipios
A2: Enero | B2: Cinco días hábiles siguientes a aquel en que el Estado las reciba de la Federación | C2: 01 de Febrero de 2023
A3: Febrero | C3: 03 de Marzo de 2023
A4: Marzo | C4: 03 de Abril de 2023
A5: Abril | C5: 02 de Mayo de 2023
A6: Mayo | C6: 01 de Junio de 2023
A7: Junio | C7: 03 de Julio de 2023
A8: Julio | C8: 01 de Agosto de 2023
A9: Agosto | C9: 01 de Septiembre de 2023
A10: Septiembre | C10: 02 de Octubre de 2023
A11: Octubre | C11: 03 de Noviembre de 2023
A12: Noviembre | C12: 01 de Diciembre de 2023
A13: Diciembre | C13: 29 de Diciembre de 2023
